Workbook

Sheet COVER
B6: BILL OF QUANTITIES
A8: =BoQ!A2 -> Project: New Stair to 1F LAB
A10: Client: IGMH
A15: May 2025

Sheet SUM
A1: BILL OF QUANTITIES
A3: SUMMARY
A4: NO | B4: BILL | E4: AMOUNT (MVR)
A5: 1 | B5: =BoQ!B6 -> Preliminaries | E5: =BoQ!G39 -> 0
A6: 2 | B6: =BoQ!B42 -> Ground Works | E6: =BoQ!G70 -> 0
A7: 3 | B7: =BoQ!B73 -> Concrete Works | E7: =BoQ!G135 -> 0
A8: 4 | B8: =BoQ!B138 -> Finishing Works | E8: =BoQ!G160 -> 0
A9: 5 | B9: =BoQ!B162 -> Additions and Omissions | E9: =BoQ!G172 -> 0
B10: SUB TOTAL | E10: =SUM(E5:E9) -> 0
B11: GST 8% | E11: =E10*0.08 -> 0
B12: GRAND TOTAL | E12: =E10+E11 -> 0

Sheet BoQ
A1: BILL OF QUANTITIES
A2: Project: New Stair to 1F LAB
A4: Item | B4: Description | C4: Unit | D4: Qty | E4: Material Rate | F4: Labour Rate | G4: Amount (MVR)
B5: BILL No: 01
B6: Preliminaries
A7: 1.1 | B7: General Notes
A8: 1 | B8: Abbreviations
B9: m - metre
B10: lm-linear metre
B11: nr - numbers
B12: m³ - cubic metre
B13: m² - square metre
B14: l - litre
B15: m - metre
B16: kg - kilogram
B17: incl - including
B18: mm - millimetre
B19: dia - diametre
B20: pts - points
... B22: GI - Galvanised Iron
A24: 1.2 | B24: Site Management Costs
A25: 1 | B25: Allow for all on and off site management costs including costs of foreman and assistants, temporary services, telephone, fax and similar items. | C25: item | D25: 1 | G25: =D25*(E25+F25) -> 0
A27: 1.3 | B27: Safty on Site
A28: 1 | B28: Safety on site:- Providing and maintaining adequate safety measures on site for all workers and all authorized visitors on site and protecting adjoining properties and people against falling objects or other with regard to the construction works. | C28: item | D28: 1 | G28: =D28*(E28+F28) -> 0
A30: 1.4 | B30: TEMPORARY FENCING
A31: 1 | B31: Supply, erect and maintenance of a fence throughout the construction period and hoarding all along the perimeter of the site. | C31: item | D31: 1 | G31: =D31*(E31+F31) -> 0
A33: 1.5 | B33: Sign Board
A34: 1 | B34: Allow for sign board | C34: item | D34: 1 | G34: =D34*(E34+F34) -> 0
B39: BILL No: 01 - Preliminaries | G39: =SUM(G25:G38) -> 0
B40: TOTAL OF BILL No: 01 - Carried over to summary
B41: BILL No: 02
B42: Ground Works
B43: General
B44: (a) Rates shall include for: leveling, grading, trimming, compacting to faces of excavation, keep sides plumb, backfilling, consolidating, additional working space and disposing surplus soil.
A46: 2.1 | B46: Demolition
A47: 1 | B47: Demolition of the existing building components as per the drawing | C47: item | D47: 0 | E47: 0 | F47: 0 | G47: =D47*(E47+F47) -> 0
A49: 2.2 | B49: Excavation
B50: (a) Excavation quantities are measured to the faces of concrete members. Rates shall include for all additional excavation required to place the formwork, back filling, shoring, foundation protection and similar
B51: Excavation to receive:
A52: 1 | B52: Pad footings, 800 x 1500mm | C52: m³ | D52: =1.5*0.8*0.6 -> 0.72 | G52: =D52*(E52+F52) -> 0
...
