Workbook

Sheet COVER
B6: BILL OF QUANTITIES
A8: =BoQ!A2 -> Project: New Stair to 1F LAB
A10: Client: IGMH
A15: May 2025

Sheet SUM
A1: BILL OF QUANTITIES
A3: SUMMARY
A4: NO | B4: BILL | E4: AMOUNT (MVR)
A5: 1 | B5: =BoQ!B6 -> Preliminaries | E5: =BoQ!G39 -> 0
A6: 2 | B6: =BoQ!B42 -> Ground Works | E6: =BoQ!G70 -> 0
A7: 3 | B7: =BoQ!B73 -> Concrete Works | E7: =BoQ!G135 -> 0
A8: 4 | B8: =BoQ!B138 -> Finishing Works | E8: =BoQ!G160 -> 0
A9: 5 | B9: =BoQ!B162 -> Additions and Omissions | E9: =BoQ!G172 -> 0
B10: SUB TOTAL | E10: =SUM(E5:E9) -> 0
B11: GST 8% | E11: =E10*0.08 -> 0
B12: GRAND TOTAL | E12: =E10+E11 -> 0

Sheet BoQ
A1: BILL OF QUANTITIES
A2: Project: New Stair to 1F LAB
A4: Item | B4: Description | C4: Unit | D4: Qty | E4: Material Rate | F4: Labour Rate | G4: Amount (MVR)
B5: BILL No: 01
B6: Preliminaries
A7: 1.1 | B7: General Notes
A8: 1 | B8: Abbreviations
B9: m - metre
B10: lm-linear metre
B11: nr - numbers
B12: m³ - cubic metre
B13: m² - square metre
B14: l - litre
B15: m - metre
B16: kg - kilogram
B17: incl - including
B18: mm - millimetre
B19: dia - diametre
B20: pts - points
... B22: GI - Galvanised Iron
A24: 1.2 | B24: Site Management Costs
A25: 1 | B25: Allow for all on and off site management costs including costs of foreman and assistants, temporary services, telephone, fax and similar items. | C25: item | D25: 1 | G25: =D25*(E25+F25) -> 0
A27: 1.3 | B27: Safty on Site
A28: 1 | B28: Safety on site:- Providing and maintaining adequate safety measures on site for all workers and all authorized visitors on site and protecting adjoining properties and people against falling objects or other with regard to the construction works. | C28: item | D28: 1 | G28: =D28*(E28+F28) -> 0
A30: 1.4 | B30: TEMPORARY FENCING
A31: 1 | B31: Supply, erect and maintenance of a fence throughout the construction period and hoarding all along the perimeter of the site. | C31: item | D31: 1 | G31: =D31*(E31+F31) -> 0
A33: 1.5 | B33: Sign Board
A34: 1 | B34: Allow for sign board | C34: item | D34: 1 | G34: =D34*(E34+F34) -> 0
B39: BILL No: 01 - Preliminaries | G39: =SUM(G25:G38) -> 0
B40: TOTAL OF BILL No: 01 - Carried over to summary
B41: BILL No: 02
B42: Ground Works
B43: General
B44: (a) Rates shall include for: leveling, grading, trimming, compacting to faces of excavation, keep sides plumb, backfilling, consolidating, additional working space and disposing surplus soil.
A46: 2.1 | B46: Demolition
A47: 1 | B47: Demolition of the existing building components as per the drawing | C47: item | D47: 0 | E47: 0 | F47: 0 | G47: =D47*(E47+F47) -> 0
A49: 2.2 | B49: Excavation
B50: (a) Excavation quantities are measured to the faces of concrete members. Rates shall include for all additional excavation required to place the formwork, back filling, shoring, foundation protection and similar
B51: Excavation to receive:
A52: 1 | B52: Pad footings, 800 x 1500mm | C52: m³ | D52: =1.5*0.8*0.6 -> 0.72 | G52: =D52*(E52+F52) -> 0
A53: 2 | B53: Stair footing , 600 x 1300mm | C53: m³ | D53: =1.3*0.6*0.6 -> 0.468 | G53: =D53*(E53+F53) -> 0
A55: 2.3 | B55: Damp Proof Membrane
B56: (a) Rate shall include for: dressing around and sealing to all penetrations.
B57: Polythene damp proof membrane (500 gauge) laid on the bottom of:
A58: 1 | B58: Pad footings, 800 x 1500mm | C58: m² | D58: 0.72 | G58: =D58*(E58+F58) -> 0
A59: 2 | B59: Stair footing , 600 x 1300mm | C59: m² | D59: 0.47 | G59: =D59*(E59+F59) -> 0
A61: 2.4 | B61: Back Filling
A62: 1 | B62: Backfilling to the excavated area and upto floor finish level. Rate shall include for the leveling of backfilling and achieving the appropriate level of compaction | C62: item | D62: 1 | G62: =D62*(E62+F62) -> 0
A64: 2.6 | B64: Clean-up
A65: 1 | B65: Allow for clean up of completed works and site upon completion | C65: item | D65: 1 | G65: =D65*(E65+F65) -> 0
B70: BILL No: 02 - Ground Works | G70: =SUM(G45:G69) -> 0
B71: TOTAL OF BILL No: 02 - Carried over to summary
B72: BILL No: 03
B73: Concrete Works
B74: General
B75: (a) Rate shall include batching, mixing, compacting, leveling and placing of concrete and curing and removal of any formwork include for provision casting of required items & finishing after removal of formwork and additional concrete required to confirm to structural tolerances and rates shall include supply of all required materials and machineries
B76: (b) Mix ratio for reinforced concrete shall be 1:2:3 (20mm crushed aggregates) and lean concrete shall be 1:2:6 by volume.
B77: (c) Quantity is measured to the edges of concrete foundation members. Rates shall be inclusive for any additional concrete required to place the formwork.
A79: 3.1 | B79: Lean Concrete
B80: 50mm thick lean concrete to bottom of:
A81: 1 | B81: Pad footings, 800 x 1500mm | C81: m³ | D81: =1.5*0.8*0.05 -> 0.06 | G81: =D81*(E81+F81) -> 0
A82: 2 | B82: Stair footing , 600 x 1300mm | C82: m³ | D82: =0.6*1.3*0.05 -> 0.039 | G82: =D82*(E82+F82) -> 0
A84: 3.2 | B84: Reinforced Insitu Concrete
A85: 1 | B85: Pad footings, 800 x 1500mm | C85: m³ | D85: 0.36 | G85: =D85*(E85+F85) -> 0
A86: 2 | B86: Stair footing , 600 x 1300mm | C86: m³ | D86: 0.16 | G86: =D86*(E86+F86) -> 0
A87: 3 | B87: Column | C87: m³ | D87: =0.04+0.17 -> 0.21 | G87: =D87*(E87+F87) -> 0
A88: 4 | B88: Beam | C88: m³ | D88: 0.11 | G88: =D88*(E88+F88) -> 0
A89: 5 | B89: Stair Case | C89: m³ | D89: 2.17 | G89: =D89*(E89+F89) -> 0
A91: 3.3 | B91: Formwork
B92: General
B93: (a) Exposed surface shall have fair finish while remaining may have rough finish, and must be secured in a highly precise manner guaranteeing straight and smooth concrete edges
B94: (b) Timber used for unexposed concrete surface shall sound dressed and seasoned good quality common timber while for exposed concrete surfaces dressed and matched boards uniformly thick and not more than 250mm wide.
B95: (c) Plywood used for forms shall be of commercial standard, moisture resistane conrete form plywood not less than 6mm thick and atleast 12mm thick.
B96: (d) Rates shall include for; all necessary boarding,supports, erecting, framing, temporary cambering cutting, perforations for reinforcing bars, bolts,straps,ties, hangers, pipes and removal of formwork.
A98: 1 | B98: Pad footings, 800 x 1500mm | C98: m² | D98: 1.38 | G98: =D98*(E98+F98) -> 0
A99: 2 | B99: Stair footing , 600 x 1300mm | C99: m² | D99: 0.76 | G99: =D99*(E99+F99) -> 0
A100: 3 | B100: Column | C100: m² | D100: 2.28 | G100: =D100*(E100+F100) -> 0
A101: 4 | B101: Beam | C101: m² | D101: 3.84 | G101: =D101*(E101+F101) -> 0
A102: 5 | B102: Stair Case | C102: m² | D102: 10.02 | G102: =D102*(E102+F102) -> 0
A104: 3.4 | B104: Reinforcement
B105: General
B106: (a) All reinforcement bars except 6 mm dia bars shall be of deformed high strength bars. 6 mm bar shall be round mild steel bars.
B107: (b) Binding wire shall be of 1.6 mm or 1.4 mm soft iron wire.
B108: (c) Rates shall include for distribution steel, cleaning, fabrication, placing, the provision for all necessary temporary fixings, and supports including chairs and binding wire, laps and wastage.
A110: 1 | B110: Pad footings, 800 x 1500mm
B111: 16mm dia deformed bars | C111: Mtr | D111: 38 | G111: =D111*(E111+F111) -> 0
A112: 2 | B112: Stair footing , 600 x 1300mm
B113: 10mm dia deformed bars | C113: Mtr | D113: 15.6 | G113: =D113*(E113+F113) -> 0
A114: 3 | B114: Column
B115: 12mm dia deformed bars | C115: Mtr | D115: =9+19.37 -> 28.37 | G115: =D115*(E115+F115) -> 0
B116: 6mm dia deformed bars | C116: Mtr | D116: =3+13.21 -> 16.21 | G116: =D116*(E116+F116) -> 0
A117: 4 | B117: Beams
B118: 12mm dia deformed bars | C118: Mtr | D118: 24 | G118: =D118*(E118+F118) -> 0
B119: 6mm dia deformed bars | C119: Mtr | D119: 12.98 | G119: =D119*(E119+F119) -> 0
A120: 5 | B120: Stair Case
B121: 10mm dia deformed bars | C121: Mtr | D121: 252 | G121: =D121*(E121+F121) -> 0
A123: 3.5 | B123: Water Proofing
A124: 1 | B124: Apply Rubberised bitumin water proofing paint, 2 coats to all exposed concrete below ground level. | C124: m² | D124: =D98+D99 -> 2.14 | G124: =D124*(E124+F124) -> 0
A125: 2 | B125: Add an approved concrete admixture to all concrete | C125: l | D125: 22.8 | G125: =D125*(E125+F125) -> 0
A127: 3.6 | B127: Other Concrete Works
...
