Workbook

Sheet COVER
B4: =SUMMARY!B2 -> DEMOLITION WORKS
B5: =SUMMARY!B3 -> Henveiru GP - Old Blood Bank
B6: BILLS OF QUANTITIES

Sheet SUMMARY
B2: =BOQ!A1 -> DEMOLITION WORKS
B3: =BOQ!A2 -> Henveiru GP - Old Blood Bank
B4: SUMMARY OF BILLS OF QUANTITIES
B7: BILL No. | C7: DESCRIPTION | D7: QUOTATION No. | E7: DATE | F7: AMOUNT
B8: 1 | C8: =BOQ!A63 -> TOTAL OF BILL NO. 01 (PRELIMINARIES) | E8: 43033 | F8: =BOQ!G63 -> 0
B9: 2 | C9: =BOQ!A80 -> TOTAL OF BILL NO. 02 (DEMOLITION WORKS) | F9: =BOQ!G80 -> 0
B10: 12 | C10: =BOQ!A95 -> TOTAL OF BILL NO. 03 (Ommitions)
C12: TOTAL | F12: =SUM(F8:F11) -> 0 | H12: 2276308.5 | I12: =H12*10/100 -> 227630.85
C13: GST 8% | F13: =F12*8/100 -> 0
C14: GRAND TOTAL | F14: =SUM(F12:F13) -> 0

Sheet BOQ
A1: DEMOLITION WORKS
A2: Henveiru GP - Old Blood Bank
A4: Item | B4: Description | C4: Unit | D4: QTY | E4: LABOUR RATE | F4: MATERIAL RATE | G4: TOTAL AMOUNT
A5: 1 | B5: Bill NO: 1
B6: GENERAL & PRELIMINARIES
A8: 1.1 | B8: GENERAL
A9: 1) | B9: Abbreviations
B10: m - metre
B11: nos - numbers
B12: m³ - cubic metre
B13: m² - square metre
B14: m - Linear metre
B15: Kg-Kilogram
B16: t - Tonne
B17: incl - including
B18: mm - millimetre
B19: dia - diameter
B20: L/S -Lump Sum
A22: 1.2 | B22: Notes
A23: 1.2.1 | B23: The contractor should take adquate measures to ensure the works are been carried out safely and would be held laible any nusance or injury to a third party.
B24: On practical completion of project the contractor should at not extra cost thoroughly clean out each room by washing all floors, cleaning glasses, removing paint stains, mortar droppings, and clear site completely of all debris and restore to original conditions, with all services interrupted during construction.
A26: 1.3 | B26: PRELIMINARIES
A28: 1.3.1 | B28: Mobilization and Demobilization
B29: Mobilization and Demobilization of contractors personel, plants, machineries, equipments, materials, contractors facilities and the like. | C29: Item | D29: 1 | G29: =D29*(E29+F29) -> 0
A31: 1.3.2 | B31: Insurances & Bonds
B32: The Contractor shall effect and maintain insurances in the joint names of the Employer and Contractor including subcontractors that may be appointed from time to time in respect of the following:- a. Loss or damage to the Works, or any part thereof, or materials or Plant for incorporation therein. b. Third Party Insurance c. Workman's Compensation Insurance | C32: Item | D32: 1 | G32: =D32*(E32+F32) -> 0
A34: 1.3.3 | B34: Site Management Cost
B35: Allow provision for all on and off site management cost including costs of foreman and assistants, site office, Internet & telephone Facilities and equipments for site office and other Operational costs for site office. | C35: Item | D35: 1 | G35: =D35*(E35+F35) -> 0
A37: 1.3.4 | B37: Site Safety and Protection
B38: Providing and maintaining adequate safety measures on site for all workers and all authorized visitors on site safeguard the works including providing safety equipments, pest control, fire fighting equipments, materials and Plant against damage or theft including all necessary watching and lighting for the security of the Works and the protection of the public, Provide for carefully covering up and protecting the Works and Materials from inclement weather and theft. | C38: Item | D38: 1 | G38: =D38*(E38+F38) -> 0
A40: 1.3.5 | B40: Plants & Machineries
B41: Rate shall include cost of rentals, operation & timely maintenance, fuel, lubricant and the like. | C41: Item | D41: 0 | E41: 0 | F41: 0 | G41: =D41*(E41+F41) -> 0
A43: 1.3.6 | B43: Services and Facilities
B44: Allow Provision for establishment and removal of services and facilities such as temporary water, power supply, food, lodging and the like. | C44: Item | D44: 1 | G44: =D44*(E44+F44) -> 0
A46: 1.3.7 | B46: Temporary Structures
B47: Provide all necessary temporary fencing need to cover full building, hoarding, scaffolding, Safety nets, screens, fans, planked footways, guardrails, gantries, and the like to seal off the site and for the protection of the public and the occupants of any local or statutory authority, law or regulations and to the satisfaction of the Engineer. Provide all necessary lighting to same at night and for removing and making good any damage resulting there from on completion. | C47: Item | D47: 1 | G47: =D47*(E47+F47) -> 0
B48: Temporary Structures need to keep till the project end.
A49: 1.3.8 | B49: As-Built Drawings
B50: Allow for providing As-Built drawings | C50: item | D50: 0 | E50: 0 | F50: 0 | G50: =D50*(E50+F50) -> 0
A52: 1.3.9 | B52: Sign Board
...
