Workbook

Sheet Sheet1
B4: =Sheet2!B2 -> DHARUMAVANTHA HOSPITAL 19TH FLOOR
B5: IGMH HOSPITAL
B7: 46169

Sheet Sheet2
B2: =BOQ!A1 -> DHARUMAVANTHA HOSPITAL 19TH FLOOR
B3: SUMMARY OF BILLS OF QUANTITIES
B6: BILL No. | C6: DESCRIPTION | D6: QUOTATION No. | E6: DATE | F6: AMOUNT
B7: 1 | C7: =BOQ!A52 -> TOTAL OF BILL NO. 01 (PRELIMINARIES) (CARRIED OVER TO THE GENERAL SUMMARY) | E7: 43033 | F7: =BOQ!G52 -> 0
B8: 2 | C8: =BOQ!A62 -> TOTAL OF BILL NO. 02 (Demolition Work) (CARRIED OVER TO THE GENERAL SUMMARY) | F8: =BOQ!G62 -> 0
B9: 3 | C9: =BOQ!A72 -> TOTAL OF BILL NO. 03 (Vertical bed head unit) (CARRIED OVER TO THE GENERAL SUMMARY) | F9: =BOQ!G72 -> 0
B10: 4 | C10: =BOQ!A86 -> TOTAL OF BILL NO. 04 (Door & Windows) (CARRIED OVER TO THE GENERAL SUMMARY) | F10: =BOQ!G86 -> 0
B11: 5 | C11: =BOQ!A101 -> TOTAL OF BILL NO. 05 (Floor & Wall Finishing) (CARRIED OVER TO THE GENERAL SUMMARY) | F11: =BOQ!G101 -> 0
B12: 7 | C12: =BOQ!A114 -> TOTAL OF BILL NO. 06 (Ceiling) (CARRIED OVER TO THE GENERAL SUMMARY) | F12: =BOQ!G114 -> 0
B13: 8 | C13: =BOQ!A131 -> TOTAL OF BILL NO. 07 (Partition & Furniture works) (CARRIED OVER TO THE GENERAL SUMMARY) | F13: =BOQ!G131 -> 0
B14: 9 | C14: =BOQ!A183 -> TOTAL OF BILL NO. 08 (Electrical & Mechnical Works) (CARRIED OVER TO THE GENERAL SUMMARY) | F14: =BOQ!G183 -> 0
B15: 10 | C15: =BOQ!A199 -> TOTAL OF BILL NO. 09(Hydraulics & Drainage) (CARRIED OVER TO THE GENERAL SUMMARY) | F15: =BOQ!G199 -> 0
B16: 11 | C16: =BOQ!A214 -> TOTAL OF BILL NO. 10 (ADDITIONS) (CARRIED OVER TO THE GENERAL SUMMARY) | F16: =BOQ!G214 -> 0
B17: 12 | C17: =BOQ!A230 -> TOTAL OF BILL NO. 11 (OMISSIONS) (CARRIED OVER TO THE GENERAL SUMMARY) | F17: =BOQ!G230 -> 0
C19: TOTAL | F19: =SUM(F7:F18) -> 0 | H19: 2276308.5 | I19: =H19*10/100 -> 227630.85
C20: GST 8% | F20: =F19*8/100 -> 0
C21: GRAND TOTAL | F21: =SUM(F19:F20) -> 0

Sheet BOQ
A1: DHARUMAVANTHA HOSPITAL 19TH FLOOR
A2: (Existing Building Revovation)
A4: Item | B4: Description | C4: Unit | D4: QTY | E4: LABOUR RATE | F4: MATERIAL RATE | G4: TOTAL AMOUNT
A5: 1 | B5: Bill NO: 1
B6: PRELIMINARIES
A8: 1.1 | B8: General Notes
A9: 1) | B9: Abbreviations
B10: m - meter
B11: Nr - numbers
B12: m3 - cubic meter
B13: m2 - square meter
B14: Lm - Linear meter
B15: t - tonnes
B16: md - including
B17: mm - millimeter
B18: dia - diameter
B19: SS - Stainless Steel
B20: GI - Galvanised Iron
A23: 1.2 | B23: Site Management Costs
A24: 1.2.1 | B24: Allow for all on and off site management cost
B25: including costs of foreman and assistants, | C25: item | D25: 1 | G25: =D25*E25+F25 -> 0
B26: temporary services, telephone,fax, hoardings
B27: and similar.
A30: 1.3 | B30: Clean - up
A31: 1.3.1 | B31: Allow for clean - up of completed works and site
B32: upon completion. | C32: item | D32: 1 | G32: =D32*E32+F32 -> 0
B34: GENERAL
B35: (a) Rates shall include for: cleaning out cavities,
B36: forming rebated reveals and pointing and
B37: cleaning down to reveals where necessary;
B38: fractional size blocks, all necessary machine
B39: cutting, cutting or forming chases or edges of
B40: floor slabs, cutting or leaving holes and
B41: openings as recesses for and building in pipes,
B42: conduits, sleeves and similar as required for all
B43: trades; leaving surfaces rough or raking out
B44: joints for plastering and flashings, bedding
B45: frames or plates, building in joists, bearers or
... B48: necessary making good
A52: TOTAL OF BILL NO. 01 (PRELIMINARIES) (CARRIED OVER TO THE GENERAL SUMMARY) | G52: =SUM(G24:G51) -> 0
...
