Workbook

Sheet Sheet1
B4: =Sheet2!B2 -> DHARUMAVANTHA HOSPITAL 19TH FLOOR
B5: IGMH HOSPITAL
B7: 46169

Sheet Sheet2
B2: =BOQ!A1 -> DHARUMAVANTHA HOSPITAL 19TH FLOOR
B3: SUMMARY OF BILLS OF QUANTITIES
B6: BILL No. | C6: DESCRIPTION | D6: QUOTATION No. | E6: DATE | F6: AMOUNT
B7: 1 | C7: =BOQ!A52 -> TOTAL OF BILL NO. 01 (PRELIMINARIES) (CARRIED OVER TO THE GENERAL SUMMARY) | E7: 43033 | F7: =BOQ!G52 -> 0
B8: 2 | C8: =BOQ!A62 -> TOTAL OF BILL NO. 02 (Demolition Work) (CARRIED OVER TO THE GENERAL SUMMARY) | F8: =BOQ!G62 -> 0
B9: 3 | C9: =BOQ!A72 -> TOTAL OF BILL NO. 03 (Vertical bed head unit) (CARRIED OVER TO THE GENERAL SUMMARY) | F9: =BOQ!G72 -> 0
B10: 4 | C10: =BOQ!A86 -> TOTAL OF BILL NO. 04 (Door & Windows) (CARRIED OVER TO THE GENERAL SUMMARY) | F10: =BOQ!G86 -> 0
B11: 5 | C11: =BOQ!A101 -> TOTAL OF BILL NO. 05 (Floor & Wall Finishing) (CARRIED OVER TO THE GENERAL SUMMARY) | F11: =BOQ!G101 -> 0
B12: 7 | C12: =BOQ!A114 -> TOTAL OF BILL NO. 06 (Ceiling) (CARRIED OVER TO THE GENERAL SUMMARY) | F12: =BOQ!G114 -> 0
B13: 8 | C13: =BOQ!A131 -> TOTAL OF BILL NO. 07 (Partition & Furniture works) (CARRIED OVER TO THE GENERAL SUMMARY) | F13: =BOQ!G131 -> 0
B14: 9 | C14: =BOQ!A183 -> TOTAL OF BILL NO. 08 (Electrical & Mechnical Works) (CARRIED OVER TO THE GENERAL SUMMARY) | F14: =BOQ!G183 -> 0
B15: 10 | C15: =BOQ!A199 -> TOTAL OF BILL NO. 09(Hydraulics & Drainage) (CARRIED OVER TO THE GENERAL SUMMARY) | F15: =BOQ!G199 -> 0
B16: 11 | C16: =BOQ!A214 -> TOTAL OF BILL NO. 10 (ADDITIONS) (CARRIED OVER TO THE GENERAL SUMMARY) | F16: =BOQ!G214 -> 0
B17: 12 | C17: =BOQ!A230 -> TOTAL OF BILL NO. 11 (OMISSIONS) (CARRIED OVER TO THE GENERAL SUMMARY) | F17: =BOQ!G230 -> 0
C19: TOTAL | F19: =SUM(F7:F18) -> 0 | H19: 2276308.5 | I19: =H19*10/100 -> 227630.85
C20: GST 8% | F20: =F19*8/100 -> 0
C21: GRAND TOTAL | F21: =SUM(F19:F20) -> 0

Sheet BOQ
A1: DHARUMAVANTHA HOSPITAL 19TH FLOOR
A2: (Existing Building Revovation)
A4: Item | B4: Description | C4: Unit | D4: QTY | E4: LABOUR RATE | F4: MATERIAL RATE | G4: TOTAL AMOUNT
A5: 1 | B5: Bill NO: 1
B6: PRELIMINARIES
A8: 1.1 | B8: General Notes
A9: 1) | B9: Abbreviations
B10: m - meter
B11: Nr - numbers
B12: m3 - cubic meter
B13: m2 - square meter
B14: Lm - Linear meter
B15: t - tonnes
B16: md - including
B17: mm - millimeter
B18: dia - diameter
B19: SS - Stainless Steel
B20: GI - Galvanised Iron
A23: 1.2 | B23: Site Management Costs
A24: 1.2.1 | B24: Allow for all on and off site management cost
B25: including costs of foreman and assistants, | C25: item | D25: 1 | G25: =D25*E25+F25 -> 0
B26: temporary services, telephone,fax, hoardings
B27: and similar.
A30: 1.3 | B30: Clean - up
A31: 1.3.1 | B31: Allow for clean - up of completed works and site
B32: upon completion. | C32: item | D32: 1 | G32: =D32*E32+F32 -> 0
B34: GENERAL
B35: (a) Rates shall include for: cleaning out cavities,
B36: forming rebated reveals and pointing and
B37: cleaning down to reveals where necessary;
B38: fractional size blocks, all necessary machine
B39: cutting, cutting or forming chases or edges of
B40: floor slabs, cutting or leaving holes and
B41: openings as recesses for and building in pipes,
B42: conduits, sleeves and similar as required for all
B43: trades; leaving surfaces rough or raking out
B44: joints for plastering and flashings, bedding
B45: frames or plates, building in joists, bearers or
... B48: necessary making good
A52: TOTAL OF BILL NO. 01 (PRELIMINARIES) (CARRIED OVER TO THE GENERAL SUMMARY) | G52: =SUM(G24:G51) -> 0
B53: Bill No: 02
A54: 2 | B54: Demolition Work
A55: 2.1 | B55: General
A56: a | B56: Demolition of mentined locations and dispatch all debris, clearing and dispose all unwanted materials away from site and prepare site ready for proposed construction.
A57: b | B57: Rate shall include demolishing, dismantling and removing with the minimim damage to the structure, temprary supporting protecting existing works, property against damage, dust and weather and spraying water periodically to reduce the amount of dust
A59: 2.2 | B59: Demolition Work
A60: 2.2.1 | B60: Demolish Wall (includes removal Tiles/Granite, doors,built-in furnitures,Kitchen sets/modifications and etc. | C60: item | D60: 1 | G60: =D60*(E60+F60) -> 0
A62: TOTAL OF BILL NO. 02 (Demolition Work) (CARRIED OVER TO THE GENERAL SUMMARY) | G62: =SUM(G60:G60) -> 0
B63: Bill No: 03
A64: 3 | B64: Vertical bed head unit
A65: 3.1 | B65: General
A66: a | B66: a )Rates shall include for cleaning out cavities, forming rebated reveals and pointing and cleaning down to reveals where necessary; fractional size blocks, all necessary machine cutting, cutting or forming chases or edges of floor slabs.
A67: b | B67: b )Cutting or leaving holes and openings as recesses for and building in pipes, conduits , sleeves and similar as required for all trades; leaving surfaces rough or raking out joints for plastering and flashings, bedding frames or plates, building in joints.
A68: c | B68: Rate shall include all Stud wall framing like Top Track,Bottom Track, Vertical and support Tracks.
A69: d | B69: Rate shall include Cement board/Shera Board,screws, joint tape and insluation
A70: 3.2 | B70: Vertical bed head unit | C70: nos | D70: 3 | G70: =D70*(E70+F70) -> 0
A72: TOTAL OF BILL NO. 03 (Vertical bed head unit) (CARRIED OVER TO THE GENERAL SUMMARY) | G72: =SUM(G70:G71) -> 0
B73: Bill No: 04
A74: 4 | B74: Door & Windows
A75: 4.1 | B75: General
A76: a | B76: Rates shall include for locks, latches, closers, push plates, pull handles, bolts, kick plates, hinges and all door & window hardware.
A77: b | B77: Rates shall include for door frames and window frames, mullions, transoms, trims, glazing, tinting, timber panels, boardings, framing, lining, fastenings and all fixings and installation.
A78: c | B78: All door and window frames and panels shall be as specified in the drawing
A79: d | B79: The contractor shall take delivery and fixing.
A81: 4.2 | B81: Door & Windows
A82: 4.2.1 | B82: D1 | C82: nr | D82: 5 | G82: =D82*(E82+F82) -> 0
A83: 4.2.2 | B83: SD1 | C83: nr | D83: 1 | G83: =D83*(E83+F83) -> 0
A86: TOTAL OF BILL NO. 04 (Door & Windows) (CARRIED OVER TO THE GENERAL SUMMARY) | G86: =SUM(G82:G84) -> 0
B87: Bill No: 05
A88: 5 | B88: Floor & Wall Finishing
A89: 5.1 | B89: General
A90: a | B90: Rates shall include for:motar, fixing, bedding, grouting, and pointing materials; making good around pipes, sanitary fixtures, and similar; cleaning down and polishing.
A91: b | B91: Tiles to be fixed with Tile Adhesive Cement.
A92: c | B92: Rates shall include for mitre joints for projected edjes.
A94: 5.2 | B94: Vertical bed head unit
A95: 5.2.1 | B95: ANTIMICROBIAL WALL PANEL (BIOMAX OR SIMILAR) | C95: m2 | D95: =3.75*3 -> 11.25 | G95: =D95*(E95+F95) -> 0
A98: 5.3 | B98: Wall Painting
A99: 5.4.1 | B99: General paint work | C99: L-SUM | D99: 1 | G99: =D99*(E99+F99) -> 0
A101: TOTAL OF BILL NO. 05 (Floor & Wall Finishing) (CARRIED OVER TO THE GENERAL SUMMARY) | G101: =SUM(G95:G99) -> 0
B102: Bill No: 06
B103: Ceiling
A104: 6.1 | B104: General
A105: a | B105: Internal ceiling areas are of 9mm thick Fiber Plaster Booard fixed on to standard internal hardwood framework and finished with Matte White Emulsion Paint after smooth putty finish.
A106: b | B106: External ceiling areas are of 6mm thick Cement Booard fixed on to standard internal hardwood framework and finished with Matte White Emulsion Paint after smoothing joints and edjes.
A107: c | B107: Box up for conceiling AC pipes to indoor unit height and hotwater pipes 50mm below beam bottom with standard internal hardwood framework and 9mm thick plasterboard, finished with respective emulsion paint on smooth putty surface as per the drawings
A108: d | B108: Rates shall include for removing, replace, framing, fixing and all other works.
A110: 6.2 | B110: Plaster Board Ceiling
A111: 6.2.1 | B111: Minor modifications | C111: L-SUM | D111: 1 | G111: =D111*(E111+F111) -> 0
A114: TOTAL OF BILL NO. 06 (Ceiling) (CARRIED OVER TO THE GENERAL SUMMARY) | G114: =SUM(G111:G112) -> 0
B115: Bill No: 07
B116: Partition & Furniture works
A117: 7.1 | B117: General
A118: a | B118: Rates shall include for: screws, nails and fixing or supporting clips, and all other works to re-install the equipment and cabinet.
A119: b | B119: Rates shall include for: installation of Cabinets, as shown in the detail cabinet drawings.
A120: c | B120: Rates shall include all pipe work, electrical wiring, insulation, re-install the equipment and cabinet.
A121: d | B121: Rates shall include for removing, replace, framing, fixing and all other works.
A123: 7.2 | B123: Furnitures
A124: 7.2.1 | B124: Nurses Counter | C124: nr | D124: 1 | G124: =D124*(E124+F124) -> 0
A125: 7.2.2 | B125: Working Counter | C125: nr | D125: 1 | G125: =D125*(E125+F125) -> 0
A126: 7.2.3 | B126: Hospital grade Curtain with square we design on th top 18', including alumium teack system, curtain size 5500x2300, Materila should be approved by IGMH | C126: nr | D126: 17 | G126: =D126*(E126+F126) -> 0
...
