Workbook

Sheet COVER
B6: BILL OF QUANTITIES
A8: =BOQ!A2 -> Project: IGMH-HDC-GODOWN-DECK WORK
A10: Client: IGMH
A15: JUNE 2025

Sheet SUM
A2: BILL OF QUANTITIES
A3: DATE: | B3: 45838
A5: SUMMARY
A6: NO | B6: BILL | E6: AMOUNT
A7: 1 | B7: =BOQ!B31 -> BILL No: 01 - Preliminaries | E7: =BOQ!G31 -> 0
A8: 2 | B8: =BOQ!B66 -> BILL No: 02- Metal Works | E8: =BOQ!G66 -> 0
A9: 3 | B9: =BOQ!B81 -> BILL No: 03- Deck | E9: =BOQ!G81 -> 0
A10: 4 | B10: =BOQ!B93 -> BILL N0: 04 - Painting | E10: =BOQ!G93 -> 0
A11: 5 | B11: =BOQ!B117 -> BILL No: 5 - Additions and Omissions | E11: =BOQ!G117 -> 0
B13: SUB TOTAL | E13: =SUM(E7:E12) -> 0
B14: GST 8% | E14: =E13*0.08 -> 0
B15: GRAND TOTAL | E15: =E13+E14 -> 0

Sheet BOQ
A1: BILL OF QUANTITIES
A2: Project: IGMH-HDC-GODOWN-DECK WORK
A3: Item | B3: Description | C3: Unit | D3: Qty | E3: Material Rate | F3: Labour Rate | G3: Amount
B4: BILL No: 01
B5: Preliminaries
A6: 1.1 | B6: General Notes
A7: 1 | B7: Abbreviations
B8: m - metre
B9: lm-linear metre
B10: nr - numbers
B11: m³ - cubic metre
B12: m² - square metre
B13: m - metre
B14: kg - kilogram
B15: incl - including
B16: mm - millimetre
B17: dia - diametre
B18: SS - Stainless Steel
B19: GI - Galvanised Iron
A21: 1.2 | B21: Site Management Costs
A22: 1 | B22: Allow for all on and off site management costs including costs of foreman and assistants, temporary services, telephone, fax, hoardings, fences, and similar items. | C22: item | D22: 1 | G22: =D22*(E22+F22) -> 0
A24: 1.3 | B24: Sign Board
A25: 1 | B25: Allow for sign board. | C25: nr | D25: 1 | G25: =D25*(E25+F25) -> 0
A27: 1.4 | B27: Clean-up
A28: 1 | B28: Allow for clean up of completed works and site upon completion | C28: item | D28: 1 | G28: =D28*(E28+F28) -> 0
B31: BILL No: 01 - Preliminaries | G31: =SUM(G22:G30) -> 0
B32: TOTAL OF BILL No: 01 - Carried over to summary
B33: BILL N0:02
B34: Metal Works
A35: 2.1 | B35: General
B36: (a) Rates shall include for: all fabrication work, welding, marking, drilling for bolts including those securing timbers, steel plates, bolts, nuts and any type of washer, riveted work, counter sinking and tapping for bolts or machine screws.
B37: (b) Rate shall include for all fabrication works, welding, polishing, Marking, drilling for bolts, nuts, washers, rivets, sounter sinking and the like.
B38: (c) The Contractor / Supplier shall take On Site measurements before commenting any fabrication works.
B39: (d) Rates shall include for applying an approved quality wood preservators as per manufacturers instructions for all timber structures
B40: (e) All the mentioned works shall be constructed in accordance to the given specifications.
A42: 2.2 | B42: SQAURE HOLLOW SECTION PROFILE COLUMN-SHS100X3MM
A43: 1 | B43: 100x100x3mm thick SHS Column | C43: m | D43: 25 | G43: =D43*(E43+F43) -> 0 | I43: =3.6+6.6+3.6+3.65+5+5+5+5+3.8+3.8+3.8+3.8 -> 52.65
A44: 2 | B44: 200 x 200 x 6mm thick MS base plate | C44: nr | D44: 12 | G44: =D44*(E44+F44) -> 0
A45: 4 | B45: 100 x 50 x 6mm stiffener | C45: nr | D45: =D44*4 -> 48 | G45: =D45*(E45+F45) -> 0
A46: 5 | B46: 10m bolts | C46: nr | D46: 48 | G46: =D46*(E46+F46) -> 0
A47: 6 | B47: Epoxy Anchor grout | C47: item | D47: 1 | G47: =D47*(E47+F47) -> 0
A49: 2.3 | B49: RECTANGULAR HOLLOW SECTION PROFILE BEAM | I49: =(6*12)+3+3 -> 78 | J49: =I49*2 -> 156
A50: 1 | B50: RHS 75X100X3MM Thick beam | C50: m | D50: =7.8+7.8+7.8+5.6+5.6+5.6+5.6 -> 45.8 | G50: =D50*(E50+F50) -> 0 | I50: =0.721+0.69+0.69+0.69+0.629 -> 3.42
I51: 156 | J51: x
A52: 2.4 | B52: 75X50 RHS AS JOIST @ 600C/C | I52: =I51*#REF!/#REF! -> #REF!
A53: 1 | B53: RHS 50X75X3MM JOIST | C53: m | D53: =7.81*11 -> 85.91 | G53: =D53*(E53+F53) -> 0 | I53: =1.475+1.475+2+2+2 -> 8.95 | J53: =I53*2 -> 17.9
A56: 2.5 | B56: STAIR CASE
A57: 1 | B57: RHS 75X100X3MM Thick STRINGER | C57: M | D57: =3.041+3.041 -> 6.082 | G57: =D57*(E57+F57) -> 0
A58: 2 | B58: 175 x 200 x 6mm thick MS base plate | C58: nr | D58: 2 | G58: =D58*(E58+F58) -> 0
A59: 3 | B59: 10m bolts | C59: nr | D59: 8 | G59: =D59*(E59+F59) -> 0
A60: 4 | B60: 50X75 ANGLE FOR STEPS | C60: M | D60: =0.8*11 -> 8.8 | G60: =D60*(E60+F60) -> 0
A61: 5 | B61: 30∅ GI TOP RAIL | C61: M | D61: 3.2 | G61: =D61*(E61+F61) -> 0
A62: 6 | B62: 25∅ GI VERTICAL RAIL | C62: M | D62: =1*6 -> 6 | G62: =D62*(E62+F62) -> 0
A63: 7 | B63: 800X200X50MM THICK TIMBER | C63: nr | D63: 11 | G63: =D63*(E63+F63) -> 0
B66: BILL No: 02- Metal Works | G66: =SUM(G40:G65) -> 0
B67: TOTAL OF BILL No: 02 - Carried over to summary
B68: BILL N0:03
B69: Deck
A70: 3.1 | B70: General
B71: (a) Rates shall include for all fixing, cutting, trimmings, nails, screws and other fixings according to manufacturers' instructions.
B72: (a) Rates shall include for: all fabrication work, welding, marking, drilling for bolts including those securing timbers, steel plates, bolts, nuts and any type of washer, riveted work, counter sinking and tapping for bolts or machine screws.
B73: (d) Rates shall include for applying an approved quality wood preservators as per manufacturers instructions for all timber structures
A75: 3.2 | B75: Supply and installation of:
A76: 1 | B76: 25MM THICK SHERA BORAD | C76: m2 | D76: 45 | G76: =D76*(E76+F76) -> 0
B81: BILL No: 03- Deck | G81: =SUM(G74:G80) -> 0
B82: TOTAL OF BILL No: 03 - Carried over to summary
B83: BILL N0:04
B84: Painting
A85: 4.1 | B85: General
B86: (a) Rates shall include for: the provision, erection and removal of scaffolding, preparation, rubbing down between coats and similar work, the protection and/or masking floors, fittings and similar work, removing and replacing door and window furniture where necessary.
B87: (b) All painting work shall be carried in accordance with the drawings and Specifications and subject to approval
A89: 4.2 | B89: Applying anti corrosion paint on all RHS AND SHC works
A90: 1 | B90: Applying anti corrosion paint with redoxide on all RHS, SHC and GI pipes works | C90: item | D90: 1 | G90: =D90*(E90+F90) -> 0
B93: BILL N0: 04 - Painting | G93: =SUM(G88:G92) -> 0
B94: TOTAL OF BILL No: 04 - Carried over to summary
B95: BILL No: 5
B96: Additions and Omissions
A97: 5.1 | B97: Additions
A107: 5.2 | B107: Omissions
B117: BILL No: 5 - Additions and Omissions | G117: =SUM(G97:G116) -> 0
B118: TOTAL OF BILL No: 11 - Carried over to summary
