Workbook

Sheet COVER
B6: BILL OF QUANTITIES
A8: =BOQ!A2 -> Project: IGMH-HDC-GODOWN-DECK WORK
A10: Client: IGMH
A15: JUNE 2025

Sheet SUM
A2: BILL OF QUANTITIES
A3: DATE: | B3: 45838
A5: SUMMARY
A6: NO | B6: BILL | E6: AMOUNT
A7: 1 | B7: =BOQ!B31 -> BILL No: 01 - Preliminaries | E7: =BOQ!G31 -> 0
A8: 2 | B8: =BOQ!B66 -> BILL No: 02- Metal Works | E8: =BOQ!G66 -> 0
A9: 3 | B9: =BOQ!B81 -> BILL No: 03- Deck | E9: =BOQ!G81 -> 0
A10: 4 | B10: =BOQ!B93 -> BILL N0: 04 - Painting | E10: =BOQ!G93 -> 0
A11: 5 | B11: =BOQ!B117 -> BILL No: 5 - Additions and Omissions | E11: =BOQ!G117 -> 0
B13: SUB TOTAL | E13: =SUM(E7:E12) -> 0
B14: GST 8% | E14: =E13*0.08 -> 0
B15: GRAND TOTAL | E15: =E13+E14 -> 0

Sheet BOQ
A1: BILL OF QUANTITIES
A2: Project: IGMH-HDC-GODOWN-DECK WORK
A3: Item | B3: Description | C3: Unit | D3: Qty | E3: Material Rate | F3: Labour Rate | G3: Amount
B4: BILL No: 01
B5: Preliminaries
A6: 1.1 | B6: General Notes
A7: 1 | B7: Abbreviations
B8: m - metre
B9: lm-linear metre
B10: nr - numbers
B11: m³ - cubic metre
B12: m² - square metre
B13: m - metre
B14: kg - kilogram
B15: incl - including
B16: mm - millimetre
B17: dia - diametre
B18: SS - Stainless Steel
B19: GI - Galvanised Iron
A21: 1.2 | B21: Site Management Costs
A22: 1 | B22: Allow for all on and off site management costs including costs of foreman and assistants, temporary services, telephone, fax, hoardings, fences, and similar items. | C22: item | D22: 1 | G22: =D22*(E22+F22) -> 0
A24: 1.3 | B24: Sign Board
A25: 1 | B25: Allow for sign board. | C25: nr | D25: 1 | G25: =D25*(E25+F25) -> 0
A27: 1.4 | B27: Clean-up
A28: 1 | B28: Allow for clean up of completed works and site upon completion | C28: item | D28: 1 | G28: =D28*(E28+F28) -> 0
B31: BILL No: 01 - Preliminaries | G31: =SUM(G22:G30) -> 0
B32: TOTAL OF BILL No: 01 - Carried over to summary
B33: BILL N0:02
B34: Metal Works
A35: 2.1 | B35: General
B36: (a) Rates shall include for: all fabrication work, welding, marking, drilling for bolts including those securing timbers, steel plates, bolts, nuts and any type of washer, riveted work, counter sinking and tapping for bolts or machine screws.
B37: (b) Rate shall include for all fabrication works, welding, polishing, Marking, drilling for bolts, nuts, washers, rivets, sounter sinking and the like.
B38: (c) The Contractor / Supplier shall take On Site measurements before commenting any fabrication works.
B39: (d) Rates shall include for applying an approved quality wood preservators as per manufacturers instructions for all timber structures
B40: (e) All the mentioned works shall be constructed in accordance to the given specifications.
A42: 2.2 | B42: SQAURE HOLLOW SECTION PROFILE COLUMN-SHS100X3MM
A43: 1 | B43: 100x100x3mm thick SHS Column | C43: m | D43: 25 | G43: =D43*(E43+F43) -> 0 | I43: =3.6+6.6+3.6+3.65+5+5+5+5+3.8+3.8+3.8+3.8 -> 52.65
A44: 2 | B44: 200 x 200 x 6mm thick MS base plate | C44: nr | D44: 12 | G44: =D44*(E44+F44) -> 0
A45: 4 | B45: 100 x 50 x 6mm stiffener | C45: nr | D45: =D44*4 -> 48 | G45: =D45*(E45+F45) -> 0
A46: 5 | B46: 10m bolts | C46: nr | D46: 48 | G46: =D46*(E46+F46) -> 0
...
