Workbook

Sheet cover
A16: BILL OF QUANTITIES
A17: IGMH GENERATOR ROOM RENOVATION

Sheet summary
B2: SUMMARY OF BILLS OF QUANTITIES
B3: =cover!A17 -> IGMH GENERATOR ROOM RENOVATION
B5: BILL No. | C5: DESCRIPTION | D5: AMOUNT
B6: 1 | C6: =BOQ!B3 -> Bill NO: 1 - PRELIMINARIES | D6: =BOQ!F28 -> 0
B7: 2 | C7: =BOQ!B29 -> BILL N0:02 -Concrete Works | D7: =BOQ!F53 -> 0
B8: 3 | C8: =BOQ!B54 -> BILL N0:03- METAL WORKS | D8: =BOQ!F76 -> 0
B9: 4 | C9: =BOQ!B77 -> Bill NO: 4 - Roofing Work | D9: =BOQ!F97 -> 0
B10: 5 | C10: =BOQ!B98 -> Bill NO: 5 - Painting Work | D10: =BOQ!F127 -> 0
C11: =BOQ!B128 -> Bill NO: 6 - ADDITIONS | D11: =BOQ!F138 -> 0
C12: =BOQ!B139 -> Bill NO:7 - OMISSIONS
C16: TOTAL | D16: =SUM(D6:D15) -> 0
C17: GST 8% | D17: =D16*8% -> 0
C18: GRAND TOTAL | D18: =SUM(D16:D17) -> 0
D23: =D18-70000 -> -70000

Sheet BOQ
A2: Item | B2: Description | C2: Unit | D2: QTY | E2: RATE | F2: TOTAL AMOUNT
A3: 1 | B3: Bill NO: 1 - PRELIMINARIES
A4: 1.1 | B4: General Notes
A5: 1) | B5: Abbreviations
B6: m - meter
B7: Nr - numbers
B8: m3 - cubic meter
B9: m2 - square meter
B11: t - tonnes
B12: md - including
B13: mm - millimeter
B14: dia - diameter
B15: SS - Stainless Steel
B16: GI - Galvanized Iron
A17: 1.2 | B17: Site Management Costs
A18: 1.2.1 | B18: Allow for all on and off site management cost
B19: including costs of foreman and assistants, | C19: item | D19: 1 | F19: =E19*D19 -> 0
B20: temporary services, hoardings | F20: =E20*D20 -> 0
B21: and similar. | F21: =E21*D21 -> 0
A22: 1.3 | B22: Clean Up | F22: =E22*D22 -> 0
B23: Allow for cleanup of side prior to handover | C23: item | D23: 1 | F23: =E23*D23 -> 0
A25: 1.4 | B25: Removal of Exisitng Silencer support | C25: item | D25: 1 | F25: =E25 -> 0
B28: TOTAL OF BILL NO. 1 (PRELIMINARIES) | F28: =SUM(F17:F26) -> 0
A29: 2 | B29: BILL N0:02 -Concrete Works
A31: 2.1 | B31: Concrete Works
B32: General
B33: (a) Rate shall include batching, mixing, compacting, leveling and placing of concrete and curing and removal of any formwork include for provision casting of required items & finishing after removal of formwork and additional concrete required to confirm to structural tolerances and rates shall include supply of all required materials and machineries
B34: (b) Mix ratio for reinforced concrete shall be 1:2:3 (20mm crushed aggregates) and lean concrete shall be 1:2:6 by volume.
B35: (c) Quantity is measured to the edges of concrete foundation members. Rates shall be inclusive for any additional concrete required to place the formwork.
A37: 2.2 | B37: Reinforced Insitu Concrete
A38: 1 | B38: column stump, 250 x 250x 300mm | C38: m³ | D38: 0.04 | F38: =E38*D38 -> 0
A40: 2.3 | B40: Formwork
B41: General
B42: (a) Exposed surface shall have fair finish while remaining may have rough finish, and must be secured in a highly precise manner guaranteeing straight and smooth concrete edges
B43: (b) Timber used for unexposed concrete surface shall sound dressed and seasoned good quality common timber while for exposed concrete surfaces dressed and matched boards uniformly thick and not more than 250mm wide.
B44: (c) Plywood used for forms shall be of commercial standard, moisture resistane conrete form plywood not less than 6mm thick and atleast 12mm thick.
B45: (d) Rates shall include for; all necessary boarding,supports, erecting, framing, temporary cambering cutting, perforations for reinforcing bars, bolts,straps,ties, hangers, pipes and removal of formwork.
A47: 1 | B47: column stump, 250 x 250x 300mm | C47: m² | D47: 0.6 | F47: =E47*D47 -> 0
A49: 2.5 | B49: Water Proofing
A50: 1 | B50: Apply Rubberised bitumin water proofing paint, 2 coats to all exposed concrete below ground level. | C50: m² | D50: =D47 -> 0.6 | F50: =E50*D50 -> 0
...
