Workbook

Sheet cover
A16: BILL OF QUANTITIES
A17: IGMH GENERATOR ROOM RENOVATION

Sheet summary
B2: SUMMARY OF BILLS OF QUANTITIES
B3: =cover!A17 -> IGMH GENERATOR ROOM RENOVATION
B5: BILL No. | C5: DESCRIPTION | D5: AMOUNT
B6: 1 | C6: =BOQ!B3 -> Bill NO: 1 - PRELIMINARIES | D6: =BOQ!F28 -> 0
B7: 2 | C7: =BOQ!B29 -> BILL N0:02 -Concrete Works | D7: =BOQ!F53 -> 0
B8: 3 | C8: =BOQ!B54 -> BILL N0:03- METAL WORKS | D8: =BOQ!F76 -> 0
B9: 4 | C9: =BOQ!B77 -> Bill NO: 4 - Roofing Work | D9: =BOQ!F97 -> 0
B10: 5 | C10: =BOQ!B98 -> Bill NO: 5 - Painting Work | D10: =BOQ!F127 -> 0
C11: =BOQ!B128 -> Bill NO: 6 - ADDITIONS | D11: =BOQ!F138 -> 0
C12: =BOQ!B139 -> Bill NO:7 - OMISSIONS
C16: TOTAL | D16: =SUM(D6:D15) -> 0
C17: GST 8% | D17: =D16*8% -> 0
C18: GRAND TOTAL | D18: =SUM(D16:D17) -> 0
D23: =D18-70000 -> -70000

Sheet BOQ
A2: Item | B2: Description | C2: Unit | D2: QTY | E2: RATE | F2: TOTAL AMOUNT
A3: 1 | B3: Bill NO: 1 - PRELIMINARIES
A4: 1.1 | B4: General Notes
A5: 1) | B5: Abbreviations
B6: m - meter
B7: Nr - numbers
B8: m3 - cubic meter
B9: m2 - square meter
B11: t - tonnes
B12: md - including
B13: mm - millimeter
B14: dia - diameter
B15: SS - Stainless Steel
B16: GI - Galvanized Iron
A17: 1.2 | B17: Site Management Costs
A18: 1.2.1 | B18: Allow for all on and off site management cost
B19: including costs of foreman and assistants, | C19: item | D19: 1 | F19: =E19*D19 -> 0
B20: temporary services, hoardings | F20: =E20*D20 -> 0
B21: and similar. | F21: =E21*D21 -> 0
A22: 1.3 | B22: Clean Up | F22: =E22*D22 -> 0
B23: Allow for cleanup of side prior to handover | C23: item | D23: 1 | F23: =E23*D23 -> 0
A25: 1.4 | B25: Removal of Exisitng Silencer support | C25: item | D25: 1 | F25: =E25 -> 0
B28: TOTAL OF BILL NO. 1 (PRELIMINARIES) | F28: =SUM(F17:F26) -> 0
A29: 2 | B29: BILL N0:02 -Concrete Works
A31: 2.1 | B31: Concrete Works
B32: General
B33: (a) Rate shall include batching, mixing, compacting, leveling and placing of concrete and curing and removal of any formwork include for provision casting of required items & finishing after removal of formwork and additional concrete required to confirm to structural tolerances and rates shall include supply of all required materials and machineries
B34: (b) Mix ratio for reinforced concrete shall be 1:2:3 (20mm crushed aggregates) and lean concrete shall be 1:2:6 by volume.
B35: (c) Quantity is measured to the edges of concrete foundation members. Rates shall be inclusive for any additional concrete required to place the formwork.
A37: 2.2 | B37: Reinforced Insitu Concrete
A38: 1 | B38: column stump, 250 x 250x 300mm | C38: m³ | D38: 0.04 | F38: =E38*D38 -> 0
A40: 2.3 | B40: Formwork
B41: General
B42: (a) Exposed surface shall have fair finish while remaining may have rough finish, and must be secured in a highly precise manner guaranteeing straight and smooth concrete edges
B43: (b) Timber used for unexposed concrete surface shall sound dressed and seasoned good quality common timber while for exposed concrete surfaces dressed and matched boards uniformly thick and not more than 250mm wide.
B44: (c) Plywood used for forms shall be of commercial standard, moisture resistane conrete form plywood not less than 6mm thick and atleast 12mm thick.
B45: (d) Rates shall include for; all necessary boarding,supports, erecting, framing, temporary cambering cutting, perforations for reinforcing bars, bolts,straps,ties, hangers, pipes and removal of formwork.
A47: 1 | B47: column stump, 250 x 250x 300mm | C47: m² | D47: 0.6 | F47: =E47*D47 -> 0
A49: 2.5 | B49: Water Proofing
A50: 1 | B50: Apply Rubberised bitumin water proofing paint, 2 coats to all exposed concrete below ground level. | C50: m² | D50: =D47 -> 0.6 | F50: =E50*D50 -> 0
A51: 2 | B51: Add an approved concrete admixture to all concrete | C51: l | D51: 5 | F51: =E51*D51 -> 0
B53: TOTAL BILL No: 02 - (CONCRETE WORK) | F53: =SUM(F37:F52) -> 0
B54: BILL N0:03- METAL WORKS
B55: Metal Works
A56: 3.1 | B56: General
B57: (a) Rates shall include for: all fabrication work, welding, marking, drilling for bolts including those securing timbers, steel plates, bolts, nuts and any type of washer, riveted work, counter sinking and tapping for bolts or machine screws.
B58: (b) Rate shall include for all fabrication works, welding, polishing, Marking, drilling for bolts, nuts, washers, rivets, sounter sinking and the like.
B59: (c) The Contractor / Supplier shall take On Site measurements before commenting any fabrication works.
B60: (d) Any materials used shall be approved by MPL before commencing the installation works.
B61: (e) All the mentioned works shall be constructed in accordance to the given specifications.
A63: 3.2 | B63: Steel frame for Silencer
A64: 1 | B64: 100X100 RHS COLUMN | C64: m | D64: 28 | F64: =E64*D64 -> 0 | G64: =7+7+5.5+5.5+1.5+1.5 -> 28
A65: 2 | B65: 200 x 200 x 6mm thick MS base plate | C65: nr | D65: 2 | F65: =E65*D65 -> 0
A66: 4 | B66: 75 x 50 x 6mm stiffener | C66: nr | D66: =D65*4 -> 8 | F66: =E66*D66 -> 0
A67: 5 | B67: 10m bolts | C67: nr | D67: =D66 -> 8 | F67: =E67*D67 -> 0
A68: 6 | B68: Epoxy Anchor grout | C68: item | D68: 1 | F68: =E68*D68 -> 0
A69: 7 | B69: 100X100 RHS Beam | C69: m | D69: 6.4 | F69: =E69*D69 -> 0 | G69: =1.6+1.6+0.8+0.8+0.8+0.8 -> 6.4
A70: 8 | B70: 75X75 ANGEL AS SUPPORT | C70: m | D70: =H70+J70 -> 31.6 | F70: =E70*D70 -> 0 | G70: =1.7+1.7+1.7+1.7 -> 6.8 | H70: =G70*2 -> 13.6 | I70: =1.8*5 -> 9 | J70: =I70*2 -> 18
A72: 3.2 | B72: Silencer modification work
A73: 1 | B73: Divert work of Silencer work | C73: item | D73: 1 | F73: =E73 -> 0
B76: TOTAL BILL No: 03- Metal Works | F76: =SUM(F62:F75) -> 0
A77: 4 | B77: Bill NO: 4 - Roofing Work
A78: 4.1 | B78: General | H78: =1501/6 -> 250.16667
A79: a | B79: Rates shall include for all fabrication works, welding, marking, drilling, for bolts including those securing steel plates, nuts, and any type of washer, riveted work, stiffeners, grouting, counter sinking and tapping for bolts or machine screws.
A80: b | B80: Rates shall include for all fabrication and erection and temporary supports and fixing in to position
A81: c | B81: Rates shall include supply and installation of to the complete condition of all members, gussets, fasteners, connections, welding and other accessories and works needed to complete the job.
A82: d | B82: Rate shall include for waterproofing and sealing through all penetrations.
A83: e | B83: Rates shall also include for applying redoxide and painting all the steel members and applying wood preservatives to timber according to specifications
A84: f | B84: All connections (beam to beam, beam to column etc.) shall be made according to the drawings and technical specifications.
A85: g | B85: Rigid connections and hinged connections should be made as shown in the structural layouts
A86: h | B86: The contractor shall take delivery and fixing.
A88: 4.2 | B88: Existing roofing Removal Work
A89: a | B89: Removing of existing damaged part of roofing | C89: item | D89: 1 | F89: =E89 -> 0
A91: 4.3 | B91: Supply and Installation of roof for damaged area and new silencer area.
A92: a | B92: MSP colorbond or equivalent roofing sheet (29" x 13') | C92: m² | D92: 50 | F92: =E92*D92 -> 0 | G92: =50*10.7639 -> 538.195 | H92: =45+25 -> 70 | I92: =H92*2 -> 140 | K92: =111*24 -> 2664
A93: b | B93: 300 x 250mm MSP colorbond or equivalent gutter compete with fittings and accessories | C93: m | D93: 30 | F93: =E93*D93 -> 0 | K93: =K92/10.7639 -> 247.49394
H94: =45+25 -> 70 | I94: =H94*2 -> 140
B97: TOTAL OF BILL NO. 4 - Roofing WORK | F97: =SUM(F87:F96) -> 0
A98: 5 | B98: Bill NO: 5 - Painting Work
A99: 5.1 | B99: General
A100: a | B100: Rates shall include for: the provision, erection and removal of scaffolding, preparation, rubbing down between coats and similar work, the protection and/or masking floors, fittings and similar work, removing and replacing door and window
A101: b | B101: All painting work shall be carried in accordance with the Specifications
A102: c | B102: Paint system shall be approved paint from client and consultant.
A104: 5.2 | B104: Floor Painting
A105: a | B105: Rate Includes Rust cleaning in areas where steel plate flooring, with heavy duty paint | C105: m² | D105: 169 | F105: =E105*D105 -> 0 | H105: =76*24 -> 1824 | I105: =H105/10.7639 -> 169.45531
A107: 5.3 | B107: 2 Genset Painting
A108: a | B108: Removing and cleaning of rusted areas and repainting with heavy duty paint | C108: m² | D108: =J110 -> 127.2 | F108: =E108*D108 -> 0 | H108: =2.6*3 -> 7.8 | I108: =H108*2 -> 15.6
H109: =8*3 -> 24 | I109: =H109*2 -> 48
A110: 5.4 | B110: 2 Genset Silencer Painting | I110: =SUM(I108:I109) -> 63.6 | J110: =I110*2 -> 127.2
A111: a | B111: Removing and cleaning of rusted areas and repainting with heavy duty paint | C111: item | D111: 2 | F111: =E111*D111 -> 0
A113: 5.5 | B113: 2 Genset Painting work in Dharumavantha hospital
A114: a | B114: Removing and cleaning of rusted areas and repainting with heavy duty paint | C114: m² | D114: =I114+I115 -> 380.16 | F114: =E114*D114 -> 0 | H114: =3*3*12 -> 108 | I114: =H114*3 -> 324
H115: =3*2.4*3.9 -> 28.08 | I115: =H115*2 -> 56.16
A116: 5.4 | B116: 2 Genset Silencer Painting in Dharumvantha hospital
A117: a | B117: Removing and cleaning of rusted areas and repainting with heavy duty paint | C117: item | D117: 3 | F117: =E117*D117 -> 0
A119: 5.5 | B119: 2 Exhasut Painting in Dharumvantha hospital
B120: Removing and cleaning of rusted areas and repainting with heavy duty paint | C120: m² | D120: 85 | F120: =E120*D120 -> 0 | H120: =3*2.4*3.9 -> 28.08 | I120: =H120*3 -> 84.24
A123: 5.6 | B123: Removing damaged steel angle and cleaning rusted steel angle that support wall
A124: a | B124: Removing and cleaning of rusted areas and repainting with heavy duty paint | C124: item | D124: 1 | F124: =E124*D124 -> 0
B127: TOTAL OF BILL NO. 5 - Painting WORK | F127: =SUM(F103:F126) -> 0
...
