Workbook

Sheet Cover
B6: BILL OF QUANTITIES
A8: =BoQ!A2 -> Project: Boundary wall at IGMH, K.Male'
A10: Client: IGMH
A15: 15th October 2025

Sheet Summary
A1: BILL OF QUANTITIES
A3: SUMMARY
A4: NO | B4: BILL | E4: AMOUNT (MVR)
A5: 1 | B5: =BoQ!B6 -> Preliminaries | E5: =BoQ!G37 -> 0
A6: 2 | B6: =BoQ!B40 -> Ground Works | E6: =BoQ!G67 -> 0
A7: 3 | B7: =BoQ!B70 -> Concrete Works | E7: =BoQ!G123 -> 0
A8: 4 | B8: =BoQ!B126 -> Masonry and Plastering | E8: =BoQ!G147 -> 0
A9: 5 | B9: =BoQ!B150 -> Doors and Windows | E9: =BoQ!G164 -> 0
A10: 6 | B10: =BoQ!B167 -> Painting | E10: =BoQ!G181 -> 0
A11: 7 | B11: =BoQ!B184 -> Additions and Omissions | E11: =BoQ!G208 -> 0
B15: SUB TOTAL | E15: =SUM(E5:E14) -> 0
B16: GST 8% | E16: =E15*0.08 -> 0
B17: GRAND TOTAL | E17: =E15+E16 -> 0

Sheet BoQ
A1: BILL OF QUANTITIES
A2: Project: Boundary wall at IGMH, K.Male'
A4: Item | B4: Description | C4: Unit | D4: Qty | E4: Material Rate | F4: Labour Rate | G4: Amount (MVR)
B5: BILL No: 01
B6: Preliminaries
A7: 1.1 | B7: General Notes
A8: 1 | B8: Abbreviations
B9: m - metre
B10: lm-linear metre
B11: nr - numbers
B12: m³ - cubic metre
B13: m² - square metre
B14: l - litre
B15: m - metre
B16: kg - kilogram
B17: incl - including
B18: mm - millimetre
B19: dia - diametre
B20: pts - points
... B22: GI - Galvanised Iron
A24: 1.2 | B24: Site Management Costs
A25: 1 | B25: Allow for all on and off site management costs including costs of foreman and assistants, temporary services, telephone, fax, hoardings, fences, and similar items. | C25: item | D25: 1 | G25: =D25*(E25+F25) -> 0
A27: 1.3 | B27: Sign Board
A28: 1 | B28: Allow for sign board | C28: item | D28: 1 | G28: =D28*(E28+F28) -> 0
A30: 1.4 | B30: Permits
A31: 1 | B31: Approval permit from government/council. | C31: item | D31: 1 | G31: =D31*(E31+F31) -> 0
B37: BILL No: 01 - Preliminaries | G37: =SUM(G25:G36) -> 0
B38: TOTAL OF BILL No: 01 - Carried over to summary
B39: BILL No: 02
B40: Ground Works
B41: General
B42: (a) Rates shall include for: leveling, grading, trimming, compacting to faces of excavation, keep sides plumb, backfilling, consolidating, additional working space and disposing surplus soil.
A44: 2.1 | B44: Demolition
A45: 1 | B45: Demolition of the existing building components as per the drawing | C45: item | D45: 1 | G45: =D45*(E45+F45) -> 0
A47: 2.2 | B47: Excavation
B48: (a) Excavation quantities are measured to the faces of concrete members. Rates shall include for all additional excavation required to place the formwork, back filling, shoring, foundation protection and similar
B49: Excavation to receive:
A50: 1 | B50: Boundary wall area | C50: m³ | D50: 8.76 | G50: =D50*(E50+F50) -> 0
A52: 2.3 | B52: Damp Proof Membrane
B53: (a) Rate shall include for: dressing around and sealing to all penetrations.
...
