Workbook

Sheet Cover
B6: BILL OF QUANTITIES
A8: =BoQ!A2 -> Project: Boundary wall at IGMH, K.Male'
A10: Client: IGMH
A15: 15th October 2025

Sheet Summary
A1: BILL OF QUANTITIES
A3: SUMMARY
A4: NO | B4: BILL | E4: AMOUNT (MVR)
A5: 1 | B5: =BoQ!B6 -> Preliminaries | E5: =BoQ!G37 -> 0
A6: 2 | B6: =BoQ!B40 -> Ground Works | E6: =BoQ!G67 -> 0
A7: 3 | B7: =BoQ!B70 -> Concrete Works | E7: =BoQ!G123 -> 0
A8: 4 | B8: =BoQ!B126 -> Masonry and Plastering | E8: =BoQ!G147 -> 0
A9: 5 | B9: =BoQ!B150 -> Doors and Windows | E9: =BoQ!G164 -> 0
A10: 6 | B10: =BoQ!B167 -> Painting | E10: =BoQ!G181 -> 0
A11: 7 | B11: =BoQ!B184 -> Additions and Omissions | E11: =BoQ!G208 -> 0
B15: SUB TOTAL | E15: =SUM(E5:E14) -> 0
B16: GST 8% | E16: =E15*0.08 -> 0
B17: GRAND TOTAL | E17: =E15+E16 -> 0

Sheet BoQ
A1: BILL OF QUANTITIES
A2: Project: Boundary wall at IGMH, K.Male'
A4: Item | B4: Description | C4: Unit | D4: Qty | E4: Material Rate | F4: Labour Rate | G4: Amount (MVR)
B5: BILL No: 01
B6: Preliminaries
A7: 1.1 | B7: General Notes
A8: 1 | B8: Abbreviations
B9: m - metre
B10: lm-linear metre
B11: nr - numbers
B12: m³ - cubic metre
B13: m² - square metre
B14: l - litre
B15: m - metre
B16: kg - kilogram
B17: incl - including
B18: mm - millimetre
B19: dia - diametre
B20: pts - points
... B22: GI - Galvanised Iron
A24: 1.2 | B24: Site Management Costs
A25: 1 | B25: Allow for all on and off site management costs including costs of foreman and assistants, temporary services, telephone, fax, hoardings, fences, and similar items. | C25: item | D25: 1 | G25: =D25*(E25+F25) -> 0
A27: 1.3 | B27: Sign Board
A28: 1 | B28: Allow for sign board | C28: item | D28: 1 | G28: =D28*(E28+F28) -> 0
A30: 1.4 | B30: Permits
A31: 1 | B31: Approval permit from government/council. | C31: item | D31: 1 | G31: =D31*(E31+F31) -> 0
B37: BILL No: 01 - Preliminaries | G37: =SUM(G25:G36) -> 0
B38: TOTAL OF BILL No: 01 - Carried over to summary
B39: BILL No: 02
B40: Ground Works
B41: General
B42: (a) Rates shall include for: leveling, grading, trimming, compacting to faces of excavation, keep sides plumb, backfilling, consolidating, additional working space and disposing surplus soil.
A44: 2.1 | B44: Demolition
A45: 1 | B45: Demolition of the existing building components as per the drawing | C45: item | D45: 1 | G45: =D45*(E45+F45) -> 0
A47: 2.2 | B47: Excavation
B48: (a) Excavation quantities are measured to the faces of concrete members. Rates shall include for all additional excavation required to place the formwork, back filling, shoring, foundation protection and similar
B49: Excavation to receive:
A50: 1 | B50: Boundary wall area | C50: m³ | D50: 8.76 | G50: =D50*(E50+F50) -> 0
A52: 2.3 | B52: Damp Proof Membrane
B53: (a) Rate shall include for: dressing around and sealing to all penetrations.
B54: Polythene damp proof membrane (500 gauge) laid on the bottom of:
A55: 1 | B55: Foundation beam | C55: m² | D55: 9.737 | G55: =D55*(E55+F55) -> 0
A57: 2.4 | B57: Back Filling
A58: 1 | B58: Backfilling to the excavated area and upto floor finish level. Rate shall include for the leveling of backfilling and achieving the appropriate level of compaction | C58: item | D58: 1 | G58: =D58*(E58+F58) -> 0
A60: 2.5 | B60: Clean-up/garbage disposal
A61: 1 | B61: Allow for clean up of completed works and site upon completion | C61: item | D61: 1 | G61: =D61*(E61+F61) -> 0
B67: BILL No: 02 - Ground Works | G67: =SUM(G43:G66) -> 0
B68: TOTAL OF BILL No: 02 - Carried over to summary
B69: BILL No: 03
B70: Concrete Works
B71: General
B72: (a) Rate shall include batching, mixing, compacting, leveling and placing of concrete and curing and removal of any formwork include for provision casting of required items & finishing after removal of formwork and additional concrete required to confirm to structural tolerances and rates shall include supply of all required materials and machineries
B73: (b) Mix ratio for reinforced concrete shall be 1:2:3 (20mm crushed aggregates) and lean concrete shall be 1:2:6 by volume.
B74: (c) Quantity is measured to the edges of concrete foundation members. Rates shall be inclusive for any additional concrete required to place the formwork.
A76: 3.1 | B76: Lean Concrete
B77: 50mm thick lean concrete to bottom of:
A78: 1 | B78: Foundation beam | C78: m³ | D78: 0.730275 | G78: =D78*(E78+F78) -> 0
A80: 3.2 | B80: Reinforced Insitu Concrete
A81: 1 | B81: Foundation beam | C81: m³ | D81: 2.43425 | G81: =D81*(E81+F81) -> 0
A82: 2 | B82: Boundary wall Column | C82: m³ | D82: 0.7242 | G82: =D82*(E82+F82) -> 0
A83: 3 | B83: Boundary wall Capping Beam | C83: m³ | D83: 0.908 | G83: =D83*(E83+F83) -> 0
A85: 3.3 | B85: Formwork
B86: General
B87: (a) Exposed surface shall have fair finish while remaining may have rough finish, and must be secured in a highly precise manner guaranteeing straight and smooth concrete edges
B88: (b) Timber used for unexposed concrete surface shall sound dressed and seasoned good quality common timber while for exposed concrete surfaces dressed and matched boards uniformly thick and not more than 250mm wide.
B89: (c) Plywood used for forms shall be of commercial standard, moisture resistane conrete form plywood not less than 6mm thick and atleast 12mm thick.
B90: (d) Rates shall include for; all necessary boarding,supports, erecting, framing, temporary cambering cutting, perforations for reinforcing bars, bolts,straps,ties, hangers, pipes and removal of formwork.
A91: 1 | B91: Foundation beam | C91: m² | D91: 24.3425 | G91: =D91*(E91+F91) -> 0
A92: 2 | B92: Boundary wall Column | C92: m² | D92: 14.484 | G92: =D92*(E92+F92) -> 0
A93: 3 | B93: Boundary wall Capping Beam | C93: m² | D93: 18.16 | G93: =D93*(E93+F93) -> 0
A95: 3.4 | B95: Reinforcement
B96: General
B97: (a) All reinforcement bars except 6 mm dia bars shall be of deformed high strength bars. 6 mm bar shall be round mild steel bars.
B98: (b) Binding wire shall be of 1.6 mm or 1.4 mm soft iron wire.
B99: (c) Rates shall include for distribution steel, cleaning, fabrication, placing, the provision for all necessary temporary fixings, and supports including chairs and binding wire, laps and wastage.
A101: 1 | B101: Foundation beam
B102: 12mm dia deformed bars | C102: nr | D102: 35 | G102: =D102*(E102+F102) -> 0
B103: 6mm dia deformed bars | C103: nr | D103: 42 | G103: =D103*(E103+F103) -> 0
A104: 2 | B104: Boundary wall Column
B105: 10mm dia deformed bars | C105: nr | D105: 18 | G105: =D105*(E105+F105) -> 0
B106: 6mm dia deformed bars | C106: nr | D106: 18 | G106: =D106*(E106+F106) -> 0
A107: 4 | B107: Boundary wall Capping Beam
B108: 10mm dia deformed bars | C108: nr | D108: 18 | G108: =D108*(E108+F108) -> 0
B109: 6mm dia deformed bars | C109: nr | D109: 12 | G109: =D109*(E109+F109) -> 0
A113: 3.5 | B113: Water Proofing
A114: 1 | B114: Apply Rubberised bitumin water proofing paint, 2 coats to all exposed concrete below ground level. | C114: m² | D114: 24.3425 | G114: =D114*(E114+F114) -> 0
A115: 2 | B115: Add an approved concrete admixture to all concrete | C115: l | D115: 5 | G115: =D115*(E115+F115) -> 0
A117: 3.6 | B117: Other Concrete Works
B118: Rate shall include Concrete, formwork, reinforcement, casting, curing, placing etc as specified in the drawings and specifications.
A119: 1 | B119: Entrance Area vehical entrance ramp | C119: item | D119: 1 | G119: =D119*(E119+F119) -> 0
B123: BILL No: 03 - Concrete Works | G123: =SUM(G77:G122) -> 0
B124: TOTAL OF BILL No: 03 - Carried over to summary
B125: BILL N0: 04
B126: Masonry and Plastering
B127: General
B128: (a) Rates shall include for: cleaning out cavities, forming rebated reveals and pointing and cleaning down to reveals where necessary; fractional size blocks, all necessary machine cutting, cutting or forming chases or edges of floor slabs
B129: (b)Cutting or leaving holes and openings as recesses for and building in pipes, conduits , sleeves and similar as required for all trades; leaving surfaces rough or raking out joints for plastering and flashings, bedding frames or plates, building in joints.
B130: (c) Blocks shall be of standard quality with no defects and sample shall be submitted for the engineer or consultant's approval.
B131: (d) All external wall and all internal walls shall be as specified and for masonry mix ratio 1:4 (cement and river sand)
B132: (e) For related concrete works, rates shall include for formwork, reinforcement and concrete
...
