Workbook

Sheet Cover
A16: BILL OF QUANTITIES
A17: IGMH PHLEBOTOMY AREA MAY 2026
A19: CLIENT : IGMH

Sheet BOQ Summary
A2: SUMMARY OF BILLS OF QUANTITIES
A3: =Cover!A17:I17 -> IGMH PHLEBOTOMY AREA MAY 2026
C5: DESCRIPTION | D5: MATERIAL COST | E5: LABOUR COST | F5: AMOUNT
C7: ='BOQ '!E7 -> Bill №: 01 - DEMOLITION | D7: ='BOQ '!K26 -> 0 | E7: ='BOQ '!L26 -> 0 | F7: ='BOQ '!M26 -> 0
C8: ='BOQ '!E27 -> Bill №: 02 - DOORS & WINDOWS | D8: ='BOQ '!K54 -> 0 | E8: ='BOQ '!L54 -> 0 | F8: ='BOQ '!M54 -> 0
C9: ='BOQ '!E55 -> Bill №: 03 - MASONRY | D9: ='BOQ '!K69 -> 0 | E9: ='BOQ '!L69 -> 0 | F9: ='BOQ '!M69 -> 0
C10: ='BOQ '!E70 -> Bill №: 04 - STRUCTURAL WORKS | D10: ='BOQ '!K120 -> 0 | E10: ='BOQ '!L120 -> 0 | F10: ='BOQ '!M120 -> 0
C11: ='BOQ '!E121 -> Bill №: 05 - PLASTERING | D11: ='BOQ '!K133 -> 0 | E11: ='BOQ '!L133 -> 0 | F11: ='BOQ '!M133 -> 0
C12: ='BOQ '!E134 -> Bill №: 06 - FLOOR, WALL FINISHINGS | D12: ='BOQ '!K181 -> 0 | E12: ='BOQ '!L181 -> 0 | F12: ='BOQ '!M181 -> 0
C13: ='BOQ '!E182 -> Bill №: 07 - DRYWALL & SUSPENDED CEILING | D13: ='BOQ '!K217 -> 0 | E13: ='BOQ '!L217 -> 0 | F13: ='BOQ '!M217 -> 0
C14: ='BOQ '!E218 -> Bill №: 08 -FURNITURE | D14: ='BOQ '!K377 -> 0 | E14: ='BOQ '!L377 -> 0 | F14: ='BOQ '!M377 -> 0
C15: ='BOQ '!E378 -> Bill №: 09 - PAINTING & DECORATIONS | D15: ='BOQ '!K399 -> 0 | E15: ='BOQ '!L399 -> 0 | F15: ='BOQ '!M399 -> 0
C16: ='BOQ '!E410 -> Bill №:11 - MECHANICAL & ELECTRICAL SERVICES | D16: ='BOQ '!K526 -> 0 | E16: ='BOQ '!L526 -> 0 | F16: ='BOQ '!M526 -> 0
C17: ='BOQ '!E527 -> Bill №: 12 - PLUMBING | D17: ='BOQ '!K563 -> 0 | E17: ='BOQ '!L563 -> 0 | F17: ='BOQ '!M563 -> 0
C18: TOTAL AMOUNT | D18: =SUM(D7:D17) -> 0 | E18: =SUM(E7:E17) -> 0 | F18: =SUM(F7:F17) -> 0
C19: GST 8% | F19: =F18*8/100 -> 0
C20: TOTAL AMOUNT including GST | F20: =F18+F19 -> 0

Sheet BOQ 
A2: ='BOQ Summary'!A3:F3 -> IGMH PHLEBOTOMY AREA MAY 2026
A3: Republic of Maldives
A5: BILL OF QUANTITIES
A6: ITEM | E6: DESCRIPTION | G6: UNIT | H6: QTY | I6: MATERIAL RATE | J6: LABOUR RATE | K6: MATERIAL AMOUNT | L6: LABOUR AMOUNT | M6: AMOUNT
A7: 1.0.00 | E7: Bill №: 01 - DEMOLITION
B9: GENERAL
D10: (a) | E10: Careful demolition and dismantling of existing masonry walls, partitions (block/gypsum/wooden), RCC staircase, and bench structures, including cutting, breaking, and removal of concrete and reinforcement wherever required. The work also includes removal of existing toilet fixtures, fittings, and wall/floor tiles with necessary plumbing disconnections. All debris shall be collected, removed, and disposed of outside the site as per instructions, complete in all respects.
A12: 1.1.00 | B12: DEMOLITION WORK
A14: 1.1.01 | E14: Wall Demolition | G14: m2 | H14: 234.08 | I14: 0 | J14: 0 | K14: =H14*I14 -> 0 | L14: =H14*J14 -> 0 | M14: =H14*I14+H14*J14 -> 0
A15: 1.1.02 | E15: Partition demolition | G15: m2 | H15: 61.6 | I15: 0 | J15: 0 | K15: =H15*I15 -> 0 | L15: =H15*J15 -> 0 | M15: =H15*I15+H15*J15 -> 0
A16: 1.1.03 | E16: RCC stair demolition | G16: m2 | H16: 7.55 | I16: 0 | J16: 0 | K16: =H16*I16 -> 0 | L16: =H16*J16 -> 0 | M16: =H16*I16+H16*J16 -> 0
A17: 1.1.04 | E17: Bench Demolition | G17: m2 | H17: 15.2 | I17: 0 | J17: 0 | K17: =H17*I17 -> 0 | L17: =H17*J17 -> 0 | M17: =H17*I17+H17*J17 -> 0
A18: 1.1.05 | E18: Toilet fixtures and tiles removal | G18: m2 | H18: 42 | I18: 0 | J18: 0 | K18: =H18*I18 -> 0 | L18: =H18*J18 -> 0 | M18: =H18*I18+H18*J18 -> 0
A20: 1.2.00 | B20: Excavation & Back Filling
E21: a) Rates shall include for: Excavation quantities are measured to the faces of concrete members. Rates shall include for all the additional excavation required to place the formwork. Rates shall include for backfilling.
A22: 1.2.01 | E22: Excavation | G22: m3 | H22: 279.31 | I22: 0 | J22: 0 | K22: =H22*I22 -> 0 | L22: =H22*J22 -> 0 | M22: =H22*I22+H22*J22 -> 0
A23: 1.2.02 | E23: Back Filling | G23: m3 | H23: 326.13 | I23: 0 | J23: 0 | K23: =H23*I23 -> 0 | L23: =H23*J23 -> 0 | M23: =H23*I23+H23*J23 -> 0
E26: TOTAL OF BILL №: 01 - Carried Over To Summary | K26: =SUBTOTAL(9,K14:K25) -> 0 | L26: =SUBTOTAL(9,L14:L25) -> 0 | M26: =SUBTOTAL(9,M14:M25) -> 0
A27: 2.0.00 | E27: Bill №: 02 - DOORS & WINDOWS
B29: GENERAL
D30: (a) | E30: Rates shall include for locks, latches, closers, push plates, pull handles, bolts, kick plates, hinges and all door & window hardware.
D31: (b) | E31: Rates shall include for door frames, mullions, transoms, trims, glazing, tinting, timber panels, boardings, framing, lining, fastenings and all fixings.
D32: (c) | E32: Sizes are given overall outside dimensions of actual doors and windows.
D33: (d) | E33: Thickness and sizes of glass panels are shown on the Drawings and doors and windows schedule
D34: (e) | E34: Rates shall include for all painting as specified
D35: (f) | E35: Rates shall include all items specified in the door schedule and specification.
D36: (g) | E36: Frames and sashes to be 25-60 micron white powder coated aluminium other wise specified.
A38: 2.1.00 | B38: GROUND FLOOR
A39: 2.1.12 | B39: 1900 | C39: x | D39: 2100 | E39: D1-Timber Door & Fixed Window | G39: nr | H39: 1 | I39: 0 | K39: =H39*I39 -> 0 | L39: =H39*J39 -> 0 | M39: =H39*I39+H39*J39 -> 0
A40: 2.1.12 | B40: 900 | C40: x | D40: 2100 | E40: D2-Timber Door | G40: nr | H40: 1 | I40: 0 | J40: 0 | K40: =H40*I40 -> 0 | L40: =H40*J40 -> 0 | M40: =H40*I40+H40*J40 -> 0
A41: 2.1.12 | B41: 700 | C41: x | D41: 2100 | E41: D3-Timber Door | G41: nr | H41: 3 | I41: 0 | J41: 0 | K41: =H41*I41 -> 0 | L41: =H41*J41 -> 0 | M41: =H41*I41+H41*J41 -> 0
A42: 2.1.12 | B42: 700 | C42: x | D42: 2100 | E42: D4-Fiber Door | G42: nr | H42: 5 | I42: 0 | J42: 0 | K42: =H42*I42 -> 0 | L42: =H42*J42 -> 0 | M42: =H42*I42+H42*J42 -> 0
A43: 2.1.12 | B43: 1100 | C43: x | D43: 2100 | E43: D5-Timber Door | G43: nr | H43: 2 | I43: 0 | J43: 0 | K43: =H43*I43 -> 0 | L43: =H43*J43 -> 0 | M43: =H43*I43+H43*J43 -> 0
A44: 2.1.12 | B44: 800 | C44: x | D44: 2200 | E44: D6-Timber Sliding Door | G44: nr | H44: 3 | I44: 0 | J44: 0 | K44: =H44*I44 -> 0 | L44: =H44*J44 -> 0 | M44: =H44*I44+H44*J44 -> 0
A45: 2.1.12 | B45: 2800 | C45: x | D45: 2000 | E45: FG1-Aluminium Fixed Window | G45: nr | H45: 1 | I45: 0 | J45: 0 | K45: =H45*I45 -> 0 | L45: =H45*J45 -> 0 | M45: =H45*I45+H45*J45 -> 0
A46: 2.1.12 | B46: 1475 | C46: x | D46: 2500 | E46: FG2-Aluminium Fixed Window | G46: nr | H46: 1 | I46: 0 | J46: 0 | K46: =H46*I46 -> 0 | L46: =H46*J46 -> 0 | M46: =H46*I46+H46*J46 -> 0
A47: 2.1.12 | B47: 1500 | C47: x | D47: 2500 | E47: FG3-Aluminium Fixed Window | G47: nr | H47: 1 | I47: 0 | J47: 0 | K47: =H47*I47 -> 0 | L47: =H47*J47 -> 0 | M47: =H47*I47+H47*J47 -> 0
A48: 2.1.12 | B48: 1640 | C48: x | D48: 2200 | E48: FG4-Aluminium Fixed Window | G48: nr | H48: 1 | I48: 0 | J48: 0 | K48: =H48*I48 -> 0 | L48: =H48*J48 -> 0 | M48: =H48*I48+H48*J48 -> 0
A49: 2.1.12 | B49: 3155 | C49: x | D49: 2200 | E49: FG5-Aluminium Fixed Window | G49: nr | H49: 1 | I49: 0 | J49: 0 | K49: =H49*I49 -> 0 | L49: =H49*J49 -> 0 | M49: =H49*I49+H49*J49 -> 0
A50: 2.1.12 | B50: 1600 | C50: x | D50: 2200 | E50: FG6-Aluminium Fixed Window | G50: nr | H50: 1 | I50: 0 | J50: 0 | K50: =H50*I50 -> 0 | L50: =H50*J50 -> 0 | M50: =H50*I50+H50*J50 -> 0
...
