Workbook

Sheet Cover
B22: IGMH HR OFFICE RENOVATION
B23: BILL OF QUANTITIES
B26: AUGUST 2023

Sheet summary
A2: IGMH HR OFFICE RENOVATIONS
A4: Summary of Bills of Quantities
A7: Bill no | B7: Description | C7: Amount
A11: 1 | B11: =+BOQ!C7 -> PRELIMINARIES | C11: =+BOQ!G35 -> 0
A13: 2 | B13: =+BOQ!C38 -> DOORS AND WINDOWS | C13: =+BOQ!G77 -> 0
A15: 3 | B15: =+BOQ!C80 -> FINISHES | C15: =+BOQ!G115 -> 0
A17: 4 | B17: =+BOQ!C118 -> FURNITURE AND FITTINGS | C17: =+BOQ!G177 -> 0
A19: 5 | B19: =+BOQ!C180 -> ELECTRICAL | C19: =+BOQ!G194 -> 0
A21: 6 | B21: =BOQ!C197 -> TENDERER'S ADDITION
A23: 7 | B23: =BOQ!C224 -> TENDERER'S OMISSION
A37: GRAND TOTAL | C37: =SUM(C11:C36) -> 0

Sheet BOQ
B3: Item | C3: Description | D3: Unit | E3: Qty | F3: Rate | G3: Total
C6: BILL No: 01
C7: PRELIMINARIES
B9: 1.1 | C9: DEMOLITION & SITE CLEARANCE
C10: Rates shall include for: removal of doors, windows, sanitary and electrical fixtures without damage and demolition of masonry walls, floor tiles and clearing the area by disposing of debris in specified location. Rates shall include for making good of any affected areas
B11: 1 | C11: Demolition and Site clearing including leveling site and transporting and disposing of all debris to where directed. | D11: LS | E11: 1
B13: 1.2 | C13: SAFETY ON SITE
C14: Safety on site:- Providing and maintaining adequate safety measures on site for all workers and all authorized visitors on site and protecting adjoining properties and people against falling objects or other with regard to the construction works | D14: LS | E14: 1
B16: 1.3 | C16: TEMPORARY FENCING
C17: Supply, erect and maintenance of a fence throughout the construction period and hoarding all along the perimeter of the site. | D17: LS | E17: 1
B19: 1.4 | C19: SIGN BOARD
C20: Provide sign board throughout the construction period and hoarding all along the perimeter of the site. | D20: LS | E20: 1
B22: 1.5 | C22: SITE MANAGEMENT COST
C23: Provide sign board throughout the construction period and hoarding all along the perimeter of the site. | D23: LS | E23: 1
C35: TOTAL OF BILL No: 01 - PRELIMINARIES | G35: =SUM(G11:G33) -> 0
C37: BILL N0: 02
C38: DOORS AND WINDOWS
B40: 2.1 | C40: General
C41: (a) Rates shall include for locks, latches, closers, push plates, pull handles, bolts, kick plates, hinges and all door & window hardware.
C42: (b) Rates shall include for door frames and window frames, mullions, transoms, trims, glazing, tinting, timber panels, boardings, framing, lining, fastenings and all fixings and installation.
C43: (c) All door frames and window frames shall be as specified in the drawing
C44: (d) Rates shall include for all painting as specified.
B46: 2.2 | C46: DOORS
B47: 1 | C47: D1 - Treated timber doors, 846mm wide | D47: No | E47: 1 | G47: =E47*F47 -> 0
B48: 2 | C48: D2 - Treated timber doors, 1514mm wide | D48: No | E48: 1 | G48: =E48*F48 -> 0
B49: 3 | C49: D3 - Treated timber doors, 846mm wide | D49: No | E49: 1 | G49: =E49*F49 -> 0
B50: 4 | C50: D4 - Treated timber doors with wood slats, 765mm wide | D50: No | E50: 2 | G50: =E50*F50 -> 0
C77: TOTAL OF DIVISION No: 02 - DOORS AND WINDOWS | G77: =SUM(G43:G75) -> 0
C79: BILL N0: 3
C80: FINISHES
B82: 3.1 | C82: GENERAL
C83: (a) Rates shall include for: motar, fixing, bedding, grouting, and pointing materials; making good around pipes, sanitary fixtures, and similar; cleaning down and polishing.
B85: 3.2 | C85: FLOOR FINISHES
B86: 3.2.1 | C86: Laminate floor finish in waiting area including under lay and adhesives and accessories as per interior drawings and specifications | D86: m² | E86: 48.9 | G86: =E86*F86 -> 0
B88: 3.2.2 | C88: 600 x 600 mm Homogeneous floor tiles in store room | D88: m² | E88: 10.58 | G88: =E88*F88 -> 0
B90: 3.3 | C90: WALL FINISHES
B91: 3.3.1 | C91: Emulsion paint finish on internal walls in a satin paint finish including wall putty application | D91: m² | E91: 203.4 | G91: =E91*F91 -> 0
B93: 3.3.2 | C93: Wall paper finish including adehesives as per interior drawings and specifications | D93: m² | E93: 7.7 | G93: =E93*F93 -> 0
B95: 3.3.3 | C95: 20 x 20mm Wood slat feature wall with wood dye finish with including all fixings and finishes as per interior drawings and specifications | D95: m² | E95: 30.1 | G95: =E95*F95 -> 0
B97: 3.4 | C97: CEILING FINISHES
...
