Workbook

Sheet Cover
B22: IGMH HR OFFICE RENOVATION
B23: BILL OF QUANTITIES
B26: AUGUST 2023

Sheet summary
A2: IGMH HR OFFICE RENOVATIONS
A4: Summary of Bills of Quantities
A7: Bill no | B7: Description | C7: Amount
A11: 1 | B11: =+BOQ!C7 -> PRELIMINARIES | C11: =+BOQ!G35 -> 0
A13: 2 | B13: =+BOQ!C38 -> DOORS AND WINDOWS | C13: =+BOQ!G77 -> 0
A15: 3 | B15: =+BOQ!C80 -> FINISHES | C15: =+BOQ!G115 -> 0
A17: 4 | B17: =+BOQ!C118 -> FURNITURE AND FITTINGS | C17: =+BOQ!G177 -> 0
A19: 5 | B19: =+BOQ!C180 -> ELECTRICAL | C19: =+BOQ!G194 -> 0
A21: 6 | B21: =BOQ!C197 -> TENDERER'S ADDITION
A23: 7 | B23: =BOQ!C224 -> TENDERER'S OMISSION
A37: GRAND TOTAL | C37: =SUM(C11:C36) -> 0

Sheet BOQ
B3: Item | C3: Description | D3: Unit | E3: Qty | F3: Rate | G3: Total
C6: BILL No: 01
C7: PRELIMINARIES
B9: 1.1 | C9: DEMOLITION & SITE CLEARANCE
C10: Rates shall include for: removal of doors, windows, sanitary and electrical fixtures without damage and demolition of masonry walls, floor tiles and clearing the area by disposing of debris in specified location. Rates shall include for making good of any affected areas
B11: 1 | C11: Demolition and Site clearing including leveling site and transporting and disposing of all debris to where directed. | D11: LS | E11: 1
B13: 1.2 | C13: SAFETY ON SITE
C14: Safety on site:- Providing and maintaining adequate safety measures on site for all workers and all authorized visitors on site and protecting adjoining properties and people against falling objects or other with regard to the construction works | D14: LS | E14: 1
B16: 1.3 | C16: TEMPORARY FENCING
C17: Supply, erect and maintenance of a fence throughout the construction period and hoarding all along the perimeter of the site. | D17: LS | E17: 1
B19: 1.4 | C19: SIGN BOARD
C20: Provide sign board throughout the construction period and hoarding all along the perimeter of the site. | D20: LS | E20: 1
B22: 1.5 | C22: SITE MANAGEMENT COST
C23: Provide sign board throughout the construction period and hoarding all along the perimeter of the site. | D23: LS | E23: 1
C35: TOTAL OF BILL No: 01 - PRELIMINARIES | G35: =SUM(G11:G33) -> 0
C37: BILL N0: 02
C38: DOORS AND WINDOWS
B40: 2.1 | C40: General
C41: (a) Rates shall include for locks, latches, closers, push plates, pull handles, bolts, kick plates, hinges and all door & window hardware.
C42: (b) Rates shall include for door frames and window frames, mullions, transoms, trims, glazing, tinting, timber panels, boardings, framing, lining, fastenings and all fixings and installation.
C43: (c) All door frames and window frames shall be as specified in the drawing
C44: (d) Rates shall include for all painting as specified.
B46: 2.2 | C46: DOORS
B47: 1 | C47: D1 - Treated timber doors, 846mm wide | D47: No | E47: 1 | G47: =E47*F47 -> 0
B48: 2 | C48: D2 - Treated timber doors, 1514mm wide | D48: No | E48: 1 | G48: =E48*F48 -> 0
B49: 3 | C49: D3 - Treated timber doors, 846mm wide | D49: No | E49: 1 | G49: =E49*F49 -> 0
B50: 4 | C50: D4 - Treated timber doors with wood slats, 765mm wide | D50: No | E50: 2 | G50: =E50*F50 -> 0
C77: TOTAL OF DIVISION No: 02 - DOORS AND WINDOWS | G77: =SUM(G43:G75) -> 0
C79: BILL N0: 3
C80: FINISHES
B82: 3.1 | C82: GENERAL
C83: (a) Rates shall include for: motar, fixing, bedding, grouting, and pointing materials; making good around pipes, sanitary fixtures, and similar; cleaning down and polishing.
B85: 3.2 | C85: FLOOR FINISHES
B86: 3.2.1 | C86: Laminate floor finish in waiting area including under lay and adhesives and accessories as per interior drawings and specifications | D86: m² | E86: 48.9 | G86: =E86*F86 -> 0
B88: 3.2.2 | C88: 600 x 600 mm Homogeneous floor tiles in store room | D88: m² | E88: 10.58 | G88: =E88*F88 -> 0
B90: 3.3 | C90: WALL FINISHES
B91: 3.3.1 | C91: Emulsion paint finish on internal walls in a satin paint finish including wall putty application | D91: m² | E91: 203.4 | G91: =E91*F91 -> 0
B93: 3.3.2 | C93: Wall paper finish including adehesives as per interior drawings and specifications | D93: m² | E93: 7.7 | G93: =E93*F93 -> 0
B95: 3.3.3 | C95: 20 x 20mm Wood slat feature wall with wood dye finish with including all fixings and finishes as per interior drawings and specifications | D95: m² | E95: 30.1 | G95: =E95*F95 -> 0
B97: 3.4 | C97: CEILING FINISHES
B98: 3.4.1 | C98: Primer and paint finish on ceilings and slab soffits | D98: m² | E98: 59.5 | G98: =E98*F98 -> 0
C115: TOTAL OF BILL No: 03 - FINISHES | G115: =SUM(G86:G102) -> 0
C117: BILL N0: 4
C118: FURNITURE AND FITTINGS
B120: 4.1 | C120: GENERAL
C121: (a) Rates shall include for locks, latches, closers, push plates, pull handles, bolts, kick plates, hinges and all hardware.
C122: (b) Rates shall include for door frames and window frames, mullions, transoms, trims, glazing, tinting, timber panels, boardings, framing, lining, fastenings and all fixings and installation.
C123: (c) Rates shall include for all primers and finishes as specified.
B125: 4.2 | C125: Leather armchair as per interior drawings 650W x 600D x 750mm H x 430 mm SH | D125: no | E125: 4 | G125: =E125*F125 -> 0
B127: 4.3 | C127: White wooden side table as per interior drawings 500W x 500D x 540mm H | D127: no | E127: 2 | G127: =E127*F127 -> 0
B129: 4.4 | C129: Two piece coffee table 815W x 815D x 360mm H 435W x 435D x 435mm H | D129: no | E129: 1 | G129: =E129*F129 -> 0
G130: =E130*F130 -> 0
B131: 4.5 | C131: Office chair 540W x 580D x 900mm H x 450 SH | D131: no | E131: 2 | G131: =E131*F131 -> 0
B133: 4.6 | C133: RECEPTION FRONT DESK
B134: 4.6.1 | C134: Complete supply and installation of reception desk, feature wall behind the desk and filing cabinets including all fixings, fittings, finishes and accessories | D134: Item | E134: 1 | G134: =E134*F134 -> 0
B136: 4.7 | C136: STANDING DESK - TV WALL
B137: 4.7.1 | C137: Complete supply and installation of TV wall with Wood Floating table as per detail including all fixings, fittings, finishes and accessories | D137: Item | E137: 1 | G137: =E137*F137 -> 0
B139: 4.8 | C139: DISPLAY WALL
B140: 4.8.1 | C140: Complete supply and installation of display wall acrylic sheet with mission, vision, values printing including all fixings, fittings, finishes and accessories as per the interior drawings and specifications | D140: Item | E140: 1 | G140: =E140*F140 -> 0
B144: 4.9 | C144: STANDING TABLE
B145: 4.9.1 | C145: Complete supply and installation of standing table with tempered glass top surface including all fixings, fittings, finishes and accessories as per the interior drawings and specifications | D145: Item | E145: 1
B147: 4.1 | C147: SOFA
B148: 4.10.1 | C148: Complete supply and installation of Sofa including framing, cushions, side table, fixings, fittings, finishes and accessories as per the interior drawings and specifications | D148: Item | E148: 1
B151: 4.11 | C151: Provision for supply of indoor plants for the standing table, beside the feature wall and on the side table | D151: LS
B153: 4.12 | C153: Complete supply and installation of LOGO including all fixings, fittings, finishes and accessories as per the interior drawings and specifications | D153: LS
B155: 4.13 | C155: Complete supply and installation of notice boards including all fixings, fittings, finishes and accessories as per the interior drawings and specifications | D155: LS
B157: 4.14 | C157: Supply and installation of 60inch T.V including all fixings and accessories | D157: LS
B159: 4.15 | C159: Supply and installation of flier holder on wall including all fixings and accessories | D159: LS
B161: 4.16 | C161: Supply and installation of vases and lamp for the coffe tables and side tables | D161: LS
C177: TOTAL OF BILL No: 04 - FURNITURE AND FITTINGS | G177: =SUM(G122:G176) -> 0
C179: BILL No: 05
C180: ELECTRICAL
B182: 5.1 | C182: ELECTRICAL MAINS
C183: (a) Rates shall include for electrical conduits, fittings, equipment and similar all fixings to various building surfaces
B184: 5.1.1 | C184: Allow for installation of Distribution Boards, earthing, connections, testing and commissioning as to the requirements of STELCO | D184: LS | F184: included
B185: 5.1.2 | C185: Allow for installation of lights, switches, power sockets, computer network outlets, t.v outlets etc | D185: LS | F185: included
C194: TOTAL OF BILL No: 05 - ELECTRICAL
C196: BILL No: 6
C197: TENDERER'S ADDITION
C221: TOTAL OF BILL No: 6 - TENDERER'S ADDITIONS
C223: BILL No: 7
C224: TENDERER'S OMISSION
C271: TOTAL OF BILL No: 7 - TENDERER'S OMMISSIONS
