Workbook

Sheet Sheet1
B4: =Summary!A1 -> DHARUMAVANTHA HOSPITAL 18TH FLOOR
B5: IGMH HOSPITAL
B7: 46169

Sheet Summary
A1: DHARUMAVANTHA HOSPITAL 18TH FLOOR
A2: SUMMARY OF BILLS OF QUANTITIES
A5: BILL No. | B5: DESCRIPTION | C5: AMOUNT
A6: 1 | B6: TOTAL OF BILL NO. 01 (PRELIMINARIES) | C6: =BOQ!G24 -> 0
A7: 2 | B7: TOTAL OF BILL NO. 02 (Demolition Work) | C7: =BOQ!G35 -> 0
A8: 3 | B8: TOTAL OF BILL NO. 03 (Door & Windows) | C8: =BOQ!G46 -> 0
A9: 4 | B9: TOTAL OF BILL NO. 04 (Floor & Wall Finishing) | C9: =BOQ!G57 -> 0
A10: 5 | B10: TOTAL OF BILL NO. 05 (Ceiling) | C10: =BOQ!G65 -> 0
A11: 6 | B11: TOTAL OF BILL NO. 06 (Partition & Furniture works) | C11: =BOQ!G80 -> 0
A12: 7 | B12: TOTAL OF BILL NO. 07 (Electrical & Mechanical Works) | C12: =BOQ!G94 -> 0
A13: 8 | B13: TOTAL OF BILL NO. 08 (Hydraulics & Drainage) | C13: =BOQ!G103 -> 0
A14: 9 | B14: TOTAL OF BILL NO. 09 (ADDITIONS) | C14: =BOQ!G134 -> 0
A15: 10 | B15: TOTAL OF BILL NO. 10 (OMISSIONS) | C15: =BOQ!G147 -> 0
B16: TOTAL | C16: =SUM(C6:C15) -> 0
B17: GST 8% | C17: =C16*0.08 -> 0
B18: GRAND TOTAL | C18: =C16+C17 -> 0

Sheet BOQ
A1: DHARUMAVANTHA HOSPITAL 18TH FLOOR – RENOVATION (Proposed Respiratory medicine)
A2: Item | B2: Description | C2: Unit | D2: QTY | E2: LABOUR RATE | F2: MATERIAL RATE | G2: TOTAL AMOUNT
B3: Bill NO: 1
A4: 1 | B4: PRELIMINARIES
A5: 1.1 | B5: General Notes
A6: 1) | B6: Abbreviations
B7: m - meter
B8: Nr - numbers
B9: m3 - cubic meter
B10: m2 - square meter
B11: Lm - Linear meter
B12: t - tonnes
B13: md - including
B14: mm - millimeter
B15: dia - diameter
B16: SS - Stainless Steel
B17: GI - Galvanised Iron
A19: 1.2 | B19: Site Management Costs
A20: 1.2.1 | B20: Allow for all on and off site management cost including costs of foreman and assistants, temporary services, telephone, fax, hoardings and similar. | C20: item | D20: 1 | G20: =D20*(E20+F20) -> 0
A21: 1.3 | B21: Clean-up
A22: 1.3.1 | B22: Allow for clean-up of completed works and site upon completion. | C22: item | D22: 1 | G22: =D22*(E22+F22) -> 0
B23: GENERAL (a) Rates shall include for: cleaning out cavities, forming rebated reveals and pointing and cleaning down to reveals where necessary; fractional size blocks, all necessary machine cutting, cutting or forming chases or edges of floor slabs, cutting or leaving holes and openings as recesses for and building in pipes, conduits, sleeves and similar as required for all trades; leaving surfaces rough or raking out joints for plastering and flashings, bedding frames or plates, building in joists, bearers or similar, temporary supports to openings, templates, reinforcement in walls and for all necessary making good.
A24: TOTAL OF BILL NO. 01 (PRELIMINARIES) (CARRIED OVER TO THE GENERAL SUMMARY) | G24: =G20+G22 -> 0
A25: Bill No: 02 – Demolition Work
A26: Item | B26: Description | C26: Unit | D26: QTY | E26: LABOUR RATE | F26: MATERIAL RATE | G26: TOTAL AMOUNT
B27: Bill No: 02
A28: 2 | B28: Demolition Work
A29: 2.1 | B29: General
A30: a | B30: Demolition of mentined locations and dispatch all debris, clearing and dispose all unwanted materials away from site and prepare site ready for proposed construction.
A31: b | B31: Rate shall include demolishing, dismantling and removing with the minimim damage to the structure, temprary supporting protecting existing works, property against damage, dust and weather and spraying water periodically to reduce the amount of dust
A33: 2.2 | B33: Demolition Work
A34: 2.2.1 | B34: Demolish walls, doors, built-in furniture, kitchen sets, wardrobes and modifications as indicated on 18th Floor Demolition Plan Drawing A-01 | C34: item | D34: 1 | G34: =D34*(E34+F34) -> 0
A35: TOTAL OF BILL NO. 02 (DEMOLITION WORK) (CARRIED OVER TO THE GENERAL SUMMARY) | G35: =G34 -> 0
A36: Item | B36: Description | C36: Unit | D36: QTY | E36: LABOUR RATE | F36: MATERIAL RATE | G36: TOTAL AMOUNT
B37: Bill No: 03
A38: 3 | B38: Door & Windows
A39: 3.1 | B39: General
B40: a) Rates shall include for locks, latches, closers, push plates, pull handles, bolts, kick plates, hinges and all door & window hardware. b) Rates shall include for door frames and window frames, mullions, transoms, trims, glazing, tinting, timber panels, boardings, framing, lining, fastenings and all fixings and installation. c) All door and window frames and panels shall be as specified in the drawing. d) The contractor shall take delivery and fixing.
A41: 3.2 | B41: Door & Windows
B42: Per Door & Window Schedule – Drawing A-03. D1: WPC frame, timber laminate/solid panel (2100H x 1000W). SD1: Sliding door, solid timber laminate (2200H x 1524W, sliding track). One door opening to be closed per drawing legend.
...
