Workbook

Sheet Sheet1
B4: =Summary!A1 -> DHARUMAVANTHA HOSPITAL 18TH FLOOR
B5: IGMH HOSPITAL
B7: 46169

Sheet Summary
A1: DHARUMAVANTHA HOSPITAL 18TH FLOOR
A2: SUMMARY OF BILLS OF QUANTITIES
A5: BILL No. | B5: DESCRIPTION | C5: AMOUNT
A6: 1 | B6: TOTAL OF BILL NO. 01 (PRELIMINARIES) | C6: =BOQ!G24 -> 0
A7: 2 | B7: TOTAL OF BILL NO. 02 (Demolition Work) | C7: =BOQ!G35 -> 0
A8: 3 | B8: TOTAL OF BILL NO. 03 (Door & Windows) | C8: =BOQ!G46 -> 0
A9: 4 | B9: TOTAL OF BILL NO. 04 (Floor & Wall Finishing) | C9: =BOQ!G57 -> 0
A10: 5 | B10: TOTAL OF BILL NO. 05 (Ceiling) | C10: =BOQ!G65 -> 0
A11: 6 | B11: TOTAL OF BILL NO. 06 (Partition & Furniture works) | C11: =BOQ!G80 -> 0
A12: 7 | B12: TOTAL OF BILL NO. 07 (Electrical & Mechanical Works) | C12: =BOQ!G94 -> 0
A13: 8 | B13: TOTAL OF BILL NO. 08 (Hydraulics & Drainage) | C13: =BOQ!G103 -> 0
A14: 9 | B14: TOTAL OF BILL NO. 09 (ADDITIONS) | C14: =BOQ!G134 -> 0
A15: 10 | B15: TOTAL OF BILL NO. 10 (OMISSIONS) | C15: =BOQ!G147 -> 0
B16: TOTAL | C16: =SUM(C6:C15) -> 0
B17: GST 8% | C17: =C16*0.08 -> 0
B18: GRAND TOTAL | C18: =C16+C17 -> 0

Sheet BOQ
A1: DHARUMAVANTHA HOSPITAL 18TH FLOOR – RENOVATION (Proposed Respiratory medicine)
A2: Item | B2: Description | C2: Unit | D2: QTY | E2: LABOUR RATE | F2: MATERIAL RATE | G2: TOTAL AMOUNT
B3: Bill NO: 1
A4: 1 | B4: PRELIMINARIES
A5: 1.1 | B5: General Notes
A6: 1) | B6: Abbreviations
B7: m - meter
B8: Nr - numbers
B9: m3 - cubic meter
B10: m2 - square meter
B11: Lm - Linear meter
B12: t - tonnes
B13: md - including
B14: mm - millimeter
B15: dia - diameter
B16: SS - Stainless Steel
B17: GI - Galvanised Iron
A19: 1.2 | B19: Site Management Costs
A20: 1.2.1 | B20: Allow for all on and off site management cost including costs of foreman and assistants, temporary services, telephone, fax, hoardings and similar. | C20: item | D20: 1 | G20: =D20*(E20+F20) -> 0
A21: 1.3 | B21: Clean-up
A22: 1.3.1 | B22: Allow for clean-up of completed works and site upon completion. | C22: item | D22: 1 | G22: =D22*(E22+F22) -> 0
B23: GENERAL (a) Rates shall include for: cleaning out cavities, forming rebated reveals and pointing and cleaning down to reveals where necessary; fractional size blocks, all necessary machine cutting, cutting or forming chases or edges of floor slabs, cutting or leaving holes and openings as recesses for and building in pipes, conduits, sleeves and similar as required for all trades; leaving surfaces rough or raking out joints for plastering and flashings, bedding frames or plates, building in joists, bearers or similar, temporary supports to openings, templates, reinforcement in walls and for all necessary making good.
A24: TOTAL OF BILL NO. 01 (PRELIMINARIES) (CARRIED OVER TO THE GENERAL SUMMARY) | G24: =G20+G22 -> 0
A25: Bill No: 02 – Demolition Work
A26: Item | B26: Description | C26: Unit | D26: QTY | E26: LABOUR RATE | F26: MATERIAL RATE | G26: TOTAL AMOUNT
B27: Bill No: 02
A28: 2 | B28: Demolition Work
A29: 2.1 | B29: General
A30: a | B30: Demolition of mentined locations and dispatch all debris, clearing and dispose all unwanted materials away from site and prepare site ready for proposed construction.
A31: b | B31: Rate shall include demolishing, dismantling and removing with the minimim damage to the structure, temprary supporting protecting existing works, property against damage, dust and weather and spraying water periodically to reduce the amount of dust
A33: 2.2 | B33: Demolition Work
A34: 2.2.1 | B34: Demolish walls, doors, built-in furniture, kitchen sets, wardrobes and modifications as indicated on 18th Floor Demolition Plan Drawing A-01 | C34: item | D34: 1 | G34: =D34*(E34+F34) -> 0
A35: TOTAL OF BILL NO. 02 (DEMOLITION WORK) (CARRIED OVER TO THE GENERAL SUMMARY) | G35: =G34 -> 0
A36: Item | B36: Description | C36: Unit | D36: QTY | E36: LABOUR RATE | F36: MATERIAL RATE | G36: TOTAL AMOUNT
B37: Bill No: 03
A38: 3 | B38: Door & Windows
A39: 3.1 | B39: General
B40: a) Rates shall include for locks, latches, closers, push plates, pull handles, bolts, kick plates, hinges and all door & window hardware. b) Rates shall include for door frames and window frames, mullions, transoms, trims, glazing, tinting, timber panels, boardings, framing, lining, fastenings and all fixings and installation. c) All door and window frames and panels shall be as specified in the drawing. d) The contractor shall take delivery and fixing.
A41: 3.2 | B41: Door & Windows
B42: Per Door & Window Schedule – Drawing A-03. D1: WPC frame, timber laminate/solid panel (2100H x 1000W). SD1: Sliding door, solid timber laminate (2200H x 1524W, sliding track). One door opening to be closed per drawing legend.
A43: 3.2.1 | B43: D1 – Door (WPC frame, timber laminate solid panel, complete with frame, hardware, hinges and all fixings) – as per Door & Window Schedule Drawing A-03 | C43: nr | D43: 4 | G43: =D43*(E43+F43) -> 0
A44: 3.2.2 | B44: SD1 – Sliding Door (solid timber laminate, 2200H x 1524W, complete with sliding track, frame and hardware) – as per Door & Window Schedule Drawing A-03 | C44: nr | D44: 1 | G44: =D44*(E44+F44) -> 0
A45: 3.2.3 | B45: Close off / block existing door opening (stud wall infill with board and finish) – as indicated "DOOR OPENING TO BE CLOSED" on Proposed Plan A-02 | C45: nr | D45: 1 | G45: =D45*(E45+F45) -> 0
A46: TOTAL OF BILL NO. 03 (DOOR & WINDOWS) (CARRIED OVER TO THE GENERAL SUMMARY) | G46: =G43+G44+G45 -> 0
A47: Item | B47: Description | C47: Unit | D47: QTY | E47: LABOUR RATE | F47: MATERIAL RATE | G47: TOTAL AMOUNT
B48: Bill No: 04
A49: 4 | B49: Floor & Wall Finishing
A50: 4.1 | B50: General
B51: a) Rates shall include for: mortar, fixing, bedding, grouting, and pointing materials; making good around pipes, sanitary fixtures, and similar; cleaning down and polishing. b) Tiles to be fixed with Tile Adhesive Cement. c) Rates shall include for mitre joints for projected edges.
A52: 4.2 | B52: Antimicrobial Wall Panel
B53: BIOMAX or similar approved antimicrobial wall panel. To be applied in clinical areas: OT, Bronchoscopy Unit, Rehabilitation Unit, Immunotherapy Room, PFT Room and Consultation Rooms as indicated on Proposed Plan A-02.
A54: 4.2.1 | B54: ANTIMICROBIAL WALL PANEL (BIOMAX OR SIMILAR) – supply and fix including adhesive, trims and sealant (clinical areas as per Proposed Plan) | C54: m² | D54: 32 | G54: =D54*(E54+F54) -> 0
A55: 4.3 | B55: Wall Painting
A56: 4.3.1 | B56: General paint work – (preparation, primer, 2 coats emulsion paint, including clinical-grade paint to OT, Bronchoscopy and clinical rooms) | C56: L-SUM | D56: 1 | G56: =D56*(E56+F56) -> 0
A57: TOTAL OF BILL NO. 04 (FLOOR & WALL FINISHING) (CARRIED OVER TO THE GENERAL SUMMARY) | G57: =G54+G56 -> 0
A58: Item | B58: Description | C58: Unit | D58: QTY | E58: LABOUR RATE | F58: MATERIAL RATE | G58: TOTAL AMOUNT
B59: Bill No: 05
A60: 5 | B60: Ceiling
A61: 5.1 | B61: General
B62: a) Internal ceiling areas are of 9mm thick Fibre Plaster Board fixed on to standard internal hardwood framework and finished with Matte White Emulsion Paint after smooth putty finish. b) Box up for concealing AC pipes to indoor unit height and hot water pipes 50mm below beam bottom with standard internal hardwood framework and 9mm thick plasterboard. c) Rates shall include for removing, replace, framing, fixing and all other works.
A63: 5.2 | B63: Plaster Board Ceiling
A64: 5.2.1 | B64: Ceiling modifications were required | C64: L-SUM | D64: 1 | G64: =D64*(E64+F64) -> 0
A65: TOTAL OF BILL NO. 05 (CEILING) (CARRIED OVER TO THE GENERAL SUMMARY) | G65: =G64 -> 0
A66: Item | B66: Description | C66: Unit | D66: QTY | E66: LABOUR RATE | F66: MATERIAL RATE | G66: TOTAL AMOUNT
B67: Bill No: 06
B68: Partition & Furniture works
A69: 6.1 | B69: General
B70: a) Rates shall include for: screws, nails and fixing or supporting clips, and all other works to re-install the equipment and cabinet. b) Rates shall include for: installation of Cabinets, as shown in the detail cabinet drawings. c) Rates shall include all pipe work, electrical wiring, insulation, re-install the equipment and cabinet. d) Rates shall include for removing, replace, framing, fixing and all other works.
A71: 6.2 | B71: New Partitions (Stud Wall System)
B72: New stud wall partitions as indicated (red hatched) on 18th Floor Proposed Plan Drawing A-02. Typical stud wall system per Detail Drawing A-06: C-channel top/bottom/vertical tracks, cement fibre board/Shera Board back-to-back both faces, acoustic insulation between studs.
A73: 6.2.1 | B73: New stud wall partition system – C-channel frame, Shera Board/Cement Fibre Board both faces, acoustic insulation (as per Detail Drawing A-06 and Proposed Plan A-02) | C73: m² | D73: 40 | G73: =D73*(E73+F73) -> 0
A74: 6.3 | B74: Furniture & Counters
B75: Furniture items as shown on 18th Floor Proposed Plan A-02 and detail drawings A-04, A-05.
A76: 6.3.1 | B76: Clean Utility Cabinet F1 (PVC board with PVC self-adhesive sticker finish, 15mm white marble/quartz counter top, 2100H – per Detail Drawing A-04) | C76: nr | D76: 1 | G76: =D76*(E76+F76) -> 0
A77: 6.3.2 | B77: Dirty Utility Cabinet F2 (PVC board with PVC self-adhesive sticker finish, 15mm white marble/quartz counter top, adjustable shelves, 2100H x 2300W – per Detail Drawing A-05) | C77: nr | D77: 1 | G77: =D77*(E77+F77) -> 0
A78: 6.3.3 | B78: Hospital-grade curtain with square weave design on top rail 18", including aluminium track system, curtain size 5500x2300, material to be approved by IGMH | C78: nr | D78: 3 | G78: =D78*(E78+F78) -> 0
A80: TOTAL OF BILL NO. 06 (PARTITION & FURNITURE WORKS) (CARRIED OVER TO THE GENERAL SUMMARY) | G80: =SUM(G73:G79) -> 0
A81: Item | B81: Description | C81: Unit | D81: QTY | E81: LABOUR RATE | F81: MATERIAL RATE | G81: TOTAL AMOUNT
B82: Bill No: 07 -
B83: Electrical & Mechanical Works
A84: 7.1 | B84: General
B85: a) Design, provide and install electrical network for the entire floor complete in accordance with the design and to standards set by the local governing bodies as per the given layout. b) All lighting and power circuits shall be wired with cu/pvc 2.5mm² cables in 25mm dia conduit. c) The Contractor shall provide detailed and complete set of shop drawings for all works in this section. d) Panel boards shall be complete with all required accessories including neutral bars, earth bars, fixing material etc.
A86: 7.2 | B86: Electrical Boards
A87: 7.2.1 | B87: Sub-distribution board modifications (complete with neutral bar, earth bar, MCBs and all accessories, as required for 18th floor) | C87: item | D87: 1 | G87: =D87*(E87+F87) -> 0
A88: 7.3 | B88: Power Points
A89: 7.3.1 | B89: 2x2 Gang 13A Socket Outlet (for clinical areas, consultation rooms, OT, rehabilitation and other areas as required) | C89: L-SUM | D89: 1 | G89: =D89*(E89+F89) -> 0
A90: 7.4 | B90: Electrical Wiring
A91: 7.4.1 | B91: Electrical wiring to power outlets with 2.5mm² copper conductor cables in conduit in walls and concrete as per government regulations | C91: L-SUM | D91: 1 | G91: =D91*(E91+F91) -> 0
A92: 7.5 | B92: Ducting / Mechanical
A93: 7.5.1 | B93: Ducting works for new exhaust – includes termination to outside of building (includes modification to existing exterior glass) for OT / Bronchoscopy Unit | C93: item | D93: 1 | G93: =D93*(E93+F93) -> 0
A94: TOTAL OF BILL NO. 07 (ELECTRICAL & MECHANICAL WORKS) (CARRIED OVER TO THE GENERAL SUMMARY) | G94: =G87+G89+G91+G93 -> 0
A95: Item | B95: Description | C95: Unit | D95: QTY | E95: LABOUR RATE | F95: MATERIAL RATE | G95: TOTAL AMOUNT
B96: Bill No: 08
B97: Hydraulics & Drainage
A98: 8.1 | B98: General
B99: a) Rates shall include for sockets, running joints, connectors, elbows, junctions, valves, reducers, expansion joints and similar, incidental fittings, clips, saddles, brackets, straps, hangers, screws, nails and fixing complete, including cutting. b) All fresh water pipe works and fittings shall be high pressure PVC (13.5 bars) and drain water pipes shall be medium pressure PVC (8.5 bars). c) All hot-water pipe works and fittings shall be PPR (13.5 bars). d) The contractor shall submit detailed shop drawings, catalogues etc. for approval of the Engineer.
A100: 8.2 | B100: Plumbing
A101: 8.2.1 | B101: Internal plumbing works – Dirty Utility sink | C101: item | D101: 1 | G101: =D101*(E101+F101) -> 0
A102: 8.2.2 | B102: Internal plumbing works – Bronchoscopy Unit | C102: item | D102: 1 | G102: =D102*(E102+F102) -> 0
A103: TOTAL OF BILL NO. 08 (HYDRAULICS & DRAINAGE) (CARRIED OVER TO THE GENERAL SUMMARY) | G103: =G101+G102 -> 0
...
