Workbook
Name Beg_Bal: '[1]Loan Calculator'!$C$18:$C$377
Name End_Bal: '[1]Loan Calculator'!$I$18:$I$377
Name Extra_Pay: '[1]Loan Calculator'!$E$18:$E$377
Name Full_Print: '[1]Loan Calculator'!$A$1:$I$377
Name Header_Row: ROW('[1]Loan Calculator'!$A$17:$IV$17)
Name Int: '[1]Loan Calculator'!$H$18:$H$377
Name Interest_Rate: '[1]Loan Calculator'!$D$5
Name Last_Row: IF(Values_Entered,Header_Row+Number_of_Payments,Header_Row)
Name Loan_Amount: '[1]Loan Calculator'!$D$4
Name Loan_Start: '[1]Loan Calculator'!$D$7
Name Loan_Years: '[1]Loan Calculator'!$D$6
Name Number_of_Payments: MATCH(0.01,End_Bal,-1)+1
Name Pay_Num: '[1]Loan Calculator'!$A$18:$A$377
Name Payment_Date: DATE(YEAR([0]!Loan_Start),MONTH([0]!Loan_Start)+Payment_Number,DAY([0]!Loan_Start))
Name Payment_Date: DATE(YEAR([0]!Loan_Start),MONTH([0]!Loan_Start)+Payment_Number,DAY([0]!Loan_Start))
Name Payment_Date: DATE(YEAR([0]!Loan_Start),MONTH([0]!Loan_Start)+Payment_Number,DAY([0]!Loan_Start))
Name Payment_Date: DATE(YEAR([0]!Loan_Start),MONTH([0]!Loan_Start)+Payment_Number,DAY([0]!Loan_Start))
Name Payment_Date: DATE(YEAR([0]!Loan_Start),MONTH([0]!Loan_Start)+Payment_Number,DAY([0]!Loan_Start))
Name Payment_Date: DATE(YEAR([0]!Loan_Start),MONTH([0]!Loan_Start)+Payment_Number,DAY([0]!Loan_Start))
Name Payment_Date: DATE(YEAR(Loan_Start),MONTH(Loan_Start)+Payment_Number,DAY(Loan_Start))
Name Princ: '[1]Loan Calculator'!$G$18:$G$377
Name Print_Area_Reset: OFFSET(Full_Print,0,0,Last_Row)
Name q: IF(Loan_Amount*Interest_Rate*Loan_Years*Loan_Start>0,1,0)
Name Sched_Pay: '[1]Loan Calculator'!$D$18:$D$377
Name Scheduled_Extra_Payments: '[1]Loan Calculator'!$D$8
Name Scheduled_Monthly_Payment: '[1]Loan Calculator'!$D$11
Name Total_Pay: '[1]Loan Calculator'!$F$18:$F$377
Name Total_Payment: Scheduled_Payment+Extra_Payment
Name Total_Payment: Scheduled_Payment+Extra_Payment
Name Total_Payment: Scheduled_Payment+Extra_Payment
Name Total_Payment: Scheduled_Payment+Extra_Payment
Name Total_Payment: Scheduled_Payment+Extra_Payment
Name Total_Payment: Scheduled_Payment+Extra_Payment
Name Total_Payment: Scheduled_Payment+Extra_Payment
Name Values_Entered: IF(Loan_Amount*Interest_Rate*Loan_Years*Loan_Start>0,1,0)

Sheet Cov
A6: BILL OF QUANTITIES
A11: IGMH- PROPOSED OFFICE & CEILING WORK
A32: REPUBLIC OF MALDIVES
A34: FEB 2025
B455: f) Concealed ceiling to all other areas should be covered with 90mm tk SCG elephant gypsum board with steel frame, beading, nails and screws, along with required inspection openings.

Sheet SUM_GR FL
A2: IGMH- PROPOSED OFFICE & CEILING WORK
A4: SUMMARY
A7: BILL NO | B7: DESCRIPTION | D7: AMOUNT | E7: CURRENCY
A9: 1 | B9: ='GL FL'!B3 -> BILL NO: 01 - PRELIMINARIES | D9: ='GL FL'!G26 -> 0 | E9: MVR
A11: 2 | B11: BILL NO: 02 - PROPOSED OFFICE | D11: ='GL FL'!G430 -> 0 | E11: MVR
A13: 3 | B13: BILL N0: 03 - GOOD DISPENSING AREA | D13: ='GL FL'!G452 -> 0 | E13: MVR
A15: 4 | B15: BILL N0: 04 - GOOD STORAGE ROOM | D15: ='GL FL'!G471 -> 0 | E15: MVR
A17: 5 | B17: BILL N0: 05 - COLD STORAGE | D17: ='GL FL'!G496 -> 0 | E17: MVR
A19: 6 | B19: BILL N0: 06- FILES MOVING TO HULHUMALE WAREHOUSE | D19: ='GL FL'!G518 -> 0 | E19: MVR
A20: SUB TOTAL = | D20: =SUM(D9:D19) -> 0 | E20: MVR
A21: GST 8% = | D21: =D20*8/100 -> 0 | E21: MVR
A22: GRAND TOTAL = | D22: =D20+D21 -> 0 | E22: MVR
A23: DURATION = | E23: DAYS
A24: VALIDITY = | E24: DAYS
B455: f) Concealed ceiling to all other areas should be covered with 90mm tk SCG elephant gypsum board with steel frame, beading, nails and screws, along with required inspection openings.

Sheet GL FL
A1: SL.NO | B1: DESCRIPTION | C1: UNIT | D1: QTY | E1: LABOUR RATE | F1: MATERIAL RATE | G1: TOTAL AMOUNT
B3: BILL NO: 01 - PRELIMINARIES
A4: 1.1 | B4: GENERAL
B5: Abbreviations
B6: m - meter
B7: nos - numbers
B8: Cu.m - cubic meter
B9: Sq.m - square meter
B10: Rm - Running meter
B11: Kg - Kilograms
B12: incl - including
B13: mm - millimeter
B14: dia - diameter
B15: SS - Stainless Steel
B16: GI - Galvanized Iron
A18: 1.2 | B18: MOBILIZATION
A19: 1.2.1 | B19: Rates shall include for: Removal of the existing shelf, removing the paint, clearing the site and removal of the exisitng Network cable. | C19: LS | D19: 1 | E19: 0 | F19: 0 | G19: =D19*E19+F19 -> 0
A20: 1.2.2 | B20: Removing Store area and office area ceiling after staffs shift to new office area | C20: LS | D20: 1 | E20: 0 | F20: 0 | G20: =D20*E20+F20 -> 0
A22: 1.3 | B22: TERMITE TREATMENT
A23: 1.3.1 | B23: Approved termite treatment is recommended as it is an extisting building. | C23: LS | D23: 1 | E23: 0 | F23: 0 | G23: =D23*E23+F23 -> 0
A26: TOTAL OF BILL NO. 01 - PRELIMINARIES | G26: =SUM(G19:G23) -> 0
A27: (CARRIED OVER TO THE GENERAL SUMMARY)
B29: BILL NO: 03
B30: CONCRETE WORKS
A31: 3.1 | B31: GENERAL
B32: a) Mix ratio for reinforced concrete & lean concrete shall be as specified by the structural engineer/as per drawing. | C32: note
B33: b) Rates for reinforcement shall include for: cleaning, fabrication, placing, the provision for all necessary temporary fixings and supports including tie wire and chair supports, laps and wastage. | C33: note
B34: c) Rates for reinforcement shall be given in compliance to all structural drawings and technical specifications. | C34: note
B35: d) Rates includes all necessary curing as per standard and third party testing over the cement, concrete cube and on steel and cube has to be cast for testing as per standard. | C35: note
A37: 3.2 | B37: CONCRETE WORKS
B38: LEAN CONCRETE
B39: Note: Quantity is measured to the edges of concrete members. Rates shall be inclusive of any additional concrete required to place the formwork.
A40: 3.2.1 | B40: 50mm thick lean concrete under the footing & tie beam with a mix of 1:2:4 | C40: Cu.m | D40: #REF! | E40: 5200 | G40: #REF!
B42: REINFORCED CONCRETE (1:2:3)
A43: 3.2.2 | B43: Raft - 400mm tk | C43: Cu.m | D43: 14.520375 | E43: 5200 | G43: 75505.95
A44: 3.2.3 | B44: Foundation beams | C44: Cu.m | D44: 17.7881 | E44: 5200 | G44: 92498.12
A45: 3.2.4 | B45: Columns | C45: Cu.m | D45: 1.8315 | E45: 5200 | G45: 9523.8
A46: 3.2.5 | B46: Lift wall | C46: Cu.m | D46: #REF! | E46: 5200 | G46: #REF!
A47: 3.2.6 | B47: Stair starter | C47: Cu.m | D47: 0.7215 | E47: 5200 | G47: 3751.8
A48: 3.2.7 | B48: Grade slab - 100mm tk | C48: Cu.m | D48: 15.877408 | E48: 5200 | G48: 82562.522
...

Sheet STR_
A1: FOUNDATION | B1: ISOLATED FOOTING
A4: EXCAVATION | B4: =F13+F21 -> 30.66035 | C4: Cu.m | I4: 50mm tk Sand bed | L4: =N13+N21 -> 61.70775 | M4: Sq.m
A6: Description | B6: Nos | C6: Length | D6: Width | E6: Depth | F6: Cu. Value | I6: Description | J6: Nos | L6: Length | M6: Width | N6: Sq.Value
A8: F1 | B8: 2 | C8: =2.1+0.05 -> 2.15 | D8: =2.1+0.05 -> 2.15 | E8: 0.35 | F8: =E8*D8*C8*B8 -> 3.23575 | G8: Need to add 50mm both side | I8: =A8 -> F1 | J8: =B8 -> 2 | L8: =C8 -> 2.15 | M8: =D8 -> 2.15 | N8: =M8*L8*J8 -> 9.245
A9: F2 | B9: 2 | C9: =1.85+0.05 -> 1.9 | D9: =1.85+0.05 -> 1.9 | E9: 0.3 | F9: =E9*D9*C9*B9 -> 2.166 | G9: Need to add 50mm both side | I9: =A9 -> F2 | J9: =B9 -> 2 | L9: =C9 -> 1.9 | M9: =D9 -> 1.9 | N9: =M9*L9*J9 -> 7.22
A10: F3 | B10: 9 | C10: =1.7+0.05 -> 1.75 | D10: =1.7+0.05 -> 1.75 | E10: 0.3 | F10: =E10*D10*C10*B10 -> 8.26875 | G10: Need to add 50mm both side | I10: =A10 -> F3 | J10: =B10 -> 9 | L10: =C10 -> 1.75 | M10: =D10 -> 1.75 | N10: =M10*L10*J10 -> 27.5625
A11: F4 | B11: 3 | C11: =1.45+0.05 -> 1.5 | D11: =1.45+0.05 -> 1.5 | E11: 0.25 | F11: =E11*D11*C11*B11 -> 1.6875 | G11: Need to add 50mm both side | I11: =A11 -> F4 | J11: =B11 -> 3 | L11: =C11 -> 1.5 | M11: =D11 -> 1.5 | N11: =M11*L11*J11 -> 6.75
A13: Total = | F13: =SUM(F7:F12) -> 15.358 | I13: Total = | N13: =SUM(N7:N12) -> 50.7775
A15: Description | B15: Nos | C15: Length | D15: Width | E15: Depth | F15: Cu. Value | I15: Description | J15: Nos | L15: Length | M15: Width/Depth | N15: Sq.Value
A17: TB1 | B17: 1 | C17: =N24 -> 6.89 | D17: 0.25 | E17: 1.4 | F17: =E17*D17*C17*B17 -> 2.4115 | I17: =A17 -> TB1 | J17: =B17 -> 1 | L17: =C17 -> 6.89 | M17: =D17 -> 0.25 | N17: =M17*L17*J17 -> 1.7225
A18: TB2 | B18: 1 | C18: =N25 -> 7.928 | D18: 0.25 | E18: 1.4 | F18: =E18*D18*C18*B18 -> 2.7748 | I18: =A18 -> TB2 | J18: =B18 -> 1 | L18: =C18 -> 7.928 | M18: =D18 -> 0.25 | N18: =M18*L18*J18 -> 1.982
A19: TB3 | B19: 1 | C19: =N26 -> 28.903 | D19: 0.25 | E19: 1.4 | F19: =E19*D19*C19*B19 -> 10.11605 | I19: =A19 -> TB3 | J19: =B19 -> 1 | L19: =C19 -> 28.903 | M19: =D19 -> 0.25 | N19: =M19*L19*J19 -> 7.22575
A21: Total = | F21: =SUM(F16:F20) -> 15.30235 | I21: Total = | N21: =SUM(N16:N20) -> 10.93025
A23: LENGTH DETAILS:
A24: =A17 -> TB1 | B24: =2.305 -> 2.305 | C24: =2.23 -> 2.23 | D24: =2.355 -> 2.355 | N24: =SUM(B24:M24) -> 6.89
A25: =A18 -> TB2 | B25: 2.645 | C25: 2 270 | D25: 2.678 | E25: 2.605 | N25: =SUM(B25:M25) -> 7.928
A26: =A19 -> TB3 | B26: 1.2 | C26: 3.22 | D26: 0.875 | E26: 3.02 | F26: 2.678 | G26: =2*1.05 -> 2.1 | H26: =2*3.27 -> 6.54 | I26: 2.434 | J26: =2.112*2 -> 4.224 | L26: =2.437+0.175 -> 2.612 | N26: =SUM(B26:M26) -> 28.903
A28: LEAN CONCRETE | B28: =F37+F45 -> 3.0853875 | C28: Cu.m
A30: Description | B30: Nos | C30: Length | D30: Width | E30: Depth | F30: Cu. Value
A32: =A8 -> F1 | B32: =B8 -> 2 | C32: =C8 -> 2.15 | D32: =D8 -> 2.15 | E32: 0.05 | F32: =E32*D32*C32*B32 -> 0.46225
A33: =A9 -> F2 | B33: =B9 -> 2 | C33: =C9 -> 1.9 | D33: =D9 -> 1.9 | E33: 0.05 | F33: =E33*D33*C33*B33 -> 0.361
A34: =A10 -> F3 | B34: =B10 -> 9 | C34: =C10 -> 1.75 | D34: =D10 -> 1.75 | E34: 0.05 | F34: =E34*D34*C34*B34 -> 1.378125
A35: =A11 -> F4 | B35: =B11 -> 3 | C35: =C11 -> 1.5 | D35: =D11 -> 1.5 | E35: 0.05 | F35: =E35*D35*C35*B35 -> 0.3375
A37: Total = | F37: =SUM(F31:F36) -> 2.538875
A39: Description | B39: Nos | C39: Length | D39: Width | E39: Depth | F39: Cu. Value
A41: =A17 -> TB1 | B41: =B17 -> 1 | C41: =C17 -> 6.89 | D41: =D17 -> 0.25 | E41: 0.05 | F41: =E41*D41*C41*B41 -> 0.086125
A42: TB2 | B42: 1 | C42: =C18 -> 7.928 | D42: =D18 -> 0.25 | E42: 0.05 | F42: =E42*D42*C42*B42 -> 0.0991
A43: =A19 -> TB3 | B43: =B19 -> 1 | C43: =C19 -> 28.903 | D43: =D19 -> 0.25 | E43: 0.05 | F43: =E43*D43*C43*B43 -> 0.3612875
A45: Total = | F45: =SUM(F40:F44) -> 0.5465125
A47: LENGTH DETAILS:
A48: =A41 -> TB1 | B48: =3.7*8 -> 29.6 | C48: =3.5*4 -> 14 | D48: =3.7*4 -> 14.8 | E48: =3.7*6 -> 22.2 | N48: =SUM(B48:M48) -> 80.6
A49: =A25 -> TB2 | B49: =B25 -> 2.645 | C49: =C25 -> 2 270 | D49: =D25 -> 2.678 | E49: =E25 -> 2.605 | N49: =SUM(B49:M49) -> 7.928
A50: =A43 -> TB3 | B50: =B26 -> 1.2 | C50: =C26 -> 3.22 | D50: =D26 -> 0.875 | E50: =E26 -> 3.02 | F50: =F26 -> 2.678 | G50: =G26 -> 2.1 | H50: =H26 -> 6.54 | I50: =I26 -> 2.434 | J50: =J26 -> 4.224 | L50: =L26 -> 2.612 | N50: =SUM(B50:M50) -> 28.903
A52: SOLID CONCRETE | H52: SHUTTERING | O52: BITUMEN LAYER | T52: BITUMEN LAYER
A53: FOOTING | B53: =F63 -> 14.520375 | C53: Cu.m | H53: =A53 -> FOOTING | I53: =M63 -> 33.03 | J53: Sq.m | O53: =H53 -> FOOTING | P53: =R63 -> 47.9825 | Q53: Sq.m | T53: =O53 -> FOOTING | U53: =W63 -> 33.03 | V53: Sq.m
A54: TIE BEAM | B54: =F70 -> 17.7881 | C54: Cu.m | H54: =A54 -> TIE BEAM | I54: =M70 -> 85.8848 | J54: Sq.m | O54: =H54 -> TIE BEAM | P54: =R70 -> 29.35775 | Q54: Sq.m | T54: =O54 -> TIE BEAM | U54: =W70 -> 85.8848 | V54: Sq.m
O55: TOP SURFACE | T55: SIDE
A56: Description | B56: Nos | C56: Length | D56: Width | E56: Depth | F56: Cu. Value | H56: Description | I56: Nos | J56: Length | K56: Extra | L56: Depth | M56: Sq. Value | O56: Description | P56: Nos | Q56: Area | R56: Sq.Value | T56: Description | U56: Perimeter | V56: Depth | W56: Sq.Value
A58: =A8 -> F1 | B58: =B8 -> 2 | C58: 2.1 | D58: 2.1 | E58: 0.35 | F58: =E58*D58*C58*B58 -> 3.087 | H58: =A58 -> F1 | I58: =B58 -> 2 | J58: =2*(C58+D58) -> 8.4 | K58: 0.05 | L58: =E58 -> 0.35 | M58: =I58*J58*L58 -> 5.88 | O58: =H58 -> F1 | P58: =I58 -> 2 | Q58: =C58*D58 -> 4.41 | R58: =Q58*P58 -> 8.82 | T58: =O58 -> F1 | U58: =J58 -> 8.4 | V58: =L58 -> 0.35 | W58: =V58*U58*I58 -> 5.88
A59: =A9 -> F2 | B59: =B9 -> 2 | C59: 1.85 | D59: 1.85 | E59: 0.3 | F59: =E59*D59*C59*B59 -> 2.0535 | H59: =A59 -> F2 | I59: =B59 -> 2 | J59: =2*(C59+D59) -> 7.4 | L59: =E59 -> 0.3 | M59: =I59*J59*L59 -> 4.44 | O59: =H59 -> F2 | P59: =I59 -> 2 | Q59: =C59*D59 -> 3.4225 | R59: =Q59*P59 -> 6.845 | T59: =O59 -> F2 | U59: =J59 -> 7.4 | V59: =L59 -> 0.3 | W59: =V59*U59*I59 -> 4.44
...

Sheet STR (MPH)
A1: FOUNDATION | B1: ISOLATED FOOTING
A4: EXCAVATION | B4: =F11+F18 -> 114.76452 | C4: Cu.m | I4: 50mm tk Sand bed | L4: =N11+N18 -> 93.2446 | M4: Sq.m
A6: Description | B6: Nos | C6: Length | D6: Width | E6: Depth | F6: Cu. Value | I6: Description | J6: Nos | L6: Length | M6: Width | N6: Sq.Value
A8: F1 | B8: 8 | C8: 1.8 | D8: 1.8 | E8: 1.25 | F8: =E8*D8*C8*B8 -> 32.4 | G8: Need to add 50mm both side | I8: =A8 -> F1 | J8: =B8 -> 8 | L8: =C8 -> 1.8 | M8: =D8 -> 1.8 | N8: =M8*L8*J8 -> 25.92
A9: F2 | B9: 14 | C9: 1.5 | D9: 1.5 | E9: 1.25 | F9: =E9*D9*C9*B9 -> 39.375 | G9: Need to add 50mm both side | I9: =A9 -> F2 | J9: =B9 -> 14 | L9: =C9 -> 1.5 | M9: =D9 -> 1.5 | N9: =M9*L9*J9 -> 31.5
A11: Total = | F11: =SUM(F7:F10) -> 71.775 | I11: Total = | N11: =SUM(N7:N10) -> 57.42
A13: Description | B13: Nos | C13: Length | D13: Width | E13: Depth | F13: Cu. Value | I13: Description | J13: Nos | L13: Length | M13: Width/Depth | N13: Sq.Value
A15: TB1 | B15: 1 | C15: =N21 -> 40.659 | D15: 0.35 | E15: 1.2 | F15: =E15*D15*C15*B15 -> 17.07678 | I15: =A15 -> TB1 | J15: =B15 -> 1 | L15: =C15 -> 40.659 | M15: =D15 -> 0.35 | N15: =M15*L15*J15 -> 14.23065
A16: TB2 | B16: 1 | C16: =N22 -> 61.697 | D16: 0.35 | E16: 1.2 | F16: =E16*D16*C16*B16 -> 25.91274 | I16: =A16 -> TB2 | J16: =B16 -> 1 | L16: =C16 -> 61.697 | M16: =D16 -> 0.35 | N16: =M16*L16*J16 -> 21.59395
A18: Total = | F18: =SUM(F14:F17) -> 42.98952 | I18: Total = | N18: =SUM(N14:N17) -> 35.8246
A20: LENGTH DETAILS:
A21: =A15 -> TB1 | B21: 4.3 | C21: 1.153 | D21: 1.3 | E21: 4.3 | F21: 1.3 | G21: 4.6 | H21: =4.45+4.45+1.5+1.05 -> 11.45 | I21: =4.328+1.8+4.328+1.8 -> 12.256 | N21: =SUM(B21:M21) -> 40.659
A22: =A16 -> TB2 | B22: 4.6 | C22: 4.6 | D22: 4.6 | E22: 1.6 | F22: 1.15 | G22: 1.597 | H22: 1.6 | I22: 1.6 | J22: 4.6 | L22: 4.6 | M22: =4.6+4.6+4.6+4.6+4.6+4.6+1.775+1.775 -> 31.15 | N22: =SUM(B22:M22) -> 61.697
A24: LEAN CONCRETE | B24: =F31+F38 -> 4.66223 | C24: Cu.m
A26: Description | B26: Nos | C26: Length | D26: Width | E26: Depth | F26: Cu. Value
A28: =A8 -> F1 | B28: =B8 -> 8 | C28: =C8 -> 1.8 | D28: =D8 -> 1.8 | E28: 0.05 | F28: =E28*D28*C28*B28 -> 1.296
A29: =A9 -> F2 | B29: =B9 -> 14 | C29: =C9 -> 1.5 | D29: =D9 -> 1.5 | E29: 0.05 | F29: =E29*D29*C29*B29 -> 1.575
A31: Total = | F31: =SUM(F27:F30) -> 2.871
A33: Description | B33: Nos | C33: Length | D33: Width | E33: Depth | F33: Cu. Value
A35: =A15 -> TB1 | B35: =B15 -> 1 | C35: =C15 -> 40.659 | D35: =D15 -> 0.35 | E35: 0.05 | F35: =E35*D35*C35*B35 -> 0.7115325
A36: =A16 -> TB2 | B36: =B16 -> 1 | C36: =C16 -> 61.697 | D36: =D16 -> 0.35 | E36: 0.05 | F36: =E36*D36*C36*B36 -> 1.0796975
A38: Total = | F38: =SUM(F34:F37) -> 1.79123
A40: SOLID CONCRETE | H40: SHUTTERING | O40: BITUMEN LAYER | T40: BITUMEN LAYER
A41: FOOTING | B41: =F49 -> 32.788 | C41: Cu.m | H41: =A41 -> FOOTING | I41: =M49 -> 66.08 | J41: Sq.m | O41: =H41 -> FOOTING | P41: =R49 -> 84.86 | Q41: Sq.m | T41: =O41 -> FOOTING | U41: =W49 -> 66.08 | V41: Sq.m
A42: TIE BEAM | B42: =F55 -> 0 | C42: Cu.m | H42: =A42 -> TIE BEAM | I42: =M55 -> 0 | J42: Sq.m | O42: =H42 -> TIE BEAM | P42: =R55 -> 0 | Q42: Sq.m | T42: =O42 -> TIE BEAM | U42: =W55 -> 0 | V42: Sq.m
O43: TOP SURFACE | T43: SIDE
A44: Description | B44: Nos | C44: Length | D44: Width | E44: Depth | F44: Cu. Value | H44: Description | I44: Nos | J44: Perimeter | K44: Extra | L44: Depth | M44: Sq. Value | O44: Description | P44: Nos | Q44: Area | R44: Sq.Value | T44: Description | U44: Perimeter | V44: Depth | W44: Sq.Value
A46: =A8 -> F1 | B46: =B8 -> 8 | C46: 1.7 | D46: 1.7 | E46: 0.35 | F46: =E46*D46*C46*B46 -> 8.092 | H46: =A46 -> F1 | I46: =B46 -> 8 | J46: =2*(C46+D46) -> 6.8 | K46: 0.05 | L46: =E46 -> 0.35 | M46: =I46*J46*L46 -> 19.04 | O46: =H46 -> F1 | P46: =I46 -> 8 | Q46: =C46*D46 -> 2.89 | R46: =Q46*P46 -> 23.12 | T46: =O46 -> F1 | U46: =J46 -> 6.8 | V46: =L46 -> 0.35 | W46: =V46*U46*I46 -> 19.04
A47: =A9 -> F2 | B47: =B9 -> 14 | C47: 2.1 | D47: 2.1 | E47: 0.4 | F47: =E47*D47*C47*B47 -> 24.696 | H47: =A47 -> F2 | I47: =B47 -> 14 | J47: =2*(C47+D47) -> 8.4 | L47: =E47 -> 0.4 | M47: =I47*J47*L47 -> 47.04 | O47: =H47 -> F2 | P47: =I47 -> 14 | Q47: =C47*D47 -> 4.41 | R47: =Q47*P47 -> 61.74 | T47: =O47 -> F2 | U47: =J47 -> 8.4 | V47: =L47 -> 0.4 | W47: =V47*U47*I47 -> 47.04
A49: Total = | F49: =SUM(F45:F48) -> 32.788 | H49: Total = | M49: =SUM(M46:M48) -> 66.08 | Q49: Total = | R49: =SUM(R46:R48) -> 84.86 | V49: Total = | W49: =SUM(W46:W48) -> 66.08
A51: Description | B51: Nos | C51: Length | D51: Width | E51: Depth | F51: Cu. Value | H51: Description | I51: Nos | J51: Length | K51: Extra | L51: Depth | M51: Sq. Value | O51: Description | P51: Length | Q51: Width | R51: Sq.Value | T51: Description | U51: Length | V51: Depth | W51: Sq.Value
A53: TB1 & TB2 | B53: 1 | C53: =N58 -> 0 | D53: 0.25 | E53: 0.4 | F53: =E53*D53*C53*B53 -> 0 | H53: =A53 -> TB1 & TB2 | I53: =B53 -> 1 | J53: =C53*2 -> 0 | K53: 0.05 | L53: 0.4 | M53: =J53*L53*I53 -> 0 | O53: TB | P53: =C53 -> 0 | Q53: =D53 -> 0.25 | R53: =Q53*P53*B53 -> 0 | T53: TB | U53: =J53 -> 0 | V53: =E53 -> 0.4 | W53: =V53*U53 -> 0
A55: Total = | F55: =SUM(F52:F54) -> 0 | H55: Total = | M55: =SUM(M52:M54) -> 0 | Q55: Total = | R55: =SUM(R51:R54) -> 0 | V55: Total = | W55: =SUM(W51:W54) -> 0
A57: LENGTH DETAILS:
A58: =A53 -> TB1 & TB2 | B58: 0 | C58: 0 | D58: 0 | E58: 0 | N58: =SUM(B58:M58) -> 0
A65: FOUNDATION | B65: RAFT FOUNDATION
A67: EXCAVATION | B67: =F73 -> 0 | C67: Cu.m | I67: 50mm tk Sand bed | L67: =N73 -> 0 | M67: Sq.m
A69: Description | B69: Nos | C69: Length/Area | D69: Width | E69: Depth | F69: Cu. Value | I69: Description | J69: Nos | L69: Length | M69: Width/Depth | N69: Sq.Value
A71: 450MM TK RAFT | B71: 0 | C71: 0 | D71: 0 | E71: 0 | F71: =B71*C71*E71 -> 0 | I71: =A71 -> 450MM TK RAFT | J71: =B71 -> 0 | L71: =C71 -> 0 | M71: =D71 -> 0 | N71: =L71*J71 -> 0
A73: Total = | F73: =SUM(F70:F72) -> 0 | I73: Total = | N73: =SUM(N70:N72) -> 0
...

Sheet FIN
A2: GROUND FLOOR
A4: BRICK WORK
A5: 150mm tk wall | B5: =D13-G36 -> 265.01064 | C5: Sq.m
A7: Description | B7: Length | C7: Depth | D7: Sq. Value
A9: 150mm outer wall (Beam Line) | B9: =P16 -> 40.872 | C9: =3-0.43+1 -> 3.57 | D9: =C9*B9 -> 145.91304 | E9: (From Tie beam to Roof Beam bottom)
A10: 150mm outer wall (Slab Line) | B10: =P17 -> 29.616 | C10: =3-0.15+1 -> 3.85 | D10: =C10*B10 -> 114.0216 | E10: (From Tie beam to Roof Beam bottom)
A11: 150mm outer wall (Slab Line) | B11: =P18 -> 14.73 | C11: 1.2 | D11: =C11*B11 -> 17.676 | E11: (From Tie beam to Roof Beam bottom)
A13: Total = | D13: =SUM(D8:D12) -> 277.61064
A15: Masonry wall Length
A16: =A9 -> 150mm outer wall (Beam Line) | B16: 5.014 | C16: 4.204 | D16: 4.204 | E16: 2.627 | F16: 0.15 | G16: 1.898 | H16: 1.15 | I16: =0.31+1.264 -> 1.574 | J16: 3.76 | K16: 5.555 | L16: 5.392 | M16: 1.675 | N16: =1.314+2.355 -> 3.669 | O16: 0 | P16: =SUM(B16:O16) -> 40.872
A17: =A10 -> 150mm outer wall (Slab Line) | B17: 5.615 | C17: 3.67 | D17: 1.584 | E17: 2.031 | F17: 2.4 | G17: 2.65 | H17: 4.1 | I17: =1.1+2.23 -> 3.33 | J17: 1.376 | K17: 2.86 | L17: 0 | M17: 0 | N17: 0 | O17: 0 | P17: =SUM(B17:O17) -> 29.616
A18: =A11 -> 150mm outer wall (Slab Line) | B18: 4.163 | C18: 1.661 | D18: 1.068 | E18: 2.145 | F18: 2.145 | G18: 1.774 | H18: 1.774 | I18: 0 | J18: 0 | K18: 0 | L18: 0 | M18: 0 | N18: 0 | O18: 0 | P18: =SUM(B18:O18) -> 14.73
A20: Deduction
A21: Description | B21: item | C21: Nos | D21: Width | E21: Depth | F21: Area | G21: Total area | H21: Counts | P21: Total area
A23: Outer | B23: W04 | C23: =P23 -> 1 | D23: 0.9 | E23: 1.5 | F23: =E23*D23 -> 1.35 | G23: =F23*C23 -> 1.35 | H23: 1 | I23: 0 | J23: 0 | K23: 0 | L23: 0 | M23: 0 | N23: 0 | O23: 0 | P23: =SUM(H23:O23) -> 1
B24: W02 | C24: =P24 -> 1 | D24: 1.8 | E24: 1.5 | F24: =E24*D24 -> 2.7 | G24: =F24*C24 -> 2.7 | H24: 1 | I24: 0 | J24: 0 | K24: 0 | L24: 0 | M24: 0 | N24: 0 | O24: 0 | P24: =SUM(H24:O24) -> 1
B25: D02 | C25: =P25 -> 1 | D25: 0.95 | E25: 2.25 | F25: =E25*D25 -> 2.1375 | G25: =F25*C25 -> 2.1375 | H25: 1 | I25: 0 | J25: 0 | K25: 0 | L25: 0 | M25: 0 | N25: 0 | O25: 0 | P25: =SUM(H25:O25) -> 1
A27: Inner | B27: D03 | C27: =P27 -> 3 | D27: 0.95 | E27: 2.25 | F27: =E27*D27 -> 2.1375 | G27: =F27*C27 -> 6.4125 | H27: 1 | I27: 2 | J27: 0 | K27: 0 | L27: 0 | M27: 0 | N27: 0 | O27: 0 | P27: =SUM(H27:O27) -> 3
B28: W02 | C28: =P28 -> 1 | D28: 1.8 | E28: 1.5 | F28: =E28*D28 -> 2.7 | G28: =F28*C28 -> 2.7 | H28: 1 | I28: 0 | J28: 0 | K28: 0 | L28: 0 | M28: 0 | N28: 0 | O28: 0 | P28: =SUM(H28:O28) -> 1
B29: W04 | C29: =P29 -> 1 | D29: 0.9 | E29: 1.5 | F29: =E29*D29 -> 1.35 | G29: =F29*C29 -> 1.35 | H29: 1 | I29: 0 | J29: 0 | K29: 0 | L29: 0 | M29: 0 | N29: 0 | O29: 0 | P29: =SUM(H29:O29) -> 1
B30: W01 | C30: =P30 -> 1 | D30: 1.517 | E30: 1.5 | F30: =E30*D30 -> 2.2755 | G30: =F30*C30 -> 2.2755 | H30: 1 | I30: 0 | J30: 0 | K30: 0 | L30: 0 | M30: 0 | N30: 0 | O30: 0 | P30: =SUM(H30:O30) -> 1
B31: D01 | C31: =P31 -> 1 | D31: 1.7 | E31: 2.45 | F31: =E31*D31 -> 4.165 | G31: =F31*C31 -> 4.165 | H31: 1 | I31: 0 | J31: 0 | K31: 0 | L31: 0 | M31: 0 | N31: 0 | O31: 0 | P31: =SUM(H31:O31) -> 1
B32: PD01 | C32: =P32 -> 1 | D32: 2.45 | E32: 2.25 | F32: =E32*D32 -> 5.5125 | G32: =F32*C32 -> 5.5125 | H32: 1 | I32: 0 | J32: 0 | K32: 0 | L32: 0 | M32: 0 | N32: 0 | O32: 0 | P32: =SUM(H32:O32) -> 1
B33: SD01 | C33: =P33 -> 1 | D33: 2.15 | E33: 2.6 | F33: =E33*D33 -> 5.59 | G33: =F33*C33 -> 5.59 | H33: 1 | I33: 0 | J33: 0 | K33: 0 | L33: 0 | M33: 0 | N33: 0 | O33: 0 | P33: =SUM(H33:O33) -> 1
B34: SD02 | C34: =P34 -> 1 | D34: 2.335 | E34: 2.6 | F34: =E34*D34 -> 6.071 | G34: =F34*C34 -> 6.071 | H34: 1 | I34: 0 | J34: 0 | K34: 0 | L34: 0 | M34: 0 | N34: 0 | O34: 0 | P34: =SUM(H34:O34) -> 1
B36: Total Outer Area = | G36: =SUM(G22:G27) -> 12.6
A39: PLASTERING (OUTER)
A40: 25mm tk Outer Plastering | B40: =D47-H59+J59 -> 208.24275 | C40: Sq.m
A42: Description | B42: Length | C42: Depth | D42: Sq. Value
A44: Outer Wall - Full | B44: =M50 -> 39.335 | C44: 4.15 | D44: =C44*B44 -> 163.24025 | E44: From FFL to beam bottom
A45: Outer wal - 1.2M HT | B45: =M51 -> 24.26 | C45: 2 | D45: =C45*B45 -> 48.52
A47: Total = | D47: =SUM(D43:D46) -> 211.76025
A49: Plastering wall Length
A50: =A44 -> Outer Wall - Full | B50: 30.674 | C50: 8.661 | D50: 0 | E50: 0 | F50: 0 | G50: 0 | H50: 0 | I50: 0 | J50: 0 | K50: 0 | L50: 0 | M50: =SUM(B50:L50) -> 39.335
A51: =A45 -> Outer wal - 1.2M HT | B51: 2.145 | C51: 2.145 | D51: 0.5 | E51: 0.5 | F51: 1.775 | G51: 1.775 | H51: 0.5 | I51: =2*(7.46) -> 14.92 | J51: 0 | K51: 0 | L51: 0 | M51: =SUM(B51:L51) -> 24.26
A53: Deduction (Outer)
A54: Description | B54: item | C54: Nos | D54: Length | E54: Width | F54: Area | G54: Total area | H54: Outer (-) | I54: Inner (-) | J54: Side (+)
A56: Outer | B56: =B23 -> W04 | C56: =C23 -> 1 | D56: =D23 -> 0.9 | E56: =E23 -> 1.5 | F56: =E56*D56 -> 1.35 | G56: =F56*C56 -> 1.35 | H56: =G56 -> 1.35 | I56: =G56 -> 1.35 | J56: =(D56+E56+D56+E56)*C56*0.15 -> 0.72
B57: =B24 -> W02 | C57: =C24 -> 1 | D57: =D24 -> 1.8 | E57: =E24 -> 1.5 | F57: =E57*D57 -> 2.7 | G57: =F57*C57 -> 2.7 | H57: =G57 -> 2.7 | I57: =G57 -> 2.7 | J57: =(D57+E57+D57+E57)*C57*0.15 -> 0.99
B58: =B25 -> D02 | C58: =C25 -> 1 | D58: =D25 -> 0.95 | E58: =E25 -> 2.25 | F58: =E58*D58 -> 2.1375 | G58: =F58*C58 -> 2.1375 | H58: =G58 -> 2.1375 | I58: =G58 -> 2.1375 | J58: =(D58+E58+D58+E58)*C58*0.15 -> 0.96
...

Sheet FIN (MR)
A2: GROUND FLOOR
A4: BRICK WORK
A5: 150mm tk wall | B5: =D13-G36 -> 265.01064 | C5: Sq.m
A7: Description | B7: Length | C7: Depth | D7: Sq. Value
A9: 150mm outer wall (Beam Line) | B9: =P16 -> 40.872 | C9: =3-0.43+1 -> 3.57 | D9: =C9*B9 -> 145.91304 | E9: (From Tie beam to Roof Beam bottom)
A10: 150mm outer wall (Slab Line) | B10: =P17 -> 29.616 | C10: =3-0.15+1 -> 3.85 | D10: =C10*B10 -> 114.0216 | E10: (From Tie beam to Roof Beam bottom)
A11: 150mm outer wall (Slab Line) | B11: =P18 -> 14.73 | C11: 1.2 | D11: =C11*B11 -> 17.676 | E11: (From Tie beam to Roof Beam bottom)
A13: Total = | D13: =SUM(D8:D12) -> 277.61064
A15: Masonry wall Length
A16: =A9 -> 150mm outer wall (Beam Line) | B16: 5.014 | C16: 4.204 | D16: 4.204 | E16: 2.627 | F16: 0.15 | G16: 1.898 | H16: 1.15 | I16: =0.31+1.264 -> 1.574 | J16: 3.76 | K16: 5.555 | L16: 5.392 | M16: 1.675 | N16: =1.314+2.355 -> 3.669 | O16: 0 | P16: =SUM(B16:O16) -> 40.872
A17: =A10 -> 150mm outer wall (Slab Line) | B17: 5.615 | C17: 3.67 | D17: 1.584 | E17: 2.031 | F17: 2.4 | G17: 2.65 | H17: 4.1 | I17: =1.1+2.23 -> 3.33 | J17: 1.376 | K17: 2.86 | L17: 0 | M17: 0 | N17: 0 | O17: 0 | P17: =SUM(B17:O17) -> 29.616
A18: =A11 -> 150mm outer wall (Slab Line) | B18: 4.163 | C18: 1.661 | D18: 1.068 | E18: 2.145 | F18: 2.145 | G18: 1.774 | H18: 1.774 | I18: 0 | J18: 0 | K18: 0 | L18: 0 | M18: 0 | N18: 0 | O18: 0 | P18: =SUM(B18:O18) -> 14.73
A20: Deduction
A21: Description | B21: item | C21: Nos | D21: Width | E21: Depth | F21: Area | G21: Total area | H21: Counts | P21: Total area
A23: Outer | B23: W04 | C23: =P23 -> 1 | D23: 0.9 | E23: 1.5 | F23: =E23*D23 -> 1.35 | G23: =F23*C23 -> 1.35 | H23: 1 | I23: 0 | J23: 0 | K23: 0 | L23: 0 | M23: 0 | N23: 0 | O23: 0 | P23: =SUM(H23:O23) -> 1
B24: W02 | C24: =P24 -> 1 | D24: 1.8 | E24: 1.5 | F24: =E24*D24 -> 2.7 | G24: =F24*C24 -> 2.7 | H24: 1 | I24: 0 | J24: 0 | K24: 0 | L24: 0 | M24: 0 | N24: 0 | O24: 0 | P24: =SUM(H24:O24) -> 1
B25: D02 | C25: =P25 -> 1 | D25: 0.95 | E25: 2.25 | F25: =E25*D25 -> 2.1375 | G25: =F25*C25 -> 2.1375 | H25: 1 | I25: 0 | J25: 0 | K25: 0 | L25: 0 | M25: 0 | N25: 0 | O25: 0 | P25: =SUM(H25:O25) -> 1
A27: Inner | B27: D03 | C27: =P27 -> 3 | D27: 0.95 | E27: 2.25 | F27: =E27*D27 -> 2.1375 | G27: =F27*C27 -> 6.4125 | H27: 1 | I27: 2 | J27: 0 | K27: 0 | L27: 0 | M27: 0 | N27: 0 | O27: 0 | P27: =SUM(H27:O27) -> 3
B28: W02 | C28: =P28 -> 1 | D28: 1.8 | E28: 1.5 | F28: =E28*D28 -> 2.7 | G28: =F28*C28 -> 2.7 | H28: 1 | I28: 0 | J28: 0 | K28: 0 | L28: 0 | M28: 0 | N28: 0 | O28: 0 | P28: =SUM(H28:O28) -> 1
B29: W04 | C29: =P29 -> 1 | D29: 0.9 | E29: 1.5 | F29: =E29*D29 -> 1.35 | G29: =F29*C29 -> 1.35 | H29: 1 | I29: 0 | J29: 0 | K29: 0 | L29: 0 | M29: 0 | N29: 0 | O29: 0 | P29: =SUM(H29:O29) -> 1
B30: W01 | C30: =P30 -> 1 | D30: 1.517 | E30: 1.5 | F30: =E30*D30 -> 2.2755 | G30: =F30*C30 -> 2.2755 | H30: 1 | I30: 0 | J30: 0 | K30: 0 | L30: 0 | M30: 0 | N30: 0 | O30: 0 | P30: =SUM(H30:O30) -> 1
B31: D01 | C31: =P31 -> 1 | D31: 1.7 | E31: 2.45 | F31: =E31*D31 -> 4.165 | G31: =F31*C31 -> 4.165 | H31: 1 | I31: 0 | J31: 0 | K31: 0 | L31: 0 | M31: 0 | N31: 0 | O31: 0 | P31: =SUM(H31:O31) -> 1
B32: PD01 | C32: =P32 -> 1 | D32: 2.45 | E32: 2.25 | F32: =E32*D32 -> 5.5125 | G32: =F32*C32 -> 5.5125 | H32: 1 | I32: 0 | J32: 0 | K32: 0 | L32: 0 | M32: 0 | N32: 0 | O32: 0 | P32: =SUM(H32:O32) -> 1
B33: SD01 | C33: =P33 -> 1 | D33: 2.15 | E33: 2.6 | F33: =E33*D33 -> 5.59 | G33: =F33*C33 -> 5.59 | H33: 1 | I33: 0 | J33: 0 | K33: 0 | L33: 0 | M33: 0 | N33: 0 | O33: 0 | P33: =SUM(H33:O33) -> 1
B34: SD02 | C34: =P34 -> 1 | D34: 2.335 | E34: 2.6 | F34: =E34*D34 -> 6.071 | G34: =F34*C34 -> 6.071 | H34: 1 | I34: 0 | J34: 0 | K34: 0 | L34: 0 | M34: 0 | N34: 0 | O34: 0 | P34: =SUM(H34:O34) -> 1
B36: Total Outer Area = | G36: =SUM(G22:G27) -> 12.6
A39: PLASTERING (OUTER)
A40: 25mm tk Outer Plastering | B40: =D47-H59+J59 -> 208.24275 | C40: Sq.m
A42: Description | B42: Length | C42: Depth | D42: Sq. Value
A44: Outer Wall - Full | B44: =M50 -> 39.335 | C44: 4.15 | D44: =C44*B44 -> 163.24025 | E44: From FFL to beam bottom
A45: Outer wal - 1.2M HT | B45: =M51 -> 24.26 | C45: 2 | D45: =C45*B45 -> 48.52
A47: Total = | D47: =SUM(D43:D46) -> 211.76025
A49: Plastering wall Length
A50: =A44 -> Outer Wall - Full | B50: 30.674 | C50: 8.661 | D50: 0 | E50: 0 | F50: 0 | G50: 0 | H50: 0 | I50: 0 | J50: 0 | K50: 0 | L50: 0 | M50: =SUM(B50:L50) -> 39.335
A51: =A45 -> Outer wal - 1.2M HT | B51: 2.145 | C51: 2.145 | D51: 0.5 | E51: 0.5 | F51: 1.775 | G51: 1.775 | H51: 0.5 | I51: =2*(7.46) -> 14.92 | J51: 0 | K51: 0 | L51: 0 | M51: =SUM(B51:L51) -> 24.26
A53: Deduction (Outer)
A54: Description | B54: item | C54: Nos | D54: Length | E54: Width | F54: Area | G54: Total area | H54: Outer (-) | I54: Inner (-) | J54: Side (+)
A56: Outer | B56: =B23 -> W04 | C56: =C23 -> 1 | D56: =D23 -> 0.9 | E56: =E23 -> 1.5 | F56: =E56*D56 -> 1.35 | G56: =F56*C56 -> 1.35 | H56: =G56 -> 1.35 | I56: =G56 -> 1.35 | J56: =(D56+E56+D56+E56)*C56*0.15 -> 0.72
B57: =B24 -> W02 | C57: =C24 -> 1 | D57: =D24 -> 1.8 | E57: =E24 -> 1.5 | F57: =E57*D57 -> 2.7 | G57: =F57*C57 -> 2.7 | H57: =G57 -> 2.7 | I57: =G57 -> 2.7 | J57: =(D57+E57+D57+E57)*C57*0.15 -> 0.99
B58: =B25 -> D02 | C58: =C25 -> 1 | D58: =D25 -> 0.95 | E58: =E25 -> 2.25 | F58: =E58*D58 -> 2.1375 | G58: =F58*C58 -> 2.1375 | H58: =G58 -> 2.1375 | I58: =G58 -> 2.1375 | J58: =(D58+E58+D58+E58)*C58*0.15 -> 0.96
...

Sheet S (TB & B)
A1: TIE BEAM | B1: SEA SAND
A2: ITEM | B2: DIA OF BAR | C2: NO. OF BARS/RING | D2: LENGTH OF BARS | E2: BEND CO.efficient | F2: BEND LENGTH | G2: LAP LENGTH | I2: TOTAL LENGTH | J2: UNIT WEIGHT | K2: TOTAL WEIGHT | L2: ADDITIONAL | N2: LENGTH DETAILS | AG2: Description | AH2: Diameter | AI2: Width | AJ2: Depth | AK2: Cover | AL2: Ring Width | AM2: Ring Depth | AN2: Ring Perimeter (mm) | AO2: Ring Perimeter (m) | AP2: Total Length (m)
I3: Full | N3: T.BEAM | AG3: =N4 -> TB1 | AH3: 10 | AI3: =M4 -> 250 | AJ3: =M5 -> 700 | AK3: 50 | AL3: =AI3-(2*AK3) -> 150 | AM3: =AJ3-(2*AK3) -> 600 | AN3: =2*(AL3+AM3)+(2*10*AH3)-(5*2*AH3) -> 1600 | AO3: =AN3/1000 -> 1.6 | AP3: =AO3+AO4+AO5 -> 5.224 | AS3: Bar/Beam Length | AT3: ok
A4: TB1 | B4: =AF4 -> 77.367 | C4: m | D4: BEND | E4: =AF5 -> 14 | F4: =M4 -> 250 | G4: x | H4: =M5 -> 700 | I4: =M6 -> 2 | J4: 0 | L4: Width | M4: 250 | N4: =A4 -> TB1 | O4: 5.814 | P4: 6.038 | Q4: 5.842 | R4: 2.94 | S4: 3.855 | T4: 5.945 | U4: 5.955 | V4: 4.915 | W4: 2.825 | X4: 5.328 | Y4: 3.075 | Z4: 4.06 | AA4: 4.292 | AB4: 6.141 | AC4: 4.342 | AD4: 6 | AF4: =SUM(O4:AE4) -> 77.367 | AH4: 10 | AI4: 256 | AJ4: =AJ3 -> 700 | AK4: 50 | AL4: =AI4 -> 256 | AM4: =AJ4-(2*AK4) -> 600 | AN4: =2*(AL4+AM4)+(2*10*AH4)-(5*2*AH4) -> 1812 | AO4: =AN4/1000 -> 1.812 | AS4: Bend | AT4: ok
A5: Through out | B5: 16 | C5: 6 | D5: =B4 -> 77.367 | E5: 10 | F5: =((10*B5)*E4*C5)/1000 -> 13.44 | H5: =(D5/6)*(0.04*B5) -> 8.25248 | I5: =C5*(D5+F5+H5) -> 594.35688 | J5: =B5*B5/162 -> 1.5802469 | K5: =(I5*J5)/1000 -> 0.93923063 | L5: Depth | M5: 700 | N5: Bend | O5: 2 | P5: 1 | Q5: 1 | R5: 1 | S5: 1 | T5: 0 | U5: 0 | V5: 1 | W5: 1 | X5: 1 | Y5: 1 | Z5: 0 | AA5: 1 | AB5: 1 | AC5: 1 | AD5: 1 | AF5: =SUM(O5:AE5) -> 14 | AH5: 10 | AI5: 256 | AJ5: =AJ3 -> 700 | AK5: 50 | AL5: =AI5 -> 256 | AM5: =AJ5-(2*AK5) -> 600 | AN5: =2*(AL5+AM5)+(2*10*AH5)-(5*2*AH5) -> 1812 | AO5: =AN5/1000 -> 1.812 | AS5: Mid Length | AT5: ok
B6: 16 | C6: 6 | D6: =B4 -> 77.367 | E6: 10 | F6: =((10*B6)*E4*C6)/1000 -> 13.44 | H6: =(D6/6)*(0.04*B6) -> 8.25248 | I6: =C6*(D6+F6+H6) -> 594.35688 | J6: =B6*B6/162 -> 1.5802469 | K6: =(I6*J6)/1000 -> 0.93923063 | L6: No.of Rings | M6: 2 | N6: Span | O6: =O4*0.7 -> 4.0698 | P6: =P4*0.7 -> 4.2266 | Q6: =Q4*0.7 -> 4.0894 | R6: =R4*0.7 -> 2.058 | S6: =S4*0.7 -> 2.6985 | T6: =T4*0.7 -> 4.1615 | U6: =U4*0.7 -> 4.1685 | V6: =V4*0.7 -> 3.4405 | ... AD6: =AD4*0.7 -> 4.2 | AS6: Sup Length | AT6: ok
B7: 12 | C7: 4 | D7: =B5 -> 16 | E7: 10 | F7: =((10*B7)*E5*C7)/1000 -> 4.8 | H7: =(D7/6)*(0.04*B7) -> 1.28 | I7: =C7*(D7+F7+H7) -> 88.32 | J7: =B7*B7/162 -> 0.88888889 | K7: =(I7*J7)/1000 -> 0.078506667
A8: Mid | B8: 16 | C8: 2 | D8: =AF8 -> 57 | H8: =(D8/6)*(0.04*B8) -> 6.08 | I8: =C8*(D8+F8+H8) -> 126.16 | J8: =B8*B8/162 -> 1.5802469 | K8: =(I8*J8)/1000 -> 0.19936395 | L8: Ring Space | M8: 0.15 | N8: Span (Adjust) | O8: 4 | P8: 4.5 | Q8: 4 | R8: 2 | S8: 3 | T8: 4.5 | U8: 4.5 | V8: 4 | W8: 2 | X8: 4 | Y8: 2.5 | Z8: 3 | AA8: 3 | AB8: 4.5 | AC8: 3 | AD8: 4.5 | AF8: =SUM(O8:AE8) -> 57 | AS8: Beam size | AT8: ok
A9: support | B9: 16 | C9: 6 | D9: =AF10 -> 30.5 | E9: 10 | F9: =((10*B9)*E4*C9)/1000 -> 13.44 | H9: =(D9/6)*(0.04*B9) -> 3.2533333 | I9: =C9*(D9+F9+H9) -> 283.16 | J9: =B9*B9/162 -> 1.5802469 | K9: =(I9*J9)/1000 -> 0.44746272 | L9: Ring Length | M9: =AP3 -> 5.224 | N9: Sup | O9: =O4*0.35 -> 2.0349 | P9: =P4*0.35 -> 2.1133 | Q9: =Q4*0.35 -> 2.0447 | R9: =R4*0.35 -> 1.029 | S9: =S4*0.35 -> 1.34925 | T9: =T4*0.35 -> 2.08075 | U9: =U4*0.35 -> 2.08425 | V9: =V4*0.35 -> 1.72025 | ... AD9: =AD4*0.35 -> 2.1 | AS9: Striupps | AT9: ok
A10: =M8 -> 0.15 | B10: 6 | C10: =(B4/A10)*I4 -> 1031.56 | D10: =M9 -> 5.224 | I10: =D10*C10 -> 5388.8694 | J10: =B10*B10/162 -> 0.22222222 | K10: =(I10*J10)/1000 -> 1.1975265 | N10: Sup (Adjust) | O10: 2 | P10: 2.5 | Q10: 2 | R10: 1 | S10: 1.5 | T10: 2.5 | U10: 2.5 | V10: 2 | W10: 1 | X10: 2 | Y10: 1.5 | Z10: 1.5 | AA10: 1.5 | AB10: 2.5 | AC10: 1.5 | AD10: 3 | AF10: =SUM(O10:AE10) -> 30.5 | AS10: Striupps Spacing | AT10: ok
I12: Full | N12: T.BEAM | AG12: =N13 -> TB2 | AH12: 10 | AI12: =M13 -> 250 | AJ12: =M14 -> 450 | AK12: 50 | AL12: =AI12-(2*AK12) -> 150 | AM12: =AJ12-(2*AK12) -> 350 | AN12: =2*(AL12+AM12)+(2*10*AH12)-(5*2*AH12) -> 1100 | AO12: =AN12/1000 -> 1.1 | AP12: =AO12+AO13+AO14 -> 3.724 | AS12: Bar/Beam Length | AT12: ok
A13: TB2 | B13: =AF13 -> 8.262 | C13: m | D13: BEND | E13: =AF14 -> 1 | F13: =M13 -> 250 | G13: x | H13: =M14 -> 450 | I13: =M15 -> 1 | J13: 0 | L13: Width | M13: 250 | N13: =A13 -> TB2 | O13: 4.207 | P13: 4.055 | AF13: =SUM(O13:AE13) -> 8.262 | AH13: 10 | AI13: 256 | AJ13: =AJ12 -> 450 | AK13: 50 | AL13: =AI13 -> 256 | AM13: =AJ13-(2*AK13) -> 350 | AN13: =2*(AL13+AM13)+(2*10*AH13)-(5*2*AH13) -> 1312 | AO13: =AN13/1000 -> 1.312 | AS13: Bend | AT13: ok
A14: Through out | B14: 16 | C14: 6 | D14: =B13 -> 8.262 | E14: 10 | F14: =((10*B14)*E13*C14)/1000 -> 0.96 | H14: =(D14/6)*(0.04*B14) -> 0.88128 | I14: =C14*(D14+F14+H14) -> 60.61968 | J14: =B14*B14/162 -> 1.5802469 | K14: =(I14*J14)/1000 -> 0.095794062 | L14: Depth | M14: 450 | N14: Bend | O14: 0 | P14: 1 | AF14: =SUM(O14:AE14) -> 1 | AH14: 10 | AI14: 256 | AJ14: =AJ12 -> 450 | AK14: 50 | AL14: =AI14 -> 256 | AM14: =AJ14-(2*AK14) -> 350 | AN14: =2*(AL14+AM14)+(2*10*AH14)-(5*2*AH14) -> 1312 | AO14: =AN14/1000 -> 1.312 | AS14: Mid Length | AT14: ok
B15: 16 | C15: 6 | D15: =B13 -> 8.262 | E15: 10 | F15: =((10*B15)*E13*C15)/1000 -> 0.96 | H15: =(D15/6)*(0.04*B15) -> 0.88128 | I15: =C15*(D15+F15+H15) -> 60.61968 | J15: =B15*B15/162 -> 1.5802469 | K15: =(I15*J15)/1000 -> 0.095794062 | L15: No.of Rings | M15: 1 | N15: Span | O15: =O13*0.7 -> 2.9449 | P15: =P13*0.7 -> 2.8385 | AS15: Sup Length | AT15: ok
B16: 16 | C16: 4 | D16: =B14 -> 16 | E16: 10 | F16: =((10*B16)*E14*C16)/1000 -> 6.4 | H16: =(D16/6)*(0.04*B16) -> 1.7066667 | I16: =C16*(D16+F16+H16) -> 96.426667 | J16: =B16*B16/162 -> 1.5802469 | K16: =(I16*J16)/1000 -> 0.15237794
A17: mid | B17: 16 | C17: 2 | D17: =AF17 -> 6 | H17: =(D17/6)*(0.04*B17) -> 0.64 | I17: =C17*(D17+F17+H17) -> 13.28 | J17: =B17*B17/162 -> 1.5802469 | K17: =(I17*J17)/1000 -> 0.020985679 | L17: Ring Space | M17: 0.15 | N17: Span (Adjust) | O17: 3 | P17: 3 | AF17: =SUM(O17:AE17) -> 6 | AS17: Beam size | AT17: ok
A18: support | B18: 16 | C18: 6 | D18: =AF19 -> 3 | E18: 10 | F18: =((10*B18)*E13*C18)/1000 -> 0.96 | H18: =(D18/6)*(0.04*B18) -> 0.32 | I18: =C18*(D18+F18+H18) -> 25.68 | J18: =B18*B18/162 -> 1.5802469 | K18: =(I18*J18)/1000 -> 0.040580741 | L18: Ring Length | M18: =AP12 -> 3.724 | N18: Sup | O18: =O13*0.35 -> 1.47245 | P18: =P13*0.35 -> 1.41925 | AS18: Striupps | AT18: ok
A19: =M17 -> 0.15 | B19: 6 | C19: =(B13/A19)*I13 -> 55.08 | D19: =M18 -> 3.724 | I19: =D19*C19 -> 205.11792 | J19: =B19*B19/162 -> 0.22222222 | K19: =(I19*J19)/1000 -> 0.04558176 | N19: Sup (Adjust) | O19: 1.5 | P19: 1.5 | AF19: =SUM(O19:AE19) -> 3 | AS19: Striupps Spacing | AT19: ok
I21: Full | N21: T.BEAM | AG21: =N22 -> TB3 | AH21: 10 | AI21: =M22 -> 250 | AJ21: =M23 -> 450 | AK21: 50 | AL21: =AI21-(2*AK21) -> 150 | AM21: =AJ21-(2*AK21) -> 350 | AN21: =2*(AL21+AM21)+(2*10*AH21)-(5*2*AH21) -> 1100 | AO21: =AN21/1000 -> 1.1 | AP21: =AO21+AO22+AO23 -> 3.724 | AS21: Bar/Beam Length | AT21: ok
A22: TB3 | B22: =AF22 -> 8.262 | C22: m | D22: BEND | E22: =AF23 -> 1 | F22: =M22 -> 250 | G22: x | H22: =M23 -> 450 | I22: =M24 -> 1 | J22: 0 | L22: Width | M22: 250 | N22: =A22 -> TB3 | O22: 4.207 | P22: 4.055 | AF22: =SUM(O22:AE22) -> 8.262 | AH22: 10 | AI22: 256 | AJ22: =AJ21 -> 450 | AK22: 50 | AL22: =AI22 -> 256 | AM22: =AJ22-(2*AK22) -> 350 | AN22: =2*(AL22+AM22)+(2*10*AH22)-(5*2*AH22) -> 1312 | AO22: =AN22/1000 -> 1.312 | AS22: Bend | AT22: ok
A23: Through out | B23: 16 | C23: 6 | D23: =B22 -> 8.262 | E23: 10 | F23: =((10*B23)*E22*C23)/1000 -> 0.96 | H23: =(D23/6)*(0.04*B23) -> 0.88128 | I23: =C23*(D23+F23+H23) -> 60.61968 | J23: =B23*B23/162 -> 1.5802469 | K23: =(I23*J23)/1000 -> 0.095794062 | L23: Depth | M23: 450 | N23: Bend | O23: 0 | P23: 1 | AF23: =SUM(O23:AE23) -> 1 | AH23: 10 | AI23: 256 | AJ23: =AJ21 -> 450 | AK23: 50 | AL23: =AI23 -> 256 | AM23: =AJ23-(2*AK23) -> 350 | AN23: =2*(AL23+AM23)+(2*10*AH23)-(5*2*AH23) -> 1312 | AO23: =AN23/1000 -> 1.312 | AS23: Mid Length | AT23: ok
B24: 16 | C24: 6 | D24: =B22 -> 8.262 | E24: 10 | F24: =((10*B24)*E22*C24)/1000 -> 0.96 | H24: =(D24/6)*(0.04*B24) -> 0.88128 | I24: =C24*(D24+F24+H24) -> 60.61968 | J24: =B24*B24/162 -> 1.5802469 | K24: =(I24*J24)/1000 -> 0.095794062 | L24: No.of Rings | M24: 1 | N24: Span | O24: =O22*0.7 -> 2.9449 | P24: =P22*0.7 -> 2.8385 | AS24: Sup Length | AT24: ok
B25: 16 | C25: 4 | D25: =B23 -> 16 | E25: 10 | F25: =((10*B25)*E23*C25)/1000 -> 6.4 | H25: =(D25/6)*(0.04*B25) -> 1.7066667 | I25: =C25*(D25+F25+H25) -> 96.426667 | J25: =B25*B25/162 -> 1.5802469 | K25: =(I25*J25)/1000 -> 0.15237794
A26: mid | B26: 16 | C26: 2 | D26: =AF26 -> 6 | H26: =(D26/6)*(0.04*B26) -> 0.64 | I26: =C26*(D26+F26+H26) -> 13.28 | J26: =B26*B26/162 -> 1.5802469 | K26: =(I26*J26)/1000 -> 0.020985679 | L26: Ring Space | M26: 0.15 | N26: Span (Adjust) | O26: 3 | P26: 3 | AF26: =SUM(O26:AE26) -> 6 | AS26: Beam size | AT26: ok
A27: support | B27: 16 | C27: 6 | D27: =AF28 -> 3 | E27: 10 | F27: =((10*B27)*E22*C27)/1000 -> 0.96 | H27: =(D27/6)*(0.04*B27) -> 0.32 | I27: =C27*(D27+F27+H27) -> 25.68 | J27: =B27*B27/162 -> 1.5802469 | K27: =(I27*J27)/1000 -> 0.040580741 | L27: Ring Length | M27: =AP21 -> 3.724 | N27: Sup | O27: =O22*0.35 -> 1.47245 | P27: =P22*0.35 -> 1.41925 | AS27: Striupps | AT27: ok
A28: =M26 -> 0.15 | B28: 6 | C28: =(B22/A28)*I22 -> 55.08 | D28: =M27 -> 3.724 | I28: =D28*C28 -> 205.11792 | J28: =B28*B28/162 -> 0.22222222 | K28: =(I28*J28)/1000 -> 0.04558176 | N28: Sup (Adjust) | O28: 1.5 | P28: 1.5 | AF28: =SUM(O28:AE28) -> 3 | AS28: Striupps Spacing | AT28: ok
F31: Beam | H31: Total | J31: Total (Kg)
H32: 6 | I32: =SUMIF($B$5:$B$10,H32,$K$5:$K$10) -> 1.1975265 | J32: =I32*1000 -> 1197.5265
H33: 10 | I33: =SUMIF($B$5:$B$10,H33,$K$5:$K$10) -> 0 | J33: =I33*1000 -> 0
H34: 12 | I34: =SUMIF($B$5:$B$10,H34,$K$5:$K$10) -> 0.078506667 | J34: =I34*1000 -> 78.506667
H35: 16 | I35: =SUMIF($B$5:$B$10,H35,$K$5:$K$10) -> 2.5252879 | J35: =I35*1000 -> 2525.2879
H36: 20 | I36: =SUMIF($B$5:$B$10,H36,$K$5:$K$10) -> 0 | J36: =I36*1000 -> 0
H37: 25 | I37: =SUMIF($B$5:$B$10,H37,$K$5:$K$10) -> 0 | J37: =I37*1000 -> 0
F38: Total | I38: =SUM(I32:I37) -> 3.8013211 | J38: =SUM(J32:J37) -> 3801.3211
A41: 1ST-TERRACE FLOOR
A42: ITEM | B42: DIA OF BAR | C42: NO. OF BARS/RING | D42: LENGTH OF BARS | E42: BEND CO.efficient | F42: BEND LENGTH | G42: LAP LENGTH | I42: TOTAL LENGTH | J42: UNIT WEIGHT | K42: TOTAL WEIGHT | L42: ADDITIONAL | N42: LENGTH DETAILS | AG42: Type | AH42: Description | AI42: Diameter | AJ42: Width | AK42: Depth | AL42: Cover | AM42: Ring Width | AN42: Ring Depth | AO42: Ring Perimeter (mm) | AP42: Ring Perimeter (m)
I43: SUP | J43: SPAN | N43: BEAM | AS43: Bar/Beam Length | AT43: ok
A44: =N44 -> B1 | B44: =AF44 -> 14.645 | C44: m | D44: BEND | E44: =AF45 -> 2 | F44: =M44 -> 200 | G44: x | H44: =M45 -> 400 | I44: =M46 -> 2 | J44: =M47 -> 2 | L44: Width | M44: 200 | N44: B1 | O44: 4.045 | P44: =4*2.65 -> 10.6 | Q44: 0 | R44: 0 | S44: 0 | T44: 0 | U44: 0 | V44: 0 | W44: 0 | X44: 0 | Y44: 0 | Z44: 0 | AA44: 0 | AB44: 0 | AC44: 0 | AD44: 0 | AE44: 0 | AF44: =SUM(O44:AE44) -> 14.645 | AG44: 1ST FLOOR BEAM | AH44: B1 | AI44: 6 | AJ44: 200 | AK44: 350 | AL44: 35 | AM44: =AJ44-(2*AL44) -> 130 | AN44: =AK44-(2*AL44) -> 280 | AO44: =2*(AM44+AN44)+(2*10*AI44)-(5*2*AI44) -> 880 | AP44: =AO44/1000 -> 0.88 | AS44: Bend | AT44: ok
A45: Through out | B45: 16 | C45: 2 | D45: =B44 -> 14.645 | E45: 10 | F45: =((10*B45)*E44*C45)/1000 -> 0.64 | H45: =(D45/6)*(0.04*B45) -> 1.5621333 | I45: =C45*(D45+F45+H45) -> 33.694267 | J45: =B45*B45/162 -> 1.5802469 | K45: =(I45*J45)/1000 -> 0.053245261 | L45: Depth | M45: 400 | N45: Bend | O45: 1 | P45: 1 | Q45: 0 | R45: 0 | S45: 0 | T45: 0 | U45: 0 | V45: 0 | W45: 0 | X45: 0 | Y45: 0 | Z45: 0 | AA45: 0 | AB45: 0 | AC45: 0 | AD45: 0 | AE45: 0 | AF45: =SUM(O45:AE45) -> 2 | AH45: 0 | AI45: 0 | AJ45: 0 | AK45: 0 | AL45: 0 | AM45: =AJ45-(2*AL45) -> 0 | AN45: =AK45-(2*AL45) -> 0 | AO45: =2*(AM45+AN45)+(2*10*AI45)-(5*2*AI45) -> 0 | AP45: =AO45/1000 -> 0 | AS45: Mid Length | AT45: ok
B46: 16 | C46: 2 | D46: =B44 -> 14.645 | E46: 10 | F46: =((10*B46)*E44*C46)/1000 -> 0.64 | H46: =(D46/6)*(0.04*B46) -> 1.5621333 | I46: =C46*(D46+F46+H46) -> 33.694267 | J46: =B46*B46/162 -> 1.5802469 | K46: =(I46*J46)/1000 -> 0.053245261 | L46: No.of Rings (Sup) | M46: 2 | N46: Span | O46: =O44*0.7 -> 2.8315 | P46: =P44*0.7 -> 7.42 | Q46: =Q44*0.7 -> 0 | R46: =R44*0.7 -> 0 | S46: =S44*0.7 -> 0 | T46: =T44*0.7 -> 0 | U46: =U44*0.7 -> 0 | V46: =V44*0.7 -> 0 | ... AE46: =AE44*0.7 -> 0 | AH46: 0 | AI46: 0 | AJ46: 0 | AK46: 0 | AL46: 0 | AM46: =AJ46-(2*AL46) -> 0 | AN46: =AK46-(2*AL46) -> 0 | AO46: =2*(AM46+AN46)+(2*10*AI46)-(5*2*AI46) -> 0 | AP46: =AO46/1000 -> 0 | AS46: Sup Length | AT46: ok
...

Sheet S (CL)
A1: Corrected all the cells on 24 March 2024
A3: FOUNDATION
A5: Item | B5: Dia | C5: No of Bar | D5: Length & Ring size | E5: Bend | G5: Bar Length | H5: Lap Length | I5: Total Length | J5: Unit Weight | K5: Total Weight
A6: =M6 -> C1 | B6: Length | C6: =O8 -> 1.8 | D6: SIZE | E6: =O6 -> 200 | F6: x | G6: =O7 -> 350 | H6: No. of Column | I6: =M7 -> 3 | L6: Column | M6: C1 | N6: Width | O6: 200 | P6: Description | Q6: Diameter | R6: Width | S6: Depth | T6: Cover | U6: Ring Width | V6: Ring Depth | W6: Ring Perimeter (mm) | X6: Ring Perimeter (m) | Y6: Ring Length
B7: 16 | C7: 3 | D7: =C6*C7*I6 -> 16.2 | E7: 0 | G7: =D7+E7 -> 16.2 | H7: =((C6/6)*(45*B7)*(I6*C7))/1000 -> 1.944 | I7: =(G7+H7) -> 18.144 | J7: =B7*B7/162 -> 1.5802469 | K7: =I7*J7 -> 28.672 | L7: No Of Column | M7: 3 | N7: Depth | O7: 350 | P7: =M6 -> C1 | Q7: =B9 -> 6 | R7: =O6 -> 200 | S7: =O7 -> 350 | T7: 40 | U7: =R7-(2*T7) -> 120 | V7: =S7-(2*T7) -> 270 | W7: =2*(U7+V7)+(2*10*Q7)-(5*2*Q7) -> 840 | X7: =W7/1000 -> 0.84 | Y7: =SUM(X7:X9) -> 1.46
B8: 16 | C8: 3 | D8: =C6*C8*I6 -> 16.2 | E8: 0 | G8: =D8+E8 -> 16.2 | H8: =((C6/6)*(45*B8)*(I6*C8))/1000 -> 1.944 | I8: =(G8+H8) -> 18.144 | J8: =B8*B8/162 -> 1.5802469 | K8: =I8*J8 -> 28.672 | L8: No of Striupps | M8: 7 | N8: Length | O8: =1.4+0.4 -> 1.8 | Q8: =B9 -> 6 | R8: =R7 -> 200 | S8: 160 | T8: 40 | U8: =R8-(2*T8) -> 120 | V8: =S8 -> 160 | W8: =2*(U8+V8)+(2*10*Q8)-(5*2*Q8) -> 620 | X8: =W8/1000 -> 0.62
B9: 6 | C9: =M8 -> 7 | D9: =Y7 -> 1.46 | E9: 0 | G9: =D9*C9*I6 -> 30.66 | I9: =G9 -> 30.66 | J9: =B9*B9/162 -> 0.22222222 | K9: =I9*J9 -> 6.8133333 | L9: Ring Length | M9: =Y7 -> 1.46
A11: =M11 -> C2 | B11: Length | C11: =O13 -> 1.8 | D11: SIZE | E11: =O11 -> 200 | F11: x | G11: =O12 -> 300 | H11: No. of Column | I11: =M12 -> 4 | L11: Column | M11: C2 | N11: Width | O11: 200 | P11: Description | Q11: Diameter | R11: Width | S11: Depth | T11: Cover | U11: Ring Width | V11: Ring Depth | W11: Ring Perimeter (mm) | X11: Ring Perimeter (m) | Y11: Ring Length
B12: 16 | C12: 4 | D12: =C11*C12*I11 -> 28.8 | E12: 0 | G12: =D12+E12 -> 28.8 | H12: =((C11/6)*(45*B12)*(I11*C12))/1000 -> 3.456 | I12: =(G12+H12) -> 32.256 | J12: =B12*B12/162 -> 1.5802469 | K12: =I12*J12 -> 50.972444 | L12: No Of Column | M12: 4 | N12: Depth | O12: 300 | P12: =M11 -> C2 | Q12: =B14 -> 6 | R12: =O11 -> 200 | S12: =O12 -> 300 | T12: 40 | U12: =R12-(2*T12) -> 120 | V12: =S12-(2*T12) -> 220 | W12: =2*(U12+V12)+(2*10*Q12)-(5*2*Q12) -> 740 | X12: =W12/1000 -> 0.74 | Y12: =SUM(X12:X14) -> 1.36
B13: 16 | C13: 4 | D13: =C11*C13*I11 -> 28.8 | E13: 0 | G13: =D13+E13 -> 28.8 | H13: =((C11/6)*(45*B13)*(I11*C13))/1000 -> 3.456 | I13: =(G13+H13) -> 32.256 | J13: =B13*B13/162 -> 1.5802469 | K13: =I13*J13 -> 50.972444 | L13: No of Striupps | M13: 7 | N13: Length | O13: =O8 -> 1.8 | Q13: =B14 -> 6 | R13: =R12 -> 200 | S13: 160 | T13: 40 | U13: =R13-(2*T13) -> 120 | V13: =S13 -> 160 | W13: =2*(U13+V13)+(2*10*Q13)-(5*2*Q13) -> 620 | X13: =W13/1000 -> 0.62
B14: 6 | C14: =M13 -> 7 | D14: =Y12 -> 1.36 | E14: 0 | G14: =D14*C14*I11 -> 38.08 | I14: =G14 -> 38.08 | J14: =B14*B14/162 -> 0.22222222 | K14: =I14*J14 -> 8.4622222 | L14: Ring Length | M14: =Y12 -> 1.36
A16: =M16 -> C3 | B16: Length | C16: =O18 -> 1.8 | D16: SIZE | E16: =O16 -> 250 | F16: x | G16: =O17 -> 300 | H16: No. of Column | I16: =M17 -> 9 | L16: Column | M16: C3 | N16: Width | O16: 250 | P16: Description | Q16: Diameter | R16: Width | S16: Depth | T16: Cover | U16: Ring Width | V16: Ring Depth | W16: Ring Perimeter (mm) | X16: Ring Perimeter (m) | Y16: Ring Length
B17: 20 | C17: 4 | D17: =C16*C17*I16 -> 64.8 | E17: 0 | G17: =D17+E17 -> 64.8 | H17: =((C16/6)*(45*B17)*(I16*C17))/1000 -> 9.72 | I17: =(G17+H17) -> 74.52 | J17: =B17*B17/162 -> 2.4691358 | K17: =I17*J17 -> 184 | L17: No Of Column | M17: 9 | N17: Depth | O17: 300 | P17: =M16 -> C3 | Q17: =B19 -> 6 | R17: =O16 -> 250 | S17: =O17 -> 300 | T17: 40 | U17: =R17-(2*T17) -> 170 | V17: =S17-(2*T17) -> 220 | W17: =2*(U17+V17)+(2*10*Q17)-(5*2*Q17) -> 840 | X17: =W17/1000 -> 0.84 | Y17: =SUM(X17:X19) -> 1.5
B18: 20 | C18: 4 | D18: =C16*C18*I16 -> 64.8 | E18: 0 | G18: =D18+E18 -> 64.8 | H18: =((C16/6)*(45*B18)*(I16*C18))/1000 -> 9.72 | I18: =(G18+H18) -> 74.52 | J18: =B18*B18/162 -> 2.4691358 | K18: =I18*J18 -> 184 | L18: No of Striupps | M18: 7 | N18: Length | O18: =O8 -> 1.8 | Q18: =B19 -> 6 | R18: =R17 -> 250 | S18: 130 | T18: 40 | U18: =R18-(2*T18) -> 170 | V18: =S18 -> 130 | W18: =2*(U18+V18)+(2*10*Q18)-(5*2*Q18) -> 660 | X18: =W18/1000 -> 0.66
B19: 6 | C19: =M18 -> 7 | D19: =Y17 -> 1.5 | E19: 0 | G19: =D19*C19*I16 -> 94.5 | I19: =G19 -> 94.5 | J19: =B19*B19/162 -> 0.22222222 | K19: =I19*J19 -> 21 | L19: Ring Length | M19: =Y17 -> 1.5
I21: COLUMN | J21: Dia | K21: Total weight (Kg)
J22: 6 | K22: =SUMIF($B$7:$B$20,J22,$K$7:$K$20) -> 36.275556
J23: 10 | K23: =SUMIF($B$7:$B$20,J23,$K$7:$K$20) -> 0
J24: 12 | K24: =SUMIF($B$7:$B$20,J24,$K$7:$K$20) -> 0
J25: 16 | K25: =SUMIF($B$7:$B$20,J25,$K$7:$K$20) -> 159.28889
J26: 20 | K26: =SUMIF($B$7:$B$20,J26,$K$7:$K$20) -> 368
J27: 25 | K27: =SUMIF($B$7:$B$20,J27,$K$7:$K$20) -> 0
I28: Total = | K28: =SUM(K22:K27) -> 563.56444
A30: GROUND FLOOR
A32: Item | B32: Dia | C32: No of Bar | D32: Length & Ring size | E32: Bend | G32: Bar Length | H32: Lap Length | I32: Total Length | J32: Unit Weight | K32: Total Weight
A33: =M33 -> C1 | B33: Length | C33: =O35 -> 3.3 | D33: SIZE | E33: =O33 -> 250 | F33: x | G33: =O34 -> 400 | H33: No. of Column | I33: =M34 -> 5 | L33: Column | M33: C1 | N33: Width | O33: 250 | P33: Description | Q33: Diameter | R33: Width | S33: Depth | T33: Cover | U33: Ring Width | V33: Ring Depth | W33: Ring Perimeter (mm) | X33: Ring Perimeter (m) | Y33: Ring Length
B34: 20 | C34: 4 | D34: =C33*C34*I33 -> 66 | E34: 0 | G34: =D34+E34 -> 66 | H34: =((C33/6)*(45*B34)*(I33*C34))/1000 -> 9.9 | I34: =(G34+H34) -> 75.9 | J34: =B34*B34/162 -> 2.4691358 | K34: =I34*J34 -> 187.40741 | L34: No Of Column | M34: 5 | N34: Depth | O34: 400 | P34: =M33 -> C1 | Q34: =B36 -> 6 | R34: =O33 -> 250 | S34: =O34 -> 400 | T34: 40 | U34: =R34-(2*T34) -> 170 | V34: =S34-(2*T34) -> 320 | W34: =2*(U34+V34)+(2*10*Q34)-(5*2*Q34) -> 1040 | X34: =W34/1000 -> 1.04 | Y34: =SUM(X34:X36) -> 1.76
B35: 20 | C35: 4 | D35: =C33*C35*I33 -> 66 | E35: 0 | G35: =D35+E35 -> 66 | H35: =((C33/6)*(45*B35)*(I33*C35))/1000 -> 9.9 | I35: =(G35+H35) -> 75.9 | J35: =B35*B35/162 -> 2.4691358 | K35: =I35*J35 -> 187.40741 | L35: No of Striupps | M35: 23 | N35: Length | O35: 3.3 | Q35: =B36 -> 6 | R35: =R34 -> 250 | S35: 160 | T35: 40 | U35: =R35-(2*T35) -> 170 | V35: =S35 -> 160 | W35: =2*(U35+V35)+(2*10*Q35)-(5*2*Q35) -> 720 | X35: =W35/1000 -> 0.72
B36: 6 | C36: =M35 -> 23 | D36: =Y34 -> 1.76 | E36: 0 | G36: =D36*C36*I33 -> 202.4 | I36: =G36 -> 202.4 | J36: =B36*B36/162 -> 0.22222222 | K36: =I36*J36 -> 44.977778 | L36: Ring Length | M36: =Y34 -> 1.76
A38: =M38 -> C2 | B38: Length | C38: =O40 -> 3.3 | D38: SIZE | E38: =O38 -> 250 | F38: x | G38: =O39 -> 400 | H38: No. of Column | I38: =M39 -> 6 | L38: Column | M38: C2 | N38: Width | O38: 250 | P38: Description | Q38: Diameter | R38: Width | S38: Depth | T38: Cover | U38: Ring Width | V38: Ring Depth | W38: Ring Perimeter (mm) | X38: Ring Perimeter (m) | Y38: Ring Length
B39: 16 | C39: 4 | D39: =C38*C39*I38 -> 79.2 | E39: 0 | G39: =D39+E39 -> 79.2 | H39: =((C38/6)*(45*B39)*(I38*C39))/1000 -> 9.504 | I39: =(G39+H39) -> 88.704 | J39: =B39*B39/162 -> 1.5802469 | K39: =I39*J39 -> 140.17422 | L39: No Of Column | M39: 6 | N39: Depth | O39: 400 | P39: =M38 -> C2 | Q39: =B41 -> 6 | R39: =O38 -> 250 | S39: =O39 -> 400 | T39: 40 | U39: =R39-(2*T39) -> 170 | V39: =S39-(2*T39) -> 320 | W39: =2*(U39+V39)+(2*10*Q39)-(5*2*Q39) -> 1040 | X39: =W39/1000 -> 1.04 | Y39: =SUM(X39:X41) -> 1.76
B40: 16 | C40: 4 | D40: =C38*C40*I38 -> 79.2 | E40: 0 | G40: =D40+E40 -> 79.2 | H40: =((C38/6)*(45*B40)*(I38*C40))/1000 -> 9.504 | I40: =(G40+H40) -> 88.704 | J40: =B40*B40/162 -> 1.5802469 | K40: =I40*J40 -> 140.17422 | L40: No of Striupps | M40: 23 | N40: Length | O40: 3.3 | Q40: =B41 -> 6 | R40: =R39 -> 250 | S40: 160 | T40: 40 | U40: =R40-(2*T40) -> 170 | V40: =S40 -> 160 | W40: =2*(U40+V40)+(2*10*Q40)-(5*2*Q40) -> 720 | X40: =W40/1000 -> 0.72
B41: 6 | C41: =M40 -> 23 | D41: =Y39 -> 1.76 | E41: 0 | G41: =D41*C41*I38 -> 242.88 | I41: =G41 -> 242.88 | J41: =B41*B41/162 -> 0.22222222 | K41: =I41*J41 -> 53.973333 | L41: Ring Length | M41: =Y39 -> 1.76
A43: =M43 -> C3 | B43: Length | C43: =O45 -> 3.3 | D43: SIZE | E43: =O43 -> 250 | F43: x | G43: =O44 -> 300 | H43: No. of Column | I43: =M44 -> 3 | L43: Column | M43: C3 | N43: Width | O43: 250 | P43: Description | Q43: Diameter | R43: Width | S43: Depth | T43: Cover | U43: Ring Width | V43: Ring Depth | W43: Ring Perimeter (mm) | X43: Ring Perimeter (m) | Y43: Ring Length
B44: 20 | C44: 4 | D44: =C43*C44*I43 -> 39.6 | E44: 0 | G44: =D44+E44 -> 39.6 | H44: =((C43/6)*(45*B44)*(I43*C44))/1000 -> 5.94 | I44: =(G44+H44) -> 45.54 | J44: =B44*B44/162 -> 2.4691358 | K44: =I44*J44 -> 112.44444 | L44: No Of Column | M44: 3 | N44: Depth | O44: 300 | P44: =M43 -> C3 | Q44: =B46 -> 6 | R44: =O43 -> 250 | S44: =O44 -> 300 | T44: 40 | U44: =R44-(2*T44) -> 170 | V44: =S44-(2*T44) -> 220 | W44: =2*(U44+V44)+(2*10*Q44)-(5*2*Q44) -> 840 | X44: =W44/1000 -> 0.84 | Y44: =SUM(X44:X46) -> 1.5
B45: 20 | C45: 4 | D45: =C43*C45*I43 -> 39.6 | E45: 0 | G45: =D45+E45 -> 39.6 | H45: =((C43/6)*(45*B45)*(I43*C45))/1000 -> 5.94 | I45: =(G45+H45) -> 45.54 | J45: =B45*B45/162 -> 2.4691358 | K45: =I45*J45 -> 112.44444 | L45: No of Striupps | M45: 23 | N45: Length | O45: 3.3 | Q45: =B46 -> 6 | R45: =R44 -> 250 | S45: 130 | T45: 40 | U45: =R45-(2*T45) -> 170 | V45: =S45 -> 130 | W45: =2*(U45+V45)+(2*10*Q45)-(5*2*Q45) -> 660 | X45: =W45/1000 -> 0.66
B46: 6 | C46: =M45 -> 23 | D46: =Y44 -> 1.5 | E46: 0 | G46: =D46*C46*I43 -> 103.5 | I46: =G46 -> 103.5 | J46: =B46*B46/162 -> 0.22222222 | K46: =I46*J46 -> 23 | L46: Ring Length | M46: =Y44 -> 1.5
A48: =M48 -> C4 | B48: Length | C48: =O50 -> 3.3 | D48: SIZE | E48: =O48 -> 200 | F48: x | G48: =O49 -> 200 | H48: No. of Column | I48: =M49 -> 1 | L48: Column | M48: C4 | N48: Width | O48: 200 | P48: Description | Q48: Diameter | R48: Width | S48: Depth | T48: Cover | U48: Ring Width | V48: Ring Depth | W48: Ring Perimeter (mm) | X48: Ring Perimeter (m) | Y48: Ring Length
B49: 20 | C49: 4 | D49: =C48*C49*I48 -> 13.2 | E49: 0 | G49: =D49+E49 -> 13.2 | H49: =((C48/6)*(45*B49)*(I48*C49))/1000 -> 1.98 | I49: =(G49+H49) -> 15.18 | J49: =B49*B49/162 -> 2.4691358 | K49: =I49*J49 -> 37.481481 | L49: No Of Column | M49: 1 | N49: Depth | O49: 200 | P49: =M48 -> C4 | Q49: =B51 -> 6 | R49: =O48 -> 200 | S49: =O49 -> 200 | T49: 40 | U49: =R49-(2*T49) -> 120 | V49: =S49-(2*T49) -> 120 | W49: =2*(U49+V49)+(2*10*Q49)-(5*2*Q49) -> 540 | X49: =W49/1000 -> 0.54 | Y49: =SUM(X49:X51) -> 0.54
B50: 20 | C50: 4 | D50: =C48*C50*I48 -> 13.2 | E50: 0 | G50: =D50+E50 -> 13.2 | H50: =((C48/6)*(45*B50)*(I48*C50))/1000 -> 1.98 | I50: =(G50+H50) -> 15.18 | J50: =B50*B50/162 -> 2.4691358 | K50: =I50*J50 -> 37.481481 | L50: No of Striupps | M50: 23 | N50: Length | O50: 3.3
...

Sheet S (L&B.L)
A1: LIFT REINFORCEMENT
A3: FOUNDATION FLOOR
A4: ITEM | B4: DES. | C4: DIA OF BARS | D4: BAR LENGTH | E4: LENGTH OF THE WALL (m) | F4: SPACING (m) | G4: NO.OF BARS | H4: LAP LENGTH (m) | I4: TOTAL LENGTH (m) | J4: UNIT WEIGHT (Kg) | K4: TOTAL WEIGHT (Kg) | L4: TOTAL (Kg)
A5: LIFT | B5: Vertical (Y) | C5: 12 | D5: 3 | E5: =D6 -> 6.762 | F5: 0.1 | G5: =(E5/F5)+1 -> 68.62 | H5: =(((45*C5)/6)*D5)/1000 -> 0.27 | I5: =(D5+H5)*G5 -> 224.3874 | J5: =C5*C5/162 -> 0.88888889 | K5: =J5*I5 -> 199.45547 | L5: =K5+K6 -> 241.26102
B6: Horizontal (X) | C6: 10 | D6: 6.762 | E6: =D5 -> 3 | F6: 0.15 | G6: =(E6/F6)+1 -> 21 | H6: =(((45*C6)/6)*E6)/1000 -> 0.225 | I6: =(E6+H6)*G6 -> 67.725 | J6: =C6*C6/162 -> 0.61728395 | K6: =J6*I6 -> 41.805556
A8: GROUND FLOOR
A9: ITEM | B9: DES. | C9: DIA OF BARS | D9: BAR LENGTH | E9: LENGTH OF THE WALL (m) | F9: SPACING (m) | G9: NO.OF BARS | H9: LAP LENGTH (m) | I9: TOTAL LENGTH (m) | J9: UNIT WEIGHT (Kg) | K9: TOTAL WEIGHT (Kg) | L9: TOTAL (Kg)
A10: LIFT | B10: Vertical (Y) | C10: 12 | D10: 3.3 | E10: =D11 -> 5.173 | F10: 0.1 | G10: =(E10/F10)+1 -> 52.73 | H10: =(((45*C10)/6)*D10)/1000 -> 0.297 | I10: =(D10+H10)*G10 -> 189.66981 | J10: =C10*C10/162 -> 0.88888889 | K10: =J10*I10 -> 168.59539 | L10: =K10+K11 -> 218.96113
B11: Horizontal (X) | C11: 10 | D11: 5.173 | E11: =D10 -> 3.3 | F11: 0.15 | G11: =(E11/F11)+1 -> 23 | H11: =(((45*C11)/6)*E11)/1000 -> 0.2475 | I11: =(E11+H11)*G11 -> 81.5925 | J11: =C11*C11/162 -> 0.61728395 | K11: =J11*I11 -> 50.365741
A13: 1ST-5TH FLOOR
A14: ITEM | B14: DES. | C14: DIA OF BARS | D14: BAR LENGTH | E14: LENGTH OF THE WALL (m) | F14: SPACING (m) | G14: NO.OF BARS | H14: LAP LENGTH (m) | I14: TOTAL LENGTH (m) | J14: UNIT WEIGHT (Kg) | K14: TOTAL WEIGHT (Kg) | L14: TOTAL (Kg)
A15: LIFT | B15: Vertical (Y) | C15: 12 | D15: 3 | E15: =D16 -> 5.173 | F15: 0.1 | G15: =(E15/F15)+1 -> 52.73 | H15: =(((45*C15)/6)*D15)/1000 -> 0.27 | I15: =(D15+H15)*G15 -> 172.4271 | J15: =C15*C15/162 -> 0.88888889 | K15: =J15*I15 -> 153.26853 | L15: =K15+K16 -> 195.07409
B16: Horizontal (X) | C16: 10 | D16: 5.173 | E16: =D15 -> 3 | F16: 0.15 | G16: =(E16/F16)+1 -> 21 | H16: =(((45*C16)/6)*E16)/1000 -> 0.225 | I16: =(E16+H16)*G16 -> 67.725 | J16: =C16*C16/162 -> 0.61728395 | K16: =J16*I16 -> 41.805556
A18: TERRACE FLOOR
A19: ITEM | B19: DES. | C19: DIA OF BARS | D19: BAR LENGTH | E19: LENGTH OF THE WALL (m) | F19: SPACING (m) | G19: NO.OF BARS | H19: LAP LENGTH (m) | I19: TOTAL LENGTH (m) | J19: UNIT WEIGHT (Kg) | K19: TOTAL WEIGHT (Kg) | L19: TOTAL (Kg)
A20: LIFT | B20: Vertical (Y) | C20: 12 | D20: 4 | E20: =D21 -> 5.173 | F20: 0.1 | G20: =(E20/F20)+1 -> 52.73 | H20: =(((45*C20)/6)*D20)/1000 -> 0.36 | I20: =(D20+H20)*G20 -> 229.9028 | J20: =C20*C20/162 -> 0.88888889 | K20: =J20*I20 -> 204.35804 | L20: =K20+K21 -> 277.79426
B21: Horizontal (X) | C21: 10 | D21: 5.173 | E21: =D20 -> 4 | F21: 0.15 | G21: =(E21/F21)+1 -> 27.666667 | H21: =(((45*C21)/6)*E21)/1000 -> 0.3 | I21: =(E21+H21)*G21 -> 118.96667 | J21: =C21*C21/162 -> 0.61728395 | K21: =J21*I21 -> 73.436214
A24: RC WALL REINFORCEMNT
A26: 1ST - 5TH FLOOR
A27: ITEM | B27: DES. | C27: DIA OF BARS | D27: BAR LENGTH | E27: LENGTH OF THE WALL (m) | F27: SPACING (m) | G27: NO.OF BARS | H27: LAP LENGTH (m) | I27: TOTAL LENGTH (m) | J27: UNIT WEIGHT (Kg) | K27: TOTAL WEIGHT (Kg) | L27: TOTAL (Kg)
A28: RC WALL | B28: Vertical (Y) | C28: 10 | D28: 1.5 | E28: =D29 -> 2.07 | F28: 0.1 | G28: =(E28/F28)+1 -> 21.7 | H28: =(((45*C28)/6)*D28)/1000 -> 0.1125 | I28: =(D28+H28)*G28 -> 34.99125 | J28: =C28*C28/162 -> 0.61728395 | K28: =J28*I28 -> 21.599537 | L28: =K28+K29 -> 32.548611
B29: Horizontal (X) | C29: 10 | D29: 2.07 | E29: =D28 -> 1.5 | F29: 0.15 | G29: =(E29/F29)+1 -> 11 | H29: =(((45*C29)/6)*E29)/1000 -> 0.1125 | I29: =(E29+H29)*G29 -> 17.7375 | J29: =C29*C29/162 -> 0.61728395 | K29: =J29*I29 -> 10.949074
A31: TERRACE FLOOR
A32: ITEM | B32: DES. | C32: DIA OF BARS | D32: BAR LENGTH | E32: LENGTH OF THE WALL (m) | F32: SPACING (m) | G32: NO.OF BARS | H32: LAP LENGTH (m) | I32: TOTAL LENGTH (m) | J32: UNIT WEIGHT (Kg) | K32: TOTAL WEIGHT (Kg) | L32: TOTAL (Kg)
A33: RC WALL-0.60M | B33: Vertical (Y) | C33: 10 | D33: 0.9 | E33: =D34 -> 15.75 | F33: 0.1 | G33: =(E33/F33)+1 -> 158.5 | H33: =(((45*C33)/6)*D33)/1000 -> 0.0675 | I33: =(D33+H33)*G33 -> 153.34875 | J33: =C33*C33/162 -> 0.61728395 | K33: =J33*I33 -> 94.659722 | L33: =K33+K34 -> 98.840278
B34: Horizontal (X) | C34: 10 | D34: =8.49+5.76+1.5 -> 15.75 | E34: =D33 -> 0.9 | F34: 0.15 | G34: =(E34/F34)+1 -> 7 | H34: =(((45*C34)/6)*E34)/1000 -> 0.0675 | I34: =(E34+H34)*G34 -> 6.7725 | J34: =C34*C34/162 -> 0.61728395 | K34: =J34*I34 -> 4.1805556
A35: RC WALL-1.20M | B35: Vertical (Y) | C35: 10 | D35: 1.5 | E35: =D36 -> 9.48 | F35: 0.15 | G35: =(E35/F35)+1 -> 64.2 | H35: =(((45*C35)/6)*D35)/1000 -> 0.1125 | I35: =(D35+H35)*G35 -> 103.5225 | J35: =C35*C35/162 -> 0.61728395 | K35: =J35*I35 -> 63.902778 | L35: =K35+K36 -> 74.851852
B36: Horizontal (X) | C36: 10 | D36: =8.58+0.9 -> 9.48 | E36: =D35 -> 1.5 | F36: 0.15 | G36: =(E36/F36)+1 -> 11 | H36: =(((45*C36)/6)*E36)/1000 -> 0.1125 | I36: =(E36+H36)*G36 -> 17.7375 | J36: =C36*C36/162 -> 0.61728395 | K36: =J36*I36 -> 10.949074
A37: RF LVL-1.20M | B37: Vertical (Y) | C37: 10 | D37: 1.5 | E37: =D38 -> 19.418 | F37: 0.15 | G37: =(E37/F37)+1 -> 130.45333 | H37: =(((45*C37)/6)*D37)/1000 -> 0.1125 | I37: =(D37+H37)*G37 -> 210.356 | J37: =C37*C37/162 -> 0.61728395 | K37: =J37*I37 -> 129.84938 | L37: =K37+K38 -> 140.79846
B38: Horizontal (X) | C38: 10 | D38: =11.964+7.454 -> 19.418 | E38: =D37 -> 1.5 | F38: 0.15 | G38: =(E38/F38)+1 -> 11 | H38: =(((45*C38)/6)*E38)/1000 -> 0.1125 | I38: =(E38+H38)*G38 -> 17.7375 | J38: =C38*C38/162 -> 0.61728395 | K38: =J38*I38 -> 10.949074

Sheet S (SL)
A2: RAFT SLAB
A4: TYPE | B4: AXIS | C4: DIA OF BARS | D4: BAR LENGTH | E4: LENGTH OF SLAB | F4: SPACING | G4: NO OF BARS | H4: ROUNDED NO OF BARS | I4: NO OF REPEAT | J4: BEND LENGTH | K4: LAP LENGTH | L4: TOTAL LENGTH | M4: UNIT WEIGHT | N4: TOTAL WEIGHT
A5: Bottom | B5: B1 | C5: 12 | D5: 19.86 | E5: 7.1 | F5: 0.15 | G5: =(E5/F5)+1 -> 48.333333 | H5: 50 | I5: 2 | J5: =(15*C5*2)/1000 -> 0.36 | K5: =(D5/6)*(0.04*C5) -> 1.5888 | L5: =H5*(D5+J5+K5)*I5 -> 2180.88 | M5: =C5*C5/162 -> 0.88888889 | N5: =L5*M5 -> 1938.56
A6: Bottom | B6: B1 | C6: 12 | D6: 7.1 | E6: 19.86 | F6: 0.15 | G6: =(E6/F6)+1 -> 133.4 | H6: 135 | I6: 2 | J6: =(15*C6*2)/1000 -> 0.36 | K6: =(D6/6)*(0.04*C6) -> 0.568 | L6: =H6*(D6+J6+K6)*I6 -> 2167.56 | M6: =C6*C6/162 -> 0.88888889 | N6: =L6*M6 -> 1926.72
M7: Total = | N7: =SUM(N5:N6) -> 3865.28 | O7: =N7*15% -> 579.792 | P7: =N7+O7 -> 4445.072
A10: GRADE SLAB
