Workbook
Name Beg_Bal: '[1]Loan Calculator'!$C$18:$C$377
Name End_Bal: '[1]Loan Calculator'!$I$18:$I$377
Name Extra_Pay: '[1]Loan Calculator'!$E$18:$E$377
Name Full_Print: '[1]Loan Calculator'!$A$1:$I$377
Name Header_Row: ROW('[1]Loan Calculator'!$A$17:$IV$17)
Name Int: '[1]Loan Calculator'!$H$18:$H$377
Name Interest_Rate: '[1]Loan Calculator'!$D$5
Name Last_Row: IF(Values_Entered,Header_Row+Number_of_Payments,Header_Row)
Name Loan_Amount: '[1]Loan Calculator'!$D$4
Name Loan_Start: '[1]Loan Calculator'!$D$7
Name Loan_Years: '[1]Loan Calculator'!$D$6
Name Number_of_Payments: MATCH(0.01,End_Bal,-1)+1
Name Pay_Num: '[1]Loan Calculator'!$A$18:$A$377
Name Payment_Date: DATE(YEAR([0]!Loan_Start),MONTH([0]!Loan_Start)+Payment_Number,DAY([0]!Loan_Start))
Name Payment_Date: DATE(YEAR([0]!Loan_Start),MONTH([0]!Loan_Start)+Payment_Number,DAY([0]!Loan_Start))
Name Payment_Date: DATE(YEAR([0]!Loan_Start),MONTH([0]!Loan_Start)+Payment_Number,DAY([0]!Loan_Start))
Name Payment_Date: DATE(YEAR([0]!Loan_Start),MONTH([0]!Loan_Start)+Payment_Number,DAY([0]!Loan_Start))
Name Payment_Date: DATE(YEAR([0]!Loan_Start),MONTH([0]!Loan_Start)+Payment_Number,DAY([0]!Loan_Start))
Name Payment_Date: DATE(YEAR([0]!Loan_Start),MONTH([0]!Loan_Start)+Payment_Number,DAY([0]!Loan_Start))
Name Payment_Date: DATE(YEAR(Loan_Start),MONTH(Loan_Start)+Payment_Number,DAY(Loan_Start))
Name Princ: '[1]Loan Calculator'!$G$18:$G$377
Name Print_Area_Reset: OFFSET(Full_Print,0,0,Last_Row)
Name q: IF(Loan_Amount*Interest_Rate*Loan_Years*Loan_Start>0,1,0)
Name Sched_Pay: '[1]Loan Calculator'!$D$18:$D$377
Name Scheduled_Extra_Payments: '[1]Loan Calculator'!$D$8
Name Scheduled_Monthly_Payment: '[1]Loan Calculator'!$D$11
Name Total_Pay: '[1]Loan Calculator'!$F$18:$F$377
Name Total_Payment: Scheduled_Payment+Extra_Payment
Name Total_Payment: Scheduled_Payment+Extra_Payment
Name Total_Payment: Scheduled_Payment+Extra_Payment
Name Total_Payment: Scheduled_Payment+Extra_Payment
Name Total_Payment: Scheduled_Payment+Extra_Payment
Name Total_Payment: Scheduled_Payment+Extra_Payment
Name Total_Payment: Scheduled_Payment+Extra_Payment
Name Values_Entered: IF(Loan_Amount*Interest_Rate*Loan_Years*Loan_Start>0,1,0)

Sheet Cov
A6: BILL OF QUANTITIES
A11: IGMH- PROPOSED OFFICE & CEILING WORK
A32: REPUBLIC OF MALDIVES
A34: FEB 2025
B455: f) Concealed ceiling to all other areas should be covered with 90mm tk SCG elephant gypsum board with steel frame, beading, nails and screws, along with required inspection openings.

Sheet SUM_GR FL
A2: IGMH- PROPOSED OFFICE & CEILING WORK
A4: SUMMARY
A7: BILL NO | B7: DESCRIPTION | D7: AMOUNT | E7: CURRENCY
A9: 1 | B9: ='GL FL'!B3 -> BILL NO: 01 - PRELIMINARIES | D9: ='GL FL'!G26 -> 0 | E9: MVR
A11: 2 | B11: BILL NO: 02 - PROPOSED OFFICE | D11: ='GL FL'!G430 -> 0 | E11: MVR
A13: 3 | B13: BILL N0: 03 - GOOD DISPENSING AREA | D13: ='GL FL'!G452 -> 0 | E13: MVR
A15: 4 | B15: BILL N0: 04 - GOOD STORAGE ROOM | D15: ='GL FL'!G471 -> 0 | E15: MVR
A17: 5 | B17: BILL N0: 05 - COLD STORAGE | D17: ='GL FL'!G496 -> 0 | E17: MVR
A19: 6 | B19: BILL N0: 06- FILES MOVING TO HULHUMALE WAREHOUSE | D19: ='GL FL'!G518 -> 0 | E19: MVR
A20: SUB TOTAL = | D20: =SUM(D9:D19) -> 0 | E20: MVR
A21: GST 8% = | D21: =D20*8/100 -> 0 | E21: MVR
A22: GRAND TOTAL = | D22: =D20+D21 -> 0 | E22: MVR
A23: DURATION = | E23: DAYS
A24: VALIDITY = | E24: DAYS
B455: f) Concealed ceiling to all other areas should be covered with 90mm tk SCG elephant gypsum board with steel frame, beading, nails and screws, along with required inspection openings.

Sheet GL FL
A1: SL.NO | B1: DESCRIPTION | C1: UNIT | D1: QTY | E1: LABOUR RATE | F1: MATERIAL RATE | G1: TOTAL AMOUNT
B3: BILL NO: 01 - PRELIMINARIES
A4: 1.1 | B4: GENERAL
B5: Abbreviations
B6: m - meter
B7: nos - numbers
B8: Cu.m - cubic meter
B9: Sq.m - square meter
B10: Rm - Running meter
B11: Kg - Kilograms
B12: incl - including
B13: mm - millimeter
B14: dia - diameter
B15: SS - Stainless Steel
B16: GI - Galvanized Iron
A18: 1.2 | B18: MOBILIZATION
A19: 1.2.1 | B19: Rates shall include for: Removal of the existing shelf, removing the paint, clearing the site and removal of the exisitng Network cable. | C19: LS | D19: 1 | E19: 0 | F19: 0 | G19: =D19*E19+F19 -> 0
A20: 1.2.2 | B20: Removing Store area and office area ceiling after staffs shift to new office area | C20: LS | D20: 1 | E20: 0 | F20: 0 | G20: =D20*E20+F20 -> 0
A22: 1.3 | B22: TERMITE TREATMENT
A23: 1.3.1 | B23: Approved termite treatment is recommended as it is an extisting building. | C23: LS | D23: 1 | E23: 0 | F23: 0 | G23: =D23*E23+F23 -> 0
A26: TOTAL OF BILL NO. 01 - PRELIMINARIES | G26: =SUM(G19:G23) -> 0
A27: (CARRIED OVER TO THE GENERAL SUMMARY)
B29: BILL NO: 03
B30: CONCRETE WORKS
A31: 3.1 | B31: GENERAL
B32: a) Mix ratio for reinforced concrete & lean concrete shall be as specified by the structural engineer/as per drawing. | C32: note
B33: b) Rates for reinforcement shall include for: cleaning, fabrication, placing, the provision for all necessary temporary fixings and supports including tie wire and chair supports, laps and wastage. | C33: note
B34: c) Rates for reinforcement shall be given in compliance to all structural drawings and technical specifications. | C34: note
B35: d) Rates includes all necessary curing as per standard and third party testing over the cement, concrete cube and on steel and cube has to be cast for testing as per standard. | C35: note
A37: 3.2 | B37: CONCRETE WORKS
B38: LEAN CONCRETE
B39: Note: Quantity is measured to the edges of concrete members. Rates shall be inclusive of any additional concrete required to place the formwork.
A40: 3.2.1 | B40: 50mm thick lean concrete under the footing & tie beam with a mix of 1:2:4 | C40: Cu.m | D40: #REF! | E40: 5200 | G40: #REF!
B42: REINFORCED CONCRETE (1:2:3)
A43: 3.2.2 | B43: Raft - 400mm tk | C43: Cu.m | D43: 14.520375 | E43: 5200 | G43: 75505.95
A44: 3.2.3 | B44: Foundation beams | C44: Cu.m | D44: 17.7881 | E44: 5200 | G44: 92498.12
A45: 3.2.4 | B45: Columns | C45: Cu.m | D45: 1.8315 | E45: 5200 | G45: 9523.8
A46: 3.2.5 | B46: Lift wall | C46: Cu.m | D46: #REF! | E46: 5200 | G46: #REF!
A47: 3.2.6 | B47: Stair starter | C47: Cu.m | D47: 0.7215 | E47: 5200 | G47: 3751.8
A48: 3.2.7 | B48: Grade slab - 100mm tk | C48: Cu.m | D48: 15.877408 | E48: 5200 | G48: 82562.522
B50: FORMWORK
A51: 3.2.8 | B51: =B43 -> Raft - 400mm tk | C51: item | D51: 1 | E51: 11300 | G51: 11300
A52: 3.2.9 | B52: =B44 -> Foundation beams | C52: Sq.m | D52: 85.8848 | E52: 320 | G52: 27483.136
A53: 3.2.10 | B53: =B45 -> Columns | C53: Sq.m | D53: 30.155 | E53: 320 | G53: 9649.6
A54: 3.2.11 | B54: =B46 -> Lift wall | C54: Sq.m | D54: #REF! | E54: 320 | G54: #REF!
A55: 3.2.12 | B55: =B47 -> Stair starter | C55: Sq.m | D55: 5.92 | E55: 320 | G55: 1894.4
B57: REINFORCEMENT
A58: 3.2.13 | B58: =B51 -> Raft - 400mm tk
A59: a) | B59: T12 | C59: Kg | D59: 4445.072 | E59: 29.5 | G59: 131129.62
A60: 3.2.14 | B60: =B52 -> Foundation beams
A61: a) | B61: T20 | C61: Kg | D61: 0 | E61: 29.5 | G61: 0
A62: b) | B62: T16 | C62: Kg | D62: 2525.2879 | E62: 29.5 | G62: 74495.994
A63: c) | B63: T10 | C63: Kg | D63: 0 | E63: 29.5 | G63: 0
A64: 3.2.15 | B64: =B53 -> Columns
A65: a) | B65: T20 | C65: Kg | D65: 368 | E65: 29.5 | G65: 10856
A66: b) | B66: T16 | C66: Kg | D66: 159.28889 | E66: 29.5 | G66: 4699.0222
A67: c) | B67: R6 | C67: Kg | D67: 36.275556 | E67: 29.5 | G67: 1070.1289
A68: 3.2.16 | B68: =B54 -> Lift wall
A69: a) | B69: T12 | C69: Kg | D69: 199.45547 | E69: 29.5 | G69: 5883.9363
A70: b) | B70: T10 | C70: Kg | D70: 41.805556 | E70: 29.5 | G70: 1233.2639
A71: 3.2.17 | B71: =B55 -> Stair starter
A72: a) | B72: T10 | C72: Kg | D72: 42 | E72: 29.5 | G72: 1239
A73: 3.2.18 | B73: =B48 -> Grade slab - 100mm tk
A74: a) | B74: R6 | C74: Kg | D74: 281.35159 | E74: 29.5 | G74: 8299.8719
A76: 3.3 | B76: GROUND FLOOR
B77: RCC (1:2:3)
A78: 3.3.1 | B78: Columns | C78: Cu.m | D78: 2.97 | E78: 5200 | G78: 15444
A79: 3.3.2 | B79: Attached beams | C79: Cu.m | D79: 7.07456 | E79: 5200 | G79: 36787.712
A80: 3.3.3 | B80: Slab | C80: Cu.m | D80: 18.231172 | E80: 5200 | G80: 94802.094
A81: 3.3.4 | B81: Lift wall | C81: Cu.m | D81: #REF! | E81: 5200 | G81: #REF!
A82: 3.3.5 | B82: Staircase | C82: Cu.m | D82: 1.64188 | E82: 5200 | G82: 8537.776
B84: FORMWORK
A85: 3.3.6 | B85: Columns | C85: Sq.m | D85: 48.9 | E85: 320 | G85: 15648
A86: 3.3.7 | B86: Attached beams | C86: Sq.m | D86: 88.432 | E86: 320 | G86: 28298.24
A87: 3.3.8 | B87: Slab | C87: Sq.m | D87: -8.69516 | E87: 320 | G87: -2782.4512
A88: 3.3.9 | B88: Lift wall | C88: Sq.m | D88: #REF! | E88: 320 | G88: #REF!
A89: 3.3.10 | B89: Staircase | C89: Sq.m | D89: 12 | E89: 320 | G89: 3840
B91: REINFORCEMENT
A92: 3.3.11 | B92: Columns
A93: a) | B93: T20 | C93: Kg | D93: 674.66667 | E93: 29.5 | G93: 19902.667
A94: b) | B94: T16 | C94: Kg | D94: 280.34844 | E94: 29.5 | G94: 8270.2791
A95: c) | B95: R6 | C95: Kg | D95: 124.71111 | E95: 29.5 | G95: 3678.9778
A96: 3.3.12 | B96: Attached beams
A97: a) | B97: T16 | C97: Kg | D97: 912 | E97: 29.5 | G97: 26904
A98: c) | B98: R6 | C98: Kg | D98: 173 | E98: 29.5 | G98: 5103.5
A99: 3.3.13 | B99: Slab
A100: a) | B100: T10 | C100: Kg | D100: 2792.2974 | E100: 29.5 | G100: 82372.775
A101: 3.3.14 | B101: Lift wall
A102: a) | B102: T12 | C102: Kg | D102: 168.59539 | E102: 29.5 | G102: 4973.5639
A103: b) | B103: T10 | C103: Kg | D103: 50.365741 | E103: 29.5 | G103: 1485.7894
A104: 3.3.15 | B104: Staircase
A105: a) | B105: T10 | C105: Kg | D105: 190 | E105: 29.5 | G105: 5605
A107: 3.4 | B107: FIRST FLOOR
B108: RCC (1:2:3)
A109: 3.4.1 | B109: Columns | C109: Cu.m | D109: #REF! | E109: 5200 | G109: #REF!
A110: 3.4.2 | B110: Attached beams | C110: Cu.m | D110: #REF! | E110: 5200 | G110: #REF!
A111: 3.4.3 | B111: Slab | C111: Cu.m | D111: #REF! | E111: 5200 | G111: #REF!
A112: 3.4.4 | B112: Lift wall | C112: Cu.m | D112: #REF! | E112: 5200 | G112: #REF!
A113: 3.4.5 | B113: Staircase | C113: Cu.m | D113: #REF! | E113: 5200 | G113: #REF!
A114: 3.4.6 | B114: Rc wall | C114: Cu.m | D114: #REF! | E114: 5200 | G114: #REF!
...

Sheet STR_
A1: FOUNDATION | B1: ISOLATED FOOTING
A4: EXCAVATION | B4: =F13+F21 -> 30.66035 | C4: Cu.m | I4: 50mm tk Sand bed | L4: =N13+N21 -> 61.70775 | M4: Sq.m
A6: Description | B6: Nos | C6: Length | D6: Width | E6: Depth | F6: Cu. Value | I6: Description | J6: Nos | L6: Length | M6: Width | N6: Sq.Value
A8: F1 | B8: 2 | C8: =2.1+0.05 -> 2.15 | D8: =2.1+0.05 -> 2.15 | E8: 0.35 | F8: =E8*D8*C8*B8 -> 3.23575 | G8: Need to add 50mm both side | I8: =A8 -> F1 | J8: =B8 -> 2 | L8: =C8 -> 2.15 | M8: =D8 -> 2.15 | N8: =M8*L8*J8 -> 9.245
A9: F2 | B9: 2 | C9: =1.85+0.05 -> 1.9 | D9: =1.85+0.05 -> 1.9 | E9: 0.3 | F9: =E9*D9*C9*B9 -> 2.166 | G9: Need to add 50mm both side | I9: =A9 -> F2 | J9: =B9 -> 2 | L9: =C9 -> 1.9 | M9: =D9 -> 1.9 | N9: =M9*L9*J9 -> 7.22
A10: F3 | B10: 9 | C10: =1.7+0.05 -> 1.75 | D10: =1.7+0.05 -> 1.75 | E10: 0.3 | F10: =E10*D10*C10*B10 -> 8.26875 | G10: Need to add 50mm both side | I10: =A10 -> F3 | J10: =B10 -> 9 | L10: =C10 -> 1.75 | M10: =D10 -> 1.75 | N10: =M10*L10*J10 -> 27.5625
A11: F4 | B11: 3 | C11: =1.45+0.05 -> 1.5 | D11: =1.45+0.05 -> 1.5 | E11: 0.25 | F11: =E11*D11*C11*B11 -> 1.6875 | G11: Need to add 50mm both side | I11: =A11 -> F4 | J11: =B11 -> 3 | L11: =C11 -> 1.5 | M11: =D11 -> 1.5 | N11: =M11*L11*J11 -> 6.75
A13: Total = | F13: =SUM(F7:F12) -> 15.358 | I13: Total = | N13: =SUM(N7:N12) -> 50.7775
A15: Description | B15: Nos | C15: Length | D15: Width | E15: Depth | F15: Cu. Value | I15: Description | J15: Nos | L15: Length | M15: Width/Depth | N15: Sq.Value
A17: TB1 | B17: 1 | C17: =N24 -> 6.89 | D17: 0.25 | E17: 1.4 | F17: =E17*D17*C17*B17 -> 2.4115 | I17: =A17 -> TB1 | J17: =B17 -> 1 | L17: =C17 -> 6.89 | M17: =D17 -> 0.25 | N17: =M17*L17*J17 -> 1.7225
A18: TB2 | B18: 1 | C18: =N25 -> 7.928 | D18: 0.25 | E18: 1.4 | F18: =E18*D18*C18*B18 -> 2.7748 | I18: =A18 -> TB2 | J18: =B18 -> 1 | L18: =C18 -> 7.928 | M18: =D18 -> 0.25 | N18: =M18*L18*J18 -> 1.982
A19: TB3 | B19: 1 | C19: =N26 -> 28.903 | D19: 0.25 | E19: 1.4 | F19: =E19*D19*C19*B19 -> 10.11605 | I19: =A19 -> TB3 | J19: =B19 -> 1 | L19: =C19 -> 28.903 | M19: =D19 -> 0.25 | N19: =M19*L19*J19 -> 7.22575
A21: Total = | F21: =SUM(F16:F20) -> 15.30235 | I21: Total = | N21: =SUM(N16:N20) -> 10.93025
A23: LENGTH DETAILS:
A24: =A17 -> TB1 | B24: =2.305 -> 2.305 | C24: =2.23 -> 2.23 | D24: =2.355 -> 2.355 | N24: =SUM(B24:M24) -> 6.89
A25: =A18 -> TB2 | B25: 2.645 | C25: 2 270 | D25: 2.678 | E25: 2.605 | N25: =SUM(B25:M25) -> 7.928
A26: =A19 -> TB3 | B26: 1.2 | C26: 3.22 | D26: 0.875 | E26: 3.02 | F26: 2.678 | G26: =2*1.05 -> 2.1 | H26: =2*3.27 -> 6.54 | I26: 2.434 | J26: =2.112*2 -> 4.224 | L26: =2.437+0.175 -> 2.612 | N26: =SUM(B26:M26) -> 28.903
A28: LEAN CONCRETE | B28: =F37+F45 -> 3.0853875 | C28: Cu.m
A30: Description | B30: Nos | C30: Length | D30: Width | E30: Depth | F30: Cu. Value
A32: =A8 -> F1 | B32: =B8 -> 2 | C32: =C8 -> 2.15 | D32: =D8 -> 2.15 | E32: 0.05 | F32: =E32*D32*C32*B32 -> 0.46225
A33: =A9 -> F2 | B33: =B9 -> 2 | C33: =C9 -> 1.9 | D33: =D9 -> 1.9 | E33: 0.05 | F33: =E33*D33*C33*B33 -> 0.361
A34: =A10 -> F3 | B34: =B10 -> 9 | C34: =C10 -> 1.75 | D34: =D10 -> 1.75 | E34: 0.05 | F34: =E34*D34*C34*B34 -> 1.378125
A35: =A11 -> F4 | B35: =B11 -> 3 | C35: =C11 -> 1.5 | D35: =D11 -> 1.5 | E35: 0.05 | F35: =E35*D35*C35*B35 -> 0.3375
A37: Total = | F37: =SUM(F31:F36) -> 2.538875
A39: Description | B39: Nos | C39: Length | D39: Width | E39: Depth | F39: Cu. Value
A41: =A17 -> TB1 | B41: =B17 -> 1 | C41: =C17 -> 6.89 | D41: =D17 -> 0.25 | E41: 0.05 | F41: =E41*D41*C41*B41 -> 0.086125
A42: TB2 | B42: 1 | C42: =C18 -> 7.928 | D42: =D18 -> 0.25 | E42: 0.05 | F42: =E42*D42*C42*B42 -> 0.0991
A43: =A19 -> TB3 | B43: =B19 -> 1 | C43: =C19 -> 28.903 | D43: =D19 -> 0.25 | E43: 0.05 | F43: =E43*D43*C43*B43 -> 0.3612875
A45: Total = | F45: =SUM(F40:F44) -> 0.5465125
A47: LENGTH DETAILS:
A48: =A41 -> TB1 | B48: =3.7*8 -> 29.6 | C48: =3.5*4 -> 14 | D48: =3.7*4 -> 14.8 | E48: =3.7*6 -> 22.2 | N48: =SUM(B48:M48) -> 80.6
A49: =A25 -> TB2 | B49: =B25 -> 2.645 | C49: =C25 -> 2 270 | D49: =D25 -> 2.678 | E49: =E25 -> 2.605 | N49: =SUM(B49:M49) -> 7.928
A50: =A43 -> TB3 | B50: =B26 -> 1.2 | C50: =C26 -> 3.22 | D50: =D26 -> 0.875 | E50: =E26 -> 3.02 | F50: =F26 -> 2.678 | G50: =G26 -> 2.1 | H50: =H26 -> 6.54 | I50: =I26 -> 2.434 | J50: =J26 -> 4.224 | L50: =L26 -> 2.612 | N50: =SUM(B50:M50) -> 28.903
A52: SOLID CONCRETE | H52: SHUTTERING | O52: BITUMEN LAYER | T52: BITUMEN LAYER
A53: FOOTING | B53: =F63 -> 14.520375 | C53: Cu.m | H53: =A53 -> FOOTING | I53: =M63 -> 33.03 | J53: Sq.m | O53: =H53 -> FOOTING | P53: =R63 -> 47.9825 | Q53: Sq.m | T53: =O53 -> FOOTING | U53: =W63 -> 33.03 | V53: Sq.m
A54: TIE BEAM | B54: =F70 -> 17.7881 | C54: Cu.m | H54: =A54 -> TIE BEAM | I54: =M70 -> 85.8848 | J54: Sq.m | O54: =H54 -> TIE BEAM | P54: =R70 -> 29.35775 | Q54: Sq.m | T54: =O54 -> TIE BEAM | U54: =W70 -> 85.8848 | V54: Sq.m
O55: TOP SURFACE | T55: SIDE
A56: Description | B56: Nos | C56: Length | D56: Width | E56: Depth | F56: Cu. Value | H56: Description | I56: Nos | J56: Length | K56: Extra | L56: Depth | M56: Sq. Value | O56: Description | P56: Nos | Q56: Area | R56: Sq.Value | T56: Description | U56: Perimeter | V56: Depth | W56: Sq.Value
A58: =A8 -> F1 | B58: =B8 -> 2 | C58: 2.1 | D58: 2.1 | E58: 0.35 | F58: =E58*D58*C58*B58 -> 3.087 | H58: =A58 -> F1 | I58: =B58 -> 2 | J58: =2*(C58+D58) -> 8.4 | K58: 0.05 | L58: =E58 -> 0.35 | M58: =I58*J58*L58 -> 5.88 | O58: =H58 -> F1 | P58: =I58 -> 2 | Q58: =C58*D58 -> 4.41 | R58: =Q58*P58 -> 8.82 | T58: =O58 -> F1 | U58: =J58 -> 8.4 | V58: =L58 -> 0.35 | W58: =V58*U58*I58 -> 5.88
A59: =A9 -> F2 | B59: =B9 -> 2 | C59: 1.85 | D59: 1.85 | E59: 0.3 | F59: =E59*D59*C59*B59 -> 2.0535 | H59: =A59 -> F2 | I59: =B59 -> 2 | J59: =2*(C59+D59) -> 7.4 | L59: =E59 -> 0.3 | M59: =I59*J59*L59 -> 4.44 | O59: =H59 -> F2 | P59: =I59 -> 2 | Q59: =C59*D59 -> 3.4225 | R59: =Q59*P59 -> 6.845 | T59: =O59 -> F2 | U59: =J59 -> 7.4 | V59: =L59 -> 0.3 | W59: =V59*U59*I59 -> 4.44
A60: =A10 -> F3 | B60: =B10 -> 9 | C60: 1.7 | D60: 1.7 | E60: 0.3 | F60: =E60*D60*C60*B60 -> 7.803 | H60: =A60 -> F3 | I60: =B60 -> 9 | J60: =2*(C60+D60) -> 6.8 | L60: =E60 -> 0.3 | M60: =I60*J60*L60 -> 18.36 | O60: =H60 -> F3 | P60: =I60 -> 9 | Q60: =C60*D60 -> 2.89 | R60: =Q60*P60 -> 26.01 | T60: =O60 -> F3 | U60: =J60 -> 6.8 | V60: =L60 -> 0.3 | W60: =V60*U60*I60 -> 18.36
A61: =A11 -> F4 | B61: =B11 -> 3 | C61: 1.45 | D61: 1.45 | E61: 0.25 | F61: =E61*D61*C61*B61 -> 1.576875 | H61: =A61 -> F4 | I61: =B61 -> 3 | J61: =2*(C61+D61) -> 5.8 | L61: =E61 -> 0.25 | M61: =I61*J61*L61 -> 4.35 | O61: =H61 -> F4 | P61: =I61 -> 3 | Q61: =C61*D61 -> 2.1025 | R61: =Q61*P61 -> 6.3075 | T61: =O61 -> F4 | U61: =J61 -> 5.8 | V61: =L61 -> 0.25 | W61: =V61*U61*I61 -> 4.35
A63: Total = | F63: =SUM(F57:F62) -> 14.520375 | H63: Total = | M63: =SUM(M58:M62) -> 33.03 | Q63: Total = | R63: =SUM(R58:R62) -> 47.9825 | V63: Total = | W63: =SUM(W58:W62) -> 33.03
A65: Description | B65: Nos | C65: Length | D65: Width | E65: Depth | F65: Cu. Value | H65: Description | I65: Nos | J65: Length | K65: Extra | L65: Depth | M65: Sq. Value | O65: Description | P65: Length | Q65: Width | R65: Sq.Value | T65: Description | U65: Length | V65: Depth | W65: Sq.Value
A67: TB1 | B67: 1 | C67: =B73 -> 80.6 | D67: 0.25 | E67: 0.7 | F67: =E67*D67*C67*B67 -> 14.105 | H67: =A67 -> TB1 | I67: 1 | J67: =C67 -> 80.6 | L67: =E67 -> 0.7 | M67: =J67*L67*I67 -> 56.42 | O67: =A67 -> TB1 | P67: =C67 -> 80.6 | Q67: =D67 -> 0.25 | R67: =Q67*P67*B67 -> 20.15 | T67: =A67 -> TB1 | U67: =C67 -> 80.6 | V67: =E67 -> 0.7 | W67: =V67*U67 -> 56.42
A68: TB2 & TB3 | B68: 1 | C68: =C73+D73 -> 36.831 | D68: 0.25 | E68: 0.4 | F68: =E68*D68*C68*B68 -> 3.6831 | H68: =A68 -> TB2 & TB3 | I68: =B68 -> 1 | J68: =C68*2 -> 73.662 | K68: 0.05 | L68: 0.4 | M68: =J68*L68*I68 -> 29.4648 | O68: =A68 -> TB2 & TB3 | P68: =C68 -> 36.831 | Q68: =D68 -> 0.25 | R68: =Q68*P68*B68 -> 9.20775 | T68: =A68 -> TB2 & TB3 | U68: =J68 -> 73.662 | V68: =E68 -> 0.4 | W68: =V68*U68 -> 29.4648
A70: Total = | F70: =SUM(F66:F69) -> 17.7881 | H70: Total = | M70: =SUM(M66:M69) -> 85.8848 | Q70: Total = | R70: =SUM(R65:R69) -> 29.35775 | V70: Total = | W70: =SUM(W65:W69) -> 85.8848
A72: LENGTH DETAILS:
A73: TB1,TB2 & TB3 | B73: =N48 -> 80.6 | C73: =N49 -> 7.928 | D73: =N50 -> 28.903 | E73: 0 | N73: =SUM(B73:M73) -> 117.431
A80: FOUNDATION | B80: RAFT FOUNDATION
A82: EXCAVATION | B82: =F88 -> 0 | C82: Cu.m | I82: 50mm tk Sand bed | L82: =N88 -> 0 | M82: Sq.m
A84: Description | B84: Nos | C84: Length/Area | D84: Width | E84: Depth | F84: Cu. Value | I84: Description | J84: Nos | L84: Length | M84: Width/Depth | N84: Sq.Value
A86: 450MM TK RAFT | B86: 0 | C86: 0 | D86: 0 | E86: 0 | F86: =B86*C86*E86 -> 0 | I86: =A86 -> 450MM TK RAFT | J86: =B86 -> 0 | L86: =C86 -> 0 | M86: =D86 -> 0 | N86: =L86*J86 -> 0
A88: Total = | F88: =SUM(F85:F87) -> 0 | I88: Total = | N88: =SUM(N85:N87) -> 0
A91: LEAN CONCRETE | B91: =F97 -> 0 | C91: Cu.m
A93: Description | B93: Nos | C93: Length | D93: Width | E93: Depth | F93: Cu. Value
A95: =A86 -> 450MM TK RAFT | B95: =B86 -> 0 | C95: =C86 -> 0 | D95: =D86 -> 0 | E95: 0.05 | F95: =B95*C95*E95 -> 0
A97: Total = | F97: =SUM(F94:F96) -> 0
A100: SOLID CONCRETE
A101: RAFT | B101: =F107 -> 0 | C101: Cu.m
A103: Description | B103: Nos | C103: Length | D103: Width | E103: Depth | F103: Cu. Value
A105: =A95 -> 450MM TK RAFT | B105: =B95 -> 0 | C105: =C86 -> 0 | D105: =D86 -> 0 | E105: 0.45 | F105: =B105*C105*E105 -> 0
A107: Total = | F107: =SUM(F104:F106) -> 0
A110: FB | B110: =F115 -> 0 | C110: Cu.m | H110: =A110 -> FB | I110: =M115 -> 0 | J110: Sq.m
A112: Description | B112: Nos | C112: Length/Area | D112: Width | E112: Depth | F112: Cu. Value | H112: Description | I112: Nos | J112: Length | K112: Extra | L112: Depth | M112: Sq. Value | O112: CALCULATED BASE ON PERIMETER
A113: FB1-FB4 | B113: 0 | C113: 0 | D113: 0 | E113: 0.55 | F113: =E113*C113*B113 -> 0 | H113: =A113 -> FB1-FB4 | I113: =B113 -> 0 | J113: =Q118 -> 0 | L113: =E113 -> 0.55 | M113: =I113*J113*L113 -> 0
A115: Total = | F115: =SUM(F113:F114) -> 0 | H115: Total = | M115: =SUM(M113:M113) -> 0
A117: FB Length
A118: =A113 -> FB1-FB4 | B118: 0 | C118: 0 | D118: 0 | E118: 0 | F118: 0 | G118: 0 | H118: 0 | I118: 0 | J118: 0 | L118: 0 | M118: 0 | N118: 0 | O118: 0 | P118: 0 | Q118: =SUM(F118:P118) -> 0
A121: COLUMN | B121: =F129 -> 1.8315 | C121: Cu.m | D121: Depth | E121: 1.85 | F121: m | H121: COLUMN | I121: =M129 -> 30.155 | J121: Sq.m | L121: =D121 -> Depth | M121: =E121 -> 1.85 | N121: m | P121: COLUMN | Q121: =T129 -> 30.155 | R121: Sq.m | S121: BITUMEN LAYER
A123: Description | B123: Nos | C123: Length | D123: Width | E123: Depth | F123: Cu. Value | H123: Description | I123: Nos | J123: Perimeter | L123: Depth | M123: Sq. Value | P123: Description | Q123: Nos | R123: Perimeter | S123: Depth | T123: Sq. Value
A125: C1 | B125: 3 | C125: 0.35 | D125: 0.2 | E125: =E121 -> 1.85 | F125: =E125*D125*C125*B125 -> 0.3885 | H125: =A125 -> C1 | I125: =B125 -> 3 | J125: =2*(C125+D125) -> 1.1 | L125: =M121 -> 1.85 | M125: =L125*J125*I125 -> 6.105 | P125: =H125 -> C1 | Q125: =I125 -> 3 | R125: =J125 -> 1.1 | S125: =L125 -> 1.85 | T125: =S125*R125*Q125 -> 6.105
A126: C2 | B126: 4 | C126: 0.3 | D126: 0.2 | E126: =E121 -> 1.85 | F126: =E126*D126*C126*B126 -> 0.444 | H126: =A126 -> C2 | I126: =B126 -> 4 | J126: =2*(C126+D126) -> 1 | L126: =M121 -> 1.85 | M126: =L126*J126*I126 -> 7.4 | P126: =H126 -> C2 | Q126: =I126 -> 4 | R126: =J126 -> 1 | S126: =L126 -> 1.85 | T126: =S126*R126*Q126 -> 7.4
A127: C3 | B127: 9 | C127: 0.3 | D127: 0.2 | E127: =E121 -> 1.85 | F127: =E127*D127*C127*B127 -> 0.999 | H127: =A127 -> C3 | I127: =B127 -> 9 | J127: =2*(C127+D127) -> 1 | L127: =M121 -> 1.85 | M127: =L127*J127*I127 -> 16.65 | P127: =H127 -> C3 | Q127: =I127 -> 9 | R127: =J127 -> 1 | S127: =L127 -> 1.85 | T127: =S127*R127*Q127 -> 16.65
A129: Total = | F129: =SUM(F124:F128) -> 1.8315 | H129: Total = | M129: =SUM(M124:M128) -> 30.155 | P129: Total = | T129: =SUM(T124:T128) -> 30.155
A131: STARTER | B131: =F137 -> 0.7215 | C131: Cu.m | D131: Depth | E131: 1.85 | F131: m | H131: =A131 -> STARTER | I131: =M137 -> 5.92 | J131: Sq.m | L131: =D131 -> Depth | M131: =E131 -> 1.85 | N131: m
A133: Description | B133: Nos | C133: Length | D133: Width | E133: Depth | F133: Cu. Value | H133: Description | I133: Nos | J133: Length | L133: Depth | M133: Sq. Value
A135: 300mm tk Starter | B135: 1 | C135: 1.3 | D135: 0.3 | E135: =E131 -> 1.85 | F135: =E135*D135*C135*B135 -> 0.7215 | H135: =A135 -> 300mm tk Starter | I135: =B135 -> 1 | J135: =2*(C135+D135) -> 3.2 | L135: =M131 -> 1.85 | M135: =L135*J135*I135 -> 5.92
A137: Total = | F137: =SUM(F134:F136) -> 0.7215 | H137: Total = | M137: =SUM(M134:M136) -> 5.92
A139: BACKFLLING | B139: =B4-F146 -> -3.479625 | C139: Cu.m
A141: Description | B141: Nos | C141: Length | D141: Width | E141: Depth | F141: Cu. Value
A143: Footing | B143: 1 | C143: 0 | D143: 0 | E143: 0 | F143: =B53 -> 14.520375
A144: Tie Beams | B144: 1 | C144: 0 | D144: 0 | E144: 0 | F144: =B54 -> 17.7881
A145: Columns | B145: 1 | C145: 0 | D145: 0 | E145: 0 | F145: =B121 -> 1.8315
A146: Total = | F146: =SUM(F143:F145) -> 34.139975
A148: Additional | B148: 0 | C148: 0 | D148: 0 | E148: 0 | F148: =B148*C148*E148 -> 0
A150: Total = | F150: =F148 -> 0
A152: GRADE SLAB | B152: =F158 -> 15.877408 | C152: Cu.m | P152: =A152 -> GRADE SLAB | Q152: =T157 -> 158.77408 | R152: Sq.m | S152: POLYTHENE
A154: Description | B154: Nos | C154: Length | D154: Width | E154: Depth | F154: Cu. Value | P154: Description | Q154: Nos | R154: Area | S154: Depth | T154: Sq. Value
A156: Grade Slab | B156: 1 | C156: 13.24 | D156: 11.992 | E156: 0.1 | F156: =E156*D156*C156*B156 -> 15.877408 | P156: =A156 -> Grade Slab | Q156: =B156 -> 1 | R156: =C156*D156 -> 158.77408 | S156: =L156 -> 0 | T156: =R156*Q156 -> 158.77408
P157: Total = | T157: =SUM(T152:T156) -> 158.77408
A158: Total = | F158: =F156 -> 15.877408
O162: THIS ITEMS FOR SLAB DECUTION
A163: 1ST FLOOR
A164: COLUMN | B164: =F172 -> 2.97 | C164: Cu.m | D164: Depth | E164: 3 | F164: m | H164: =A164 -> COLUMN | I164: =M172 -> 48.9 | J164: Sq.m | L164: Depth | M164: =E164 -> 3 | N164: m | O164: =H164 -> COLUMN | P164: =S172 -> 5.41 | Q164: Sq.m
A166: Description | B166: Nos | C166: Length | D166: Width | E166: Depth | F166: Cu. Value | H166: Description | I166: Nos | J166: Perimeter | L166: Depth | M166: Sq. Value | O166: Description | P166: Nos | Q166: Legth | R166: Width | S166: Sq. Value
A168: C1 | B168: 3 | C168: 0.35 | D168: 0.2 | E168: =E164 -> 3 | F168: =E168*D168*C168*B168 -> 0.63 | H168: =A168 -> C1 | I168: =B168 -> 3 | J168: =2*(C168+D168) -> 1.1 | L168: =M164 -> 3 | M168: =L168*J168*I168 -> 9.9 | O168: =H168 -> C1 | P168: =I168 -> 3 | Q168: =C168 -> 0.35 | R168: =D168 -> 0.2 | S168: =P168*Q168*R168 -> 0.21
A169: C2 | B169: 4 | C169: 0.3 | D169: 0.2 | E169: =E164 -> 3 | F169: =E169*D169*C169*B169 -> 0.72 | H169: =A169 -> C2 | I169: =B169 -> 4 | J169: =2*(C169+D169) -> 1 | L169: =M164 -> 3 | M169: =L169*J169*I169 -> 12 | O169: =H169 -> C2 | P169: =I169 -> 4 | Q169: =2*(J169+K169) -> 2 | R169: =D169 -> 0.2 | S169: =P169*Q169*R169 -> 1.6
A170: C3 | B170: 9 | C170: 0.3 | D170: 0.2 | E170: =E164 -> 3 | F170: =E170*D170*C170*B170 -> 1.62 | H170: =A170 -> C3 | I170: =B170 -> 9 | J170: =2*(C170+D170) -> 1 | L170: =M164 -> 3 | M170: =L170*J170*I170 -> 27 | O170: =H170 -> C3 | P170: =I170 -> 9 | Q170: =2*(J170+K170) -> 2 | R170: =D170 -> 0.2 | S170: =P170*Q170*R170 -> 3.6
A172: Total = | F172: =SUM(F167:F171) -> 2.97 | H172: Total = | M172: =SUM(M167:M171) -> 48.9 | O172: Total = | S172: =SUM(S167:S171) -> 5.41
...

Sheet STR (MPH)
A1: FOUNDATION | B1: ISOLATED FOOTING
A4: EXCAVATION | B4: =F11+F18 -> 114.76452 | C4: Cu.m | I4: 50mm tk Sand bed | L4: =N11+N18 -> 93.2446 | M4: Sq.m
A6: Description | B6: Nos | C6: Length | D6: Width | E6: Depth | F6: Cu. Value | I6: Description | J6: Nos | L6: Length | M6: Width | N6: Sq.Value
A8: F1 | B8: 8 | C8: 1.8 | D8: 1.8 | E8: 1.25 | F8: =E8*D8*C8*B8 -> 32.4 | G8: Need to add 50mm both side | I8: =A8 -> F1 | J8: =B8 -> 8 | L8: =C8 -> 1.8 | M8: =D8 -> 1.8 | N8: =M8*L8*J8 -> 25.92
A9: F2 | B9: 14 | C9: 1.5 | D9: 1.5 | E9: 1.25 | F9: =E9*D9*C9*B9 -> 39.375 | G9: Need to add 50mm both side | I9: =A9 -> F2 | J9: =B9 -> 14 | L9: =C9 -> 1.5 | M9: =D9 -> 1.5 | N9: =M9*L9*J9 -> 31.5
A11: Total = | F11: =SUM(F7:F10) -> 71.775 | I11: Total = | N11: =SUM(N7:N10) -> 57.42
A13: Description | B13: Nos | C13: Length | D13: Width | E13: Depth | F13: Cu. Value | I13: Description | J13: Nos | L13: Length | M13: Width/Depth | N13: Sq.Value
A15: TB1 | B15: 1 | C15: =N21 -> 40.659 | D15: 0.35 | E15: 1.2 | F15: =E15*D15*C15*B15 -> 17.07678 | I15: =A15 -> TB1 | J15: =B15 -> 1 | L15: =C15 -> 40.659 | M15: =D15 -> 0.35 | N15: =M15*L15*J15 -> 14.23065
A16: TB2 | B16: 1 | C16: =N22 -> 61.697 | D16: 0.35 | E16: 1.2 | F16: =E16*D16*C16*B16 -> 25.91274 | I16: =A16 -> TB2 | J16: =B16 -> 1 | L16: =C16 -> 61.697 | M16: =D16 -> 0.35 | N16: =M16*L16*J16 -> 21.59395
A18: Total = | F18: =SUM(F14:F17) -> 42.98952 | I18: Total = | N18: =SUM(N14:N17) -> 35.8246
A20: LENGTH DETAILS:
A21: =A15 -> TB1 | B21: 4.3 | C21: 1.153 | D21: 1.3 | E21: 4.3 | F21: 1.3 | G21: 4.6 | H21: =4.45+4.45+1.5+1.05 -> 11.45 | I21: =4.328+1.8+4.328+1.8 -> 12.256 | N21: =SUM(B21:M21) -> 40.659
A22: =A16 -> TB2 | B22: 4.6 | C22: 4.6 | D22: 4.6 | E22: 1.6 | F22: 1.15 | G22: 1.597 | H22: 1.6 | I22: 1.6 | J22: 4.6 | L22: 4.6 | M22: =4.6+4.6+4.6+4.6+4.6+4.6+1.775+1.775 -> 31.15 | N22: =SUM(B22:M22) -> 61.697
A24: LEAN CONCRETE | B24: =F31+F38 -> 4.66223 | C24: Cu.m
A26: Description | B26: Nos | C26: Length | D26: Width | E26: Depth | F26: Cu. Value
A28: =A8 -> F1 | B28: =B8 -> 8 | C28: =C8 -> 1.8 | D28: =D8 -> 1.8 | E28: 0.05 | F28: =E28*D28*C28*B28 -> 1.296
A29: =A9 -> F2 | B29: =B9 -> 14 | C29: =C9 -> 1.5 | D29: =D9 -> 1.5 | E29: 0.05 | F29: =E29*D29*C29*B29 -> 1.575
A31: Total = | F31: =SUM(F27:F30) -> 2.871
A33: Description | B33: Nos | C33: Length | D33: Width | E33: Depth | F33: Cu. Value
A35: =A15 -> TB1 | B35: =B15 -> 1 | C35: =C15 -> 40.659 | D35: =D15 -> 0.35 | E35: 0.05 | F35: =E35*D35*C35*B35 -> 0.7115325
A36: =A16 -> TB2 | B36: =B16 -> 1 | C36: =C16 -> 61.697 | D36: =D16 -> 0.35 | E36: 0.05 | F36: =E36*D36*C36*B36 -> 1.0796975
A38: Total = | F38: =SUM(F34:F37) -> 1.79123
A40: SOLID CONCRETE | H40: SHUTTERING | O40: BITUMEN LAYER | T40: BITUMEN LAYER
A41: FOOTING | B41: =F49 -> 32.788 | C41: Cu.m | H41: =A41 -> FOOTING | I41: =M49 -> 66.08 | J41: Sq.m | O41: =H41 -> FOOTING | P41: =R49 -> 84.86 | Q41: Sq.m | T41: =O41 -> FOOTING | U41: =W49 -> 66.08 | V41: Sq.m
A42: TIE BEAM | B42: =F55 -> 0 | C42: Cu.m | H42: =A42 -> TIE BEAM | I42: =M55 -> 0 | J42: Sq.m | O42: =H42 -> TIE BEAM | P42: =R55 -> 0 | Q42: Sq.m | T42: =O42 -> TIE BEAM | U42: =W55 -> 0 | V42: Sq.m
O43: TOP SURFACE | T43: SIDE
A44: Description | B44: Nos | C44: Length | D44: Width | E44: Depth | F44: Cu. Value | H44: Description | I44: Nos | J44: Perimeter | K44: Extra | L44: Depth | M44: Sq. Value | O44: Description | P44: Nos | Q44: Area | R44: Sq.Value | T44: Description | U44: Perimeter | V44: Depth | W44: Sq.Value
A46: =A8 -> F1 | B46: =B8 -> 8 | C46: 1.7 | D46: 1.7 | E46: 0.35 | F46: =E46*D46*C46*B46 -> 8.092 | H46: =A46 -> F1 | I46: =B46 -> 8 | J46: =2*(C46+D46) -> 6.8 | K46: 0.05 | L46: =E46 -> 0.35 | M46: =I46*J46*L46 -> 19.04 | O46: =H46 -> F1 | P46: =I46 -> 8 | Q46: =C46*D46 -> 2.89 | R46: =Q46*P46 -> 23.12 | T46: =O46 -> F1 | U46: =J46 -> 6.8 | V46: =L46 -> 0.35 | W46: =V46*U46*I46 -> 19.04
A47: =A9 -> F2 | B47: =B9 -> 14 | C47: 2.1 | D47: 2.1 | E47: 0.4 | F47: =E47*D47*C47*B47 -> 24.696 | H47: =A47 -> F2 | I47: =B47 -> 14 | J47: =2*(C47+D47) -> 8.4 | L47: =E47 -> 0.4 | M47: =I47*J47*L47 -> 47.04 | O47: =H47 -> F2 | P47: =I47 -> 14 | Q47: =C47*D47 -> 4.41 | R47: =Q47*P47 -> 61.74 | T47: =O47 -> F2 | U47: =J47 -> 8.4 | V47: =L47 -> 0.4 | W47: =V47*U47*I47 -> 47.04
A49: Total = | F49: =SUM(F45:F48) -> 32.788 | H49: Total = | M49: =SUM(M46:M48) -> 66.08 | Q49: Total = | R49: =SUM(R46:R48) -> 84.86 | V49: Total = | W49: =SUM(W46:W48) -> 66.08
A51: Description | B51: Nos | C51: Length | D51: Width | E51: Depth | F51: Cu. Value | H51: Description | I51: Nos | J51: Length | K51: Extra | L51: Depth | M51: Sq. Value | O51: Description | P51: Length | Q51: Width | R51: Sq.Value | T51: Description | U51: Length | V51: Depth | W51: Sq.Value
A53: TB1 & TB2 | B53: 1 | C53: =N58 -> 0 | D53: 0.25 | E53: 0.4 | F53: =E53*D53*C53*B53 -> 0 | H53: =A53 -> TB1 & TB2 | I53: =B53 -> 1 | J53: =C53*2 -> 0 | K53: 0.05 | L53: 0.4 | M53: =J53*L53*I53 -> 0 | O53: TB | P53: =C53 -> 0 | Q53: =D53 -> 0.25 | R53: =Q53*P53*B53 -> 0 | T53: TB | U53: =J53 -> 0 | V53: =E53 -> 0.4 | W53: =V53*U53 -> 0
A55: Total = | F55: =SUM(F52:F54) -> 0 | H55: Total = | M55: =SUM(M52:M54) -> 0 | Q55: Total = | R55: =SUM(R51:R54) -> 0 | V55: Total = | W55: =SUM(W51:W54) -> 0
A57: LENGTH DETAILS:
A58: =A53 -> TB1 & TB2 | B58: 0 | C58: 0 | D58: 0 | E58: 0 | N58: =SUM(B58:M58) -> 0
A65: FOUNDATION | B65: RAFT FOUNDATION
A67: EXCAVATION | B67: =F73 -> 0 | C67: Cu.m | I67: 50mm tk Sand bed | L67: =N73 -> 0 | M67: Sq.m
A69: Description | B69: Nos | C69: Length/Area | D69: Width | E69: Depth | F69: Cu. Value | I69: Description | J69: Nos | L69: Length | M69: Width/Depth | N69: Sq.Value
A71: 450MM TK RAFT | B71: 0 | C71: 0 | D71: 0 | E71: 0 | F71: =B71*C71*E71 -> 0 | I71: =A71 -> 450MM TK RAFT | J71: =B71 -> 0 | L71: =C71 -> 0 | M71: =D71 -> 0 | N71: =L71*J71 -> 0
A73: Total = | F73: =SUM(F70:F72) -> 0 | I73: Total = | N73: =SUM(N70:N72) -> 0
A76: LEAN CONCRETE | B76: =F82 -> 0 | C76: Cu.m
A78: Description | B78: Nos | C78: Length | D78: Width | E78: Depth | F78: Cu. Value
A80: =A71 -> 450MM TK RAFT | B80: =B71 -> 0 | C80: =C71 -> 0 | D80: =D71 -> 0 | E80: 0.05 | F80: =B80*C80*E80 -> 0
A82: Total = | F82: =SUM(F79:F81) -> 0
A85: SOLID CONCRETE
A86: RAFT | B86: =F92 -> 0 | C86: Cu.m
A88: Description | B88: Nos | C88: Length | D88: Width | E88: Depth | F88: Cu. Value
A90: =A80 -> 450MM TK RAFT | B90: =B80 -> 0 | C90: =C71 -> 0 | D90: =D71 -> 0 | E90: 0.45 | F90: =B90*C90*E90 -> 0
A92: Total = | F92: =SUM(F89:F91) -> 0
A95: FB | B95: =F100 -> 0 | C95: Cu.m | H95: =A95 -> FB | I95: =M100 -> 0 | J95: Sq.m
A97: Description | B97: Nos | C97: Length/Area | D97: Width | E97: Depth | F97: Cu. Value | H97: Description | I97: Nos | J97: Length | K97: Extra | L97: Depth | M97: Sq. Value | O97: CALCULATED BASE ON PERIMETER
A98: FB1-FB4 | B98: 0 | C98: 0 | D98: 0 | E98: 0.55 | F98: =E98*C98*B98 -> 0 | H98: =A98 -> FB1-FB4 | I98: =B98 -> 0 | J98: =Q103 -> 0 | L98: =E98 -> 0.55 | M98: =I98*J98*L98 -> 0
A100: Total = | F100: =SUM(F98:F99) -> 0 | H100: Total = | M100: =SUM(M98:M98) -> 0
A102: FB Length
A103: =A98 -> FB1-FB4 | B103: 0 | C103: 0 | D103: 0 | E103: 0 | F103: 0 | G103: 0 | H103: 0 | I103: 0 | J103: 0 | L103: 0 | M103: 0 | N103: 0 | O103: 0 | P103: 0 | Q103: =SUM(F103:P103) -> 0
A106: COLUMN | B106: =F114 -> 4.9175 | C106: Cu.m | D106: Depth | E106: 1.75 | F106: m | H106: COLUMN | I106: =M114 -> 57.4 | J106: Sq.m | L106: =D106 -> Depth | M106: =E106 -> 1.75 | N106: m | P106: COLUMN | Q106: =T114 -> 57.4 | R106: Sq.m | S106: BITUMEN LAYER
A108: Description | B108: Nos | C108: Length | D108: Width | E108: Depth | F108: Cu. Value | H108: Description | I108: Nos | J108: Perimeter | L108: Depth | M108: Sq. Value | P108: Description | Q108: Nos | R108: Perimeter | S108: Depth | T108: Sq. Value
A110: C1 | B110: 8 | C110: 0.35 | D110: 0.35 | E110: =E106 -> 1.75 | F110: =E110*D110*C110*B110 -> 1.715 | H110: =A110 -> C1 | I110: =B110 -> 8 | J110: =2*(C110+D110) -> 1.4 | L110: =M106 -> 1.75 | M110: =L110*J110*I110 -> 19.6 | P110: =H110 -> C1 | Q110: =I110 -> 8 | R110: =J110 -> 1.4 | S110: =L110 -> 1.75 | T110: =S110*R110*Q110 -> 19.6
A111: C2 | B111: 12 | C111: 0.35 | D111: 0.35 | E111: =E106 -> 1.75 | F111: =E111*D111*C111*B111 -> 2.5725 | H111: =A111 -> C2 | I111: =B111 -> 12 | J111: =2*(C111+D111) -> 1.4 | L111: =M106 -> 1.75 | M111: =L111*J111*I111 -> 29.4 | P111: =H111 -> C2 | Q111: =I111 -> 12 | R111: =J111 -> 1.4 | S111: =L111 -> 1.75 | T111: =S111*R111*Q111 -> 29.4
A112: C3 | B112: 4 | C112: 0.3 | D112: 0.3 | E112: =E106 -> 1.75 | F112: =E112*D112*C112*B112 -> 0.63 | H112: =A112 -> C3 | I112: =B112 -> 4 | J112: =2*(C112+D112) -> 1.2 | L112: =M106 -> 1.75 | M112: =L112*J112*I112 -> 8.4 | P112: =H112 -> C3 | Q112: =I112 -> 4 | R112: =J112 -> 1.2 | S112: =L112 -> 1.75 | T112: =S112*R112*Q112 -> 8.4
A114: Total = | F114: =SUM(F109:F113) -> 4.9175 | H114: Total = | M114: =SUM(M109:M113) -> 57.4 | P114: Total = | T114: =SUM(T109:T113) -> 57.4
A116: STARTER | B116: =F122 -> 0.6825 | C116: Cu.m | D116: Depth | E116: 1.75 | F116: m | H116: =A116 -> STARTER | I116: =M122 -> 5.6 | J116: Sq.m | L116: =D116 -> Depth | M116: =E116 -> 1.75 | N116: m
A118: Description | B118: Nos | C118: Length | D118: Width | E118: Depth | F118: Cu. Value | H118: Description | I118: Nos | J118: Length | L118: Depth | M118: Sq. Value
A120: 300mm tk Starter | B120: 1 | C120: 1.3 | D120: 0.3 | E120: =E116 -> 1.75 | F120: =E120*D120*C120*B120 -> 0.6825 | H120: =A120 -> 300mm tk Starter | I120: =B120 -> 1 | J120: =2*(C120+D120) -> 3.2 | L120: =M116 -> 1.75 | M120: =L120*J120*I120 -> 5.6
A122: Total = | F122: =SUM(F119:F121) -> 0.6825 | H122: Total = | M122: =SUM(M119:M121) -> 5.6
A124: BACKFLLING | B124: =B4-F131 -> 77.05902 | C124: Cu.m
A126: Description | B126: Nos | C126: Length | D126: Width | E126: Depth | F126: Cu. Value
A128: Footing | B128: 1 | C128: 0 | D128: 0 | E128: 0 | F128: =B41 -> 32.788
A129: Tie Beams | B129: 1 | C129: 0 | D129: 0 | E129: 0 | F129: =B42 -> 0
A130: Columns | B130: 1 | C130: 0 | D130: 0 | E130: 0 | F130: =B106 -> 4.9175
A131: Total = | F131: =SUM(F128:F130) -> 37.7055
A133: Additional | B133: 0 | C133: 0 | D133: 0 | E133: 0 | F133: =B133*C133*E133 -> 0
A135: Total = | F135: =F133 -> 0
A137: GRADE SLAB | B137: =F143 -> 55.69225 | C137: Cu.m | P137: =A137 -> GRADE SLAB | Q137: =T142 -> 556.9225 | R137: Sq.m | S137: POLYTHENE
A139: Description | B139: Nos | C139: Length | D139: Width | E139: Depth | F139: Cu. Value | P139: Description | Q139: Nos | R139: Area | S139: Depth | T139: Sq. Value
A141: Grade Slab | B141: 1 | C141: 30.35 | D141: 18.35 | E141: 0.1 | F141: =E141*D141*C141*B141 -> 55.69225 | P141: =A141 -> Grade Slab | Q141: =B141 -> 1 | R141: =C141*D141 -> 556.9225 | S141: =L141 -> 0 | T141: =R141*Q141 -> 556.9225
P142: Total = | T142: =SUM(T137:T141) -> 556.9225
A143: Total = | F143: =F141 -> 55.69225
A145: GRADE BEAMS | B145: =E151 -> 13.41875 | C145: Cu.m | H145: =A145 -> GRADE BEAMS | I145: =L151 -> 161.025 | J145: Sq.m
A147: Description | B147: Length | C147: Width | D147: Depth | E147: Cu. Value | H147: Description | I147: Length | J147: Width | L147: Sq.Value
A149: GB | B149: =N154 -> 214.7 | C149: 0.25 | D149: 0.25 | E149: =D149*C149*B149 -> 13.41875 | H149: =A149 -> GB | I149: =B149 -> 214.7 | J149: =C149+D149+D149 -> 0.75 | L149: =J149*I149 -> 161.025
A151: Total = | E151: =SUM(E148:E150) -> 13.41875 | H151: Total = | L151: =SUM(L148:L150) -> 161.025
A153: Beam Lengths
A154: =A149 -> GB | B154: =5.65*20 -> 113 | C154: =5.65*18 -> 101.7 | D154: 0 | E154: 0 | N154: =SUM(B154:M154) -> 214.7
O157: THIS ITEMS FOR SLAB DECUTION
A158: GROUND FLOOR
A159: COLUMN | B159: =F167 -> 11.6615 | C159: Cu.m | D159: Depth | E159: 4.15 | F159: m | H159: =A159 -> COLUMN | I159: =M167 -> 136.12 | J159: Sq.m | L159: Depth | M159: =E159 -> 4.15 | N159: m | O159: =H159 -> COLUMN | P159: =S167 -> 15.62 | Q159: Sq.m
A161: Description | B161: Nos | C161: Length | D161: Width | E161: Depth | F161: Cu. Value | H161: Description | I161: Nos | J161: Perimeter | L161: Depth | M161: Sq. Value | O161: Description | P161: Nos | Q161: Legth | R161: Width | S161: Sq. Value
A163: C1 | B163: 8 | C163: 0.35 | D163: 0.35 | E163: =E159 -> 4.15 | F163: =E163*D163*C163*B163 -> 4.067 | H163: =A163 -> C1 | I163: =B163 -> 8 | J163: =2*(C163+D163) -> 1.4 | L163: =M159 -> 4.15 | M163: =L163*J163*I163 -> 46.48 | O163: =H163 -> C1 | P163: =I163 -> 8 | Q163: =C163 -> 0.35 | R163: =D163 -> 0.35 | S163: =P163*Q163*R163 -> 0.98
A164: C2 | B164: 12 | C164: 0.35 | D164: 0.35 | E164: =E159 -> 4.15 | F164: =E164*D164*C164*B164 -> 6.1005 | H164: =A164 -> C2 | I164: =B164 -> 12 | J164: =2*(C164+D164) -> 1.4 | L164: =M159 -> 4.15 | M164: =L164*J164*I164 -> 69.72 | O164: =H164 -> C2 | P164: =I164 -> 12 | Q164: =2*(J164+K164) -> 2.8 | R164: =D164 -> 0.35 | S164: =P164*Q164*R164 -> 11.76
A165: C3 | B165: 4 | C165: 0.3 | D165: 0.3 | E165: =E159 -> 4.15 | F165: =E165*D165*C165*B165 -> 1.494 | H165: =A165 -> C3 | I165: =B165 -> 4 | J165: =2*(C165+D165) -> 1.2 | L165: =M159 -> 4.15 | M165: =L165*J165*I165 -> 19.92 | O165: =H165 -> C3 | P165: =I165 -> 4 | Q165: =2*(J165+K165) -> 2.4 | R165: =D165 -> 0.3 | S165: =P165*Q165*R165 -> 2.88
A167: Total = | F167: =SUM(F162:F166) -> 11.6615 | H167: Total = | M167: =SUM(M162:M166) -> 136.12 | O167: Total = | S167: =SUM(S162:S166) -> 15.62
A170: ATTACHED BEAMS | B170: =E177 -> 17.424225 | C170: Cu.m | H170: =A170 -> ATTACHED BEAMS | I170: =L177 -> 206.376 | J170: Sq.m | O170: =H170 -> ATTACHED BEAMS | P170: =S177 -> 50.505 | Q170: Sq.m
A172: Description | B172: Length | C172: Width | D172: Depth | E172: Cu. Value | H172: Description | I172: Length | J172: Width | L172: Sq.Value | O172: Description | P172: Nos | Q172: Length | R172: Width | S172: Sq. Value
A174: B1,B2,B3,B4,B5 | B174: =N180 -> 106.5 | C174: 0.25 | D174: 0.345 | E174: =D174*C174*B174 -> 9.185625 | H174: =A174 -> B1,B2,B3,B4,B5 | I174: =B174 -> 106.5 | J174: =C174+D174+D174 -> 0.94 | L174: =J174*I174 -> 100.11 | O174: =H174 -> B1,B2,B3,B4,B5 | P174: 1 | Q174: =I174 -> 106.5 | R174: =C174 -> 0.25 | S174: =R174*Q174*P174 -> 26.625
A175: B6 | B175: =N181 -> 119.4 | C175: 0.2 | D175: 0.345 | E175: =D175*C175*B175 -> 8.2386 | H175: =A175 -> B6 | I175: =B175 -> 119.4 | J175: =C175+D175+D175 -> 0.89 | L175: =J175*I175 -> 106.266 | O175: =H175 -> B6 | P175: 1 | Q175: =I175 -> 119.4 | R175: =C175 -> 0.2 | S175: =R175*Q175*P175 -> 23.88
A177: Total = | E177: =SUM(E173:E176) -> 17.424225 | H177: Total = | L177: =SUM(L173:L176) -> 206.376 | O177: Total = | S177: =SUM(S172:S176) -> 50.505
A179: Beam Lengths
A180: =A174 -> B1,B2,B3,B4,B5 | B180: 17.95 | C180: 17.95 | D180: =4*6.125 -> 24.5 | E180: =4*5.825 -> 23.3 | F180: =5.7*4 -> 22.8 | N180: =SUM(B180:M180) -> 106.5
A181: =A175 -> B6 | B181: 30.35 | C181: 30.35 | D181: 17.95 | E181: 17.95 | F181: 5.7 | G181: 5.7 | H181: =2*5.7 -> 11.4 | N181: =SUM(B181:M181) -> 119.4
...

Sheet FIN
A2: GROUND FLOOR
A4: BRICK WORK
A5: 150mm tk wall | B5: =D13-G36 -> 265.01064 | C5: Sq.m
A7: Description | B7: Length | C7: Depth | D7: Sq. Value
A9: 150mm outer wall (Beam Line) | B9: =P16 -> 40.872 | C9: =3-0.43+1 -> 3.57 | D9: =C9*B9 -> 145.91304 | E9: (From Tie beam to Roof Beam bottom)
A10: 150mm outer wall (Slab Line) | B10: =P17 -> 29.616 | C10: =3-0.15+1 -> 3.85 | D10: =C10*B10 -> 114.0216 | E10: (From Tie beam to Roof Beam bottom)
A11: 150mm outer wall (Slab Line) | B11: =P18 -> 14.73 | C11: 1.2 | D11: =C11*B11 -> 17.676 | E11: (From Tie beam to Roof Beam bottom)
A13: Total = | D13: =SUM(D8:D12) -> 277.61064
A15: Masonry wall Length
A16: =A9 -> 150mm outer wall (Beam Line) | B16: 5.014 | C16: 4.204 | D16: 4.204 | E16: 2.627 | F16: 0.15 | G16: 1.898 | H16: 1.15 | I16: =0.31+1.264 -> 1.574 | J16: 3.76 | K16: 5.555 | L16: 5.392 | M16: 1.675 | N16: =1.314+2.355 -> 3.669 | O16: 0 | P16: =SUM(B16:O16) -> 40.872
A17: =A10 -> 150mm outer wall (Slab Line) | B17: 5.615 | C17: 3.67 | D17: 1.584 | E17: 2.031 | F17: 2.4 | G17: 2.65 | H17: 4.1 | I17: =1.1+2.23 -> 3.33 | J17: 1.376 | K17: 2.86 | L17: 0 | M17: 0 | N17: 0 | O17: 0 | P17: =SUM(B17:O17) -> 29.616
A18: =A11 -> 150mm outer wall (Slab Line) | B18: 4.163 | C18: 1.661 | D18: 1.068 | E18: 2.145 | F18: 2.145 | G18: 1.774 | H18: 1.774 | I18: 0 | J18: 0 | K18: 0 | L18: 0 | M18: 0 | N18: 0 | O18: 0 | P18: =SUM(B18:O18) -> 14.73
A20: Deduction
A21: Description | B21: item | C21: Nos | D21: Width | E21: Depth | F21: Area | G21: Total area | H21: Counts | P21: Total area
A23: Outer | B23: W04 | C23: =P23 -> 1 | D23: 0.9 | E23: 1.5 | F23: =E23*D23 -> 1.35 | G23: =F23*C23 -> 1.35 | H23: 1 | I23: 0 | J23: 0 | K23: 0 | L23: 0 | M23: 0 | N23: 0 | O23: 0 | P23: =SUM(H23:O23) -> 1
B24: W02 | C24: =P24 -> 1 | D24: 1.8 | E24: 1.5 | F24: =E24*D24 -> 2.7 | G24: =F24*C24 -> 2.7 | H24: 1 | I24: 0 | J24: 0 | K24: 0 | L24: 0 | M24: 0 | N24: 0 | O24: 0 | P24: =SUM(H24:O24) -> 1
B25: D02 | C25: =P25 -> 1 | D25: 0.95 | E25: 2.25 | F25: =E25*D25 -> 2.1375 | G25: =F25*C25 -> 2.1375 | H25: 1 | I25: 0 | J25: 0 | K25: 0 | L25: 0 | M25: 0 | N25: 0 | O25: 0 | P25: =SUM(H25:O25) -> 1
A27: Inner | B27: D03 | C27: =P27 -> 3 | D27: 0.95 | E27: 2.25 | F27: =E27*D27 -> 2.1375 | G27: =F27*C27 -> 6.4125 | H27: 1 | I27: 2 | J27: 0 | K27: 0 | L27: 0 | M27: 0 | N27: 0 | O27: 0 | P27: =SUM(H27:O27) -> 3
B28: W02 | C28: =P28 -> 1 | D28: 1.8 | E28: 1.5 | F28: =E28*D28 -> 2.7 | G28: =F28*C28 -> 2.7 | H28: 1 | I28: 0 | J28: 0 | K28: 0 | L28: 0 | M28: 0 | N28: 0 | O28: 0 | P28: =SUM(H28:O28) -> 1
B29: W04 | C29: =P29 -> 1 | D29: 0.9 | E29: 1.5 | F29: =E29*D29 -> 1.35 | G29: =F29*C29 -> 1.35 | H29: 1 | I29: 0 | J29: 0 | K29: 0 | L29: 0 | M29: 0 | N29: 0 | O29: 0 | P29: =SUM(H29:O29) -> 1
B30: W01 | C30: =P30 -> 1 | D30: 1.517 | E30: 1.5 | F30: =E30*D30 -> 2.2755 | G30: =F30*C30 -> 2.2755 | H30: 1 | I30: 0 | J30: 0 | K30: 0 | L30: 0 | M30: 0 | N30: 0 | O30: 0 | P30: =SUM(H30:O30) -> 1
B31: D01 | C31: =P31 -> 1 | D31: 1.7 | E31: 2.45 | F31: =E31*D31 -> 4.165 | G31: =F31*C31 -> 4.165 | H31: 1 | I31: 0 | J31: 0 | K31: 0 | L31: 0 | M31: 0 | N31: 0 | O31: 0 | P31: =SUM(H31:O31) -> 1
B32: PD01 | C32: =P32 -> 1 | D32: 2.45 | E32: 2.25 | F32: =E32*D32 -> 5.5125 | G32: =F32*C32 -> 5.5125 | H32: 1 | I32: 0 | J32: 0 | K32: 0 | L32: 0 | M32: 0 | N32: 0 | O32: 0 | P32: =SUM(H32:O32) -> 1
B33: SD01 | C33: =P33 -> 1 | D33: 2.15 | E33: 2.6 | F33: =E33*D33 -> 5.59 | G33: =F33*C33 -> 5.59 | H33: 1 | I33: 0 | J33: 0 | K33: 0 | L33: 0 | M33: 0 | N33: 0 | O33: 0 | P33: =SUM(H33:O33) -> 1
B34: SD02 | C34: =P34 -> 1 | D34: 2.335 | E34: 2.6 | F34: =E34*D34 -> 6.071 | G34: =F34*C34 -> 6.071 | H34: 1 | I34: 0 | J34: 0 | K34: 0 | L34: 0 | M34: 0 | N34: 0 | O34: 0 | P34: =SUM(H34:O34) -> 1
B36: Total Outer Area = | G36: =SUM(G22:G27) -> 12.6
A39: PLASTERING (OUTER)
A40: 25mm tk Outer Plastering | B40: =D47-H59+J59 -> 208.24275 | C40: Sq.m
A42: Description | B42: Length | C42: Depth | D42: Sq. Value
A44: Outer Wall - Full | B44: =M50 -> 39.335 | C44: 4.15 | D44: =C44*B44 -> 163.24025 | E44: From FFL to beam bottom
A45: Outer wal - 1.2M HT | B45: =M51 -> 24.26 | C45: 2 | D45: =C45*B45 -> 48.52
A47: Total = | D47: =SUM(D43:D46) -> 211.76025
A49: Plastering wall Length
A50: =A44 -> Outer Wall - Full | B50: 30.674 | C50: 8.661 | D50: 0 | E50: 0 | F50: 0 | G50: 0 | H50: 0 | I50: 0 | J50: 0 | K50: 0 | L50: 0 | M50: =SUM(B50:L50) -> 39.335
A51: =A45 -> Outer wal - 1.2M HT | B51: 2.145 | C51: 2.145 | D51: 0.5 | E51: 0.5 | F51: 1.775 | G51: 1.775 | H51: 0.5 | I51: =2*(7.46) -> 14.92 | J51: 0 | K51: 0 | L51: 0 | M51: =SUM(B51:L51) -> 24.26
A53: Deduction (Outer)
A54: Description | B54: item | C54: Nos | D54: Length | E54: Width | F54: Area | G54: Total area | H54: Outer (-) | I54: Inner (-) | J54: Side (+)
A56: Outer | B56: =B23 -> W04 | C56: =C23 -> 1 | D56: =D23 -> 0.9 | E56: =E23 -> 1.5 | F56: =E56*D56 -> 1.35 | G56: =F56*C56 -> 1.35 | H56: =G56 -> 1.35 | I56: =G56 -> 1.35 | J56: =(D56+E56+D56+E56)*C56*0.15 -> 0.72
B57: =B24 -> W02 | C57: =C24 -> 1 | D57: =D24 -> 1.8 | E57: =E24 -> 1.5 | F57: =E57*D57 -> 2.7 | G57: =F57*C57 -> 2.7 | H57: =G57 -> 2.7 | I57: =G57 -> 2.7 | J57: =(D57+E57+D57+E57)*C57*0.15 -> 0.99
B58: =B25 -> D02 | C58: =C25 -> 1 | D58: =D25 -> 0.95 | E58: =E25 -> 2.25 | F58: =E58*D58 -> 2.1375 | G58: =F58*C58 -> 2.1375 | H58: =G58 -> 2.1375 | I58: =G58 -> 2.1375 | J58: =(D58+E58+D58+E58)*C58*0.15 -> 0.96
B59: Total Outer Area = | G59: =SUM(G55:G58) -> 6.1875 | H59: =SUM(H55:H58) -> 6.1875 | I59: =SUM(I55:I58) -> 6.1875 | J59: =SUM(J55:J58) -> 2.67
A61: Inner | B61: =B27 -> D03 | C61: =C27 -> 3 | D61: =D27 -> 0.95 | E61: =E27 -> 2.25 | F61: =E61*D61 -> 2.1375 | G61: =F61*C61 -> 6.4125 | H61: =G61 -> 6.4125 | I61: =G61 -> 6.4125 | J61: =(D61+E61+D61+E61)*C61*0.15 -> 2.88
B62: =B28 -> W02 | C62: =C28 -> 1 | D62: =D28 -> 1.8 | E62: =E28 -> 1.5 | F62: =E62*D62 -> 2.7 | G62: =F62*C62 -> 2.7 | H62: =G62 -> 2.7 | I62: =G62 -> 2.7 | J62: =(D62+E62+D62+E62)*C62*0.15 -> 0.99
B63: =B29 -> W04 | C63: =C29 -> 1 | D63: =D29 -> 0.9 | E63: =E29 -> 1.5 | F63: =E63*D63 -> 1.35 | G63: =F63*C63 -> 1.35 | H63: =G63 -> 1.35 | I63: =G63 -> 1.35 | J63: =(D63+E63+D63+E63)*C63*0.15 -> 0.72
B64: =B30 -> W01 | C64: =C30 -> 1 | D64: =D30 -> 1.517 | E64: =E30 -> 1.5 | F64: =E64*D64 -> 2.2755 | G64: =F64*C64 -> 2.2755 | H64: =G64 -> 2.2755 | I64: =G64 -> 2.2755 | J64: =(D64+E64+D64+E64)*C64*0.15 -> 0.9051
B65: =B31 -> D01 | C65: =C31 -> 1 | D65: =D31 -> 1.7 | E65: =E31 -> 2.45 | F65: =E65*D65 -> 4.165 | G65: =F65*C65 -> 4.165 | H65: =G65 -> 4.165 | I65: =G65 -> 4.165 | J65: =(D65+E65+D65+E65)*C65*0.15 -> 1.245
B66: =B32 -> PD01 | C66: =C32 -> 1 | D66: =D32 -> 2.45 | E66: =E32 -> 2.25 | F66: =E66*D66 -> 5.5125 | G66: =F66*C66 -> 5.5125 | H66: =G66 -> 5.5125 | I66: =G66 -> 5.5125 | J66: =(D66+E66+D66+E66)*C66*0.15 -> 1.41
B67: =B33 -> SD01 | C67: =C33 -> 1 | D67: =D33 -> 2.15 | E67: =E33 -> 2.6 | F67: =E67*D67 -> 5.59 | G67: =F67*C67 -> 5.59 | H67: =G67 -> 5.59 | I67: =G67 -> 5.59 | J67: =(D67+E67+D67+E67)*C67*0.15 -> 1.425
B68: =B34 -> SD02 | C68: =C34 -> 1 | D68: =D34 -> 2.335 | E68: =E34 -> 2.6 | F68: =E68*D68 -> 6.071 | G68: =F68*C68 -> 6.071 | H68: =G68 -> 6.071 | I68: =G68 -> 6.071 | J68: =(D68+E68+D68+E68)*C68*0.15 -> 1.4805
B70: Total Outer Area = | G70: =SUM(G60:G69) -> 34.0765 | H70: =SUM(H60:H69) -> 34.0765 | I70: =SUM(I60:I69) -> 34.0765 | J70: =SUM(J60:J69) -> 11.0556
A72: PLASTERING (INNER)
A73: 15mm tk Inner Plastering | B73: =D79-I59-H70-I70+J70 -> 252.44688 | C73: Sq.m
A75: Description | B75: Length | C75: Depth | D75: Sq. Value
A77: Internal Wall | B77: =P82 -> 103.012 | C77: 3.065 | D77: =C77*B77 -> 315.73178
A79: Total = | D79: =SUM(D75:D78) -> 315.73178
A81: Plastering wall Length
A82: =A77 -> Internal Wall | B82: 15.455 | C82: 16.15 | D82: 23.6 | E82: 16.415 | F82: 6.202 | G82: 9.684 | H82: 9.84 | I82: 5.666 | J82: 0 | K82: 0 | L82: 0 | M82: 0 | N82: 0 | O82: 0 | P82: =SUM(B82:O82) -> 103.012
A84: SCREEDING
A85: Floor Screeding | B85: =Y89 -> 121.785 | C85: Sq.m
A86: Stair screeding | B86: =Y90 -> 11 | C86: Sq.m
A88: Screeding area
A89: Screeding area | B89: 17.35 | C89: 16.11 | D89: 25.8 | E89: 3.58 | F89: 16.83 | G89: 9.3 | H89: 2.193 | I89: 28.5 | J89: 2.122 | K89: 0 | L89: 0 | M89: 0 | N89: 0 | O89: 0 | P89: 0 | Q89: 0 | R89: 0 | S89: 0 | T89: 0 | U89: 0 | V89: 0 | W89: 0 | X89: 0 | Y89: =SUM(B89:X89) -> 121.785
A90: =A86 -> Stair screeding | B90: 5.5 | C90: 5.5 | D90: 0 | E90: 0 | F90: 0 | G90: 0 | H90: 0 | I90: 0 | J90: 0 | K90: 0 | L90: 0 | M90: 0 | N90: 0 | O90: 0 | P90: 0 | Q90: 0 | R90: 0 | S90: 0 | T90: 0 | U90: 0 | V90: 0 | W90: 0 | X90: 0 | Y90: =SUM(B90:X90) -> 11
A92: PAINTING
A93: External Paiting | B93: =B40 -> 208.24275 | C93: Sq.m
A94: Internal Paiting | B94: =B73 -> 252.44688 | C94: Sq.m
A95: Ceiling Paiting | B95: =Y98 -> 121.87 | C95: Sq.m
A97: Ceiling Paiting
A98: =A95 -> Ceiling Paiting | B98: 17.4 | C98: 16.11 | D98: 25.8 | E98: 3.59 | F98: 16.83 | G98: 9.3 | H98: 2.2 | I98: 28.52 | J98: 2.12 | K98: 0 | L98: 0 | M98: 0 | N98: 0 | O98: 0 | P98: 0 | Q98: 0 | R98: 0 | S98: 0 | T98: 0 | U98: 0 | V98: 0 | W98: 0 | X98: 0 | Y98: =SUM(B98:X98) -> 121.87
A100: TILING
A101: GENERAL TILES | B101: =F106 -> 110.392 | C101: Sq.m
A102: Description | B102: sizes | C102: Area | D102: Skirting Length | E102: Skirt area | F102: Total
A104: General tiling | B104: 600x600 | C104: =Q109 -> 110.392 | D104: =Q110 -> 0 | E104: =0.1*D104 -> 0 | F104: =E104+C104 -> 110.392
A106: Total = | F106: =SUM(F104:F105) -> 110.392
A108: DETAILS
A109: AREA | B109: 17.35 | C109: 16.11 | D109: 25.8 | E109: 3.589 | F109: 16.83 | G109: 2.193 | H109: 28.52 | I109: 0 | J109: 0 | K109: 0 | L109: 0 | M109: 0 | N109: 0 | O109: 0 | P109: 0 | Q109: =SUM(B109:P109) -> 110.392
A110: Skirting Length | B110: 0 | C110: 0 | D110: 0 | E110: 0 | F110: 0 | G110: 0 | H110: 0 | I110: 0 | J110: 0 | K110: 0 | L110: 0 | M110: 0 | N110: 0 | O110: 0 | P110: 0 | Q110: =SUM(B110:P110) -> 0
A112: TOILET (FLOOR) | B112: =D117 -> 11.42 | C112: Sq.m
A113: Description | B113: sizes | C113: Area | D113: Total
A114: Toilet Floor | B114: 300x300 | C114: =K120 -> 11.42 | D114: =C114 -> 11.42
A117: Total = | D117: =SUM(D114:D116) -> 11.42
A119: DETAILS
A120: AREA | B120: 9.3 | C120: 2.12 | D120: 0 | E120: 0 | F120: 0 | G120: 0 | H120: 0 | I120: 0 | J120: 0 | K120: =SUM(B120:J120) -> 11.42
A123: TILING (WALL) | B123: =E129 -> 22.61 | C123: Sq.m
A124: Description | B124: sizes | C124: Length | D124: Depth | E124: Total
A125: Toilet Wall | B125: 300x600 | C125: =K132 -> 11.42 | D125: 2.5 | E125: =D125*C125 -> 28.55
A127: Deduction: (-) | C127: 0 | D127: 0 | E127: =K133 -> 5.94
A129: Total = | E129: =E125-E127 -> 22.61
A131: TOILET WALL
A132: Length | B132: 9.3 | C132: 2.12 | D132: 0 | E132: 0 | F132: 0 | G132: 0 | H132: 0 | I132: 0 | J132: 0 | K132: =SUM(B132:J132) -> 11.42
A133: Deduction | B133: 4.68 | C133: 1.26 | D133: 0 | E133: 0 | F133: 0 | G133: 0 | H133: 0 | I133: 0 | J133: 0 | K133: =SUM(B133:J133) -> 5.94
A136: STAIR CASE | B136: =E142 -> 9.8604 | C136: Sq.m
A137: Description | B137: Nos | C137: Length | D137: Depth | E137: Total
A138: Going (280x600mm) | B138: 1 | C138: 2.75 | D138: 2 | E138: =B138*C138*D138 -> 5.5
A139: Riser (165x280mm) | B139: 20 | C139: 0.988 | D139: 0.165 | E139: =D139*C139*B139 -> 3.2604
A140: Skirting | B140: 1 | C140: =K145 -> 11 | D140: 0.1 | E140: =D140*C140*B140 -> 1.1
A142: Total = | E142: =SUM(E138:E141) -> 9.8604
A144: Staircase
A145: Skirting | B145: 4.2 | C145: 4.2 | D145: 2.6 | E145: 0 | F145: 0 | G145: 0 | H145: 0 | I145: 0 | J145: 0 | K145: =SUM(B145:J145) -> 11
A147: LIFT FACE | B147: 4.2 | C147: Sq.m
...

Sheet FIN (MR)
A2: GROUND FLOOR
A4: BRICK WORK
A5: 150mm tk wall | B5: =D13-G36 -> 265.01064 | C5: Sq.m
A7: Description | B7: Length | C7: Depth | D7: Sq. Value
A9: 150mm outer wall (Beam Line) | B9: =P16 -> 40.872 | C9: =3-0.43+1 -> 3.57 | D9: =C9*B9 -> 145.91304 | E9: (From Tie beam to Roof Beam bottom)
A10: 150mm outer wall (Slab Line) | B10: =P17 -> 29.616 | C10: =3-0.15+1 -> 3.85 | D10: =C10*B10 -> 114.0216 | E10: (From Tie beam to Roof Beam bottom)
A11: 150mm outer wall (Slab Line) | B11: =P18 -> 14.73 | C11: 1.2 | D11: =C11*B11 -> 17.676 | E11: (From Tie beam to Roof Beam bottom)
A13: Total = | D13: =SUM(D8:D12) -> 277.61064
A15: Masonry wall Length
A16: =A9 -> 150mm outer wall (Beam Line) | B16: 5.014 | C16: 4.204 | D16: 4.204 | E16: 2.627 | F16: 0.15 | G16: 1.898 | H16: 1.15 | I16: =0.31+1.264 -> 1.574 | J16: 3.76 | K16: 5.555 | L16: 5.392 | M16: 1.675 | N16: =1.314+2.355 -> 3.669 | O16: 0 | P16: =SUM(B16:O16) -> 40.872
A17: =A10 -> 150mm outer wall (Slab Line) | B17: 5.615 | C17: 3.67 | D17: 1.584 | E17: 2.031 | F17: 2.4 | G17: 2.65 | H17: 4.1 | I17: =1.1+2.23 -> 3.33 | J17: 1.376 | K17: 2.86 | L17: 0 | M17: 0 | N17: 0 | O17: 0 | P17: =SUM(B17:O17) -> 29.616
A18: =A11 -> 150mm outer wall (Slab Line) | B18: 4.163 | C18: 1.661 | D18: 1.068 | E18: 2.145 | F18: 2.145 | G18: 1.774 | H18: 1.774 | I18: 0 | J18: 0 | K18: 0 | L18: 0 | M18: 0 | N18: 0 | O18: 0 | P18: =SUM(B18:O18) -> 14.73
A20: Deduction
A21: Description | B21: item | C21: Nos | D21: Width | E21: Depth | F21: Area | G21: Total area | H21: Counts | P21: Total area
A23: Outer | B23: W04 | C23: =P23 -> 1 | D23: 0.9 | E23: 1.5 | F23: =E23*D23 -> 1.35 | G23: =F23*C23 -> 1.35 | H23: 1 | I23: 0 | J23: 0 | K23: 0 | L23: 0 | M23: 0 | N23: 0 | O23: 0 | P23: =SUM(H23:O23) -> 1
B24: W02 | C24: =P24 -> 1 | D24: 1.8 | E24: 1.5 | F24: =E24*D24 -> 2.7 | G24: =F24*C24 -> 2.7 | H24: 1 | I24: 0 | J24: 0 | K24: 0 | L24: 0 | M24: 0 | N24: 0 | O24: 0 | P24: =SUM(H24:O24) -> 1
B25: D02 | C25: =P25 -> 1 | D25: 0.95 | E25: 2.25 | F25: =E25*D25 -> 2.1375 | G25: =F25*C25 -> 2.1375 | H25: 1 | I25: 0 | J25: 0 | K25: 0 | L25: 0 | M25: 0 | N25: 0 | O25: 0 | P25: =SUM(H25:O25) -> 1
A27: Inner | B27: D03 | C27: =P27 -> 3 | D27: 0.95 | E27: 2.25 | F27: =E27*D27 -> 2.1375 | G27: =F27*C27 -> 6.4125 | H27: 1 | I27: 2 | J27: 0 | K27: 0 | L27: 0 | M27: 0 | N27: 0 | O27: 0 | P27: =SUM(H27:O27) -> 3
B28: W02 | C28: =P28 -> 1 | D28: 1.8 | E28: 1.5 | F28: =E28*D28 -> 2.7 | G28: =F28*C28 -> 2.7 | H28: 1 | I28: 0 | J28: 0 | K28: 0 | L28: 0 | M28: 0 | N28: 0 | O28: 0 | P28: =SUM(H28:O28) -> 1
B29: W04 | C29: =P29 -> 1 | D29: 0.9 | E29: 1.5 | F29: =E29*D29 -> 1.35 | G29: =F29*C29 -> 1.35 | H29: 1 | I29: 0 | J29: 0 | K29: 0 | L29: 0 | M29: 0 | N29: 0 | O29: 0 | P29: =SUM(H29:O29) -> 1
B30: W01 | C30: =P30 -> 1 | D30: 1.517 | E30: 1.5 | F30: =E30*D30 -> 2.2755 | G30: =F30*C30 -> 2.2755 | H30: 1 | I30: 0 | J30: 0 | K30: 0 | L30: 0 | M30: 0 | N30: 0 | O30: 0 | P30: =SUM(H30:O30) -> 1
B31: D01 | C31: =P31 -> 1 | D31: 1.7 | E31: 2.45 | F31: =E31*D31 -> 4.165 | G31: =F31*C31 -> 4.165 | H31: 1 | I31: 0 | J31: 0 | K31: 0 | L31: 0 | M31: 0 | N31: 0 | O31: 0 | P31: =SUM(H31:O31) -> 1
B32: PD01 | C32: =P32 -> 1 | D32: 2.45 | E32: 2.25 | F32: =E32*D32 -> 5.5125 | G32: =F32*C32 -> 5.5125 | H32: 1 | I32: 0 | J32: 0 | K32: 0 | L32: 0 | M32: 0 | N32: 0 | O32: 0 | P32: =SUM(H32:O32) -> 1
B33: SD01 | C33: =P33 -> 1 | D33: 2.15 | E33: 2.6 | F33: =E33*D33 -> 5.59 | G33: =F33*C33 -> 5.59 | H33: 1 | I33: 0 | J33: 0 | K33: 0 | L33: 0 | M33: 0 | N33: 0 | O33: 0 | P33: =SUM(H33:O33) -> 1
B34: SD02 | C34: =P34 -> 1 | D34: 2.335 | E34: 2.6 | F34: =E34*D34 -> 6.071 | G34: =F34*C34 -> 6.071 | H34: 1 | I34: 0 | J34: 0 | K34: 0 | L34: 0 | M34: 0 | N34: 0 | O34: 0 | P34: =SUM(H34:O34) -> 1
B36: Total Outer Area = | G36: =SUM(G22:G27) -> 12.6
A39: PLASTERING (OUTER)
A40: 25mm tk Outer Plastering | B40: =D47-H59+J59 -> 208.24275 | C40: Sq.m
A42: Description | B42: Length | C42: Depth | D42: Sq. Value
A44: Outer Wall - Full | B44: =M50 -> 39.335 | C44: 4.15 | D44: =C44*B44 -> 163.24025 | E44: From FFL to beam bottom
A45: Outer wal - 1.2M HT | B45: =M51 -> 24.26 | C45: 2 | D45: =C45*B45 -> 48.52
A47: Total = | D47: =SUM(D43:D46) -> 211.76025
A49: Plastering wall Length
A50: =A44 -> Outer Wall - Full | B50: 30.674 | C50: 8.661 | D50: 0 | E50: 0 | F50: 0 | G50: 0 | H50: 0 | I50: 0 | J50: 0 | K50: 0 | L50: 0 | M50: =SUM(B50:L50) -> 39.335
A51: =A45 -> Outer wal - 1.2M HT | B51: 2.145 | C51: 2.145 | D51: 0.5 | E51: 0.5 | F51: 1.775 | G51: 1.775 | H51: 0.5 | I51: =2*(7.46) -> 14.92 | J51: 0 | K51: 0 | L51: 0 | M51: =SUM(B51:L51) -> 24.26
A53: Deduction (Outer)
A54: Description | B54: item | C54: Nos | D54: Length | E54: Width | F54: Area | G54: Total area | H54: Outer (-) | I54: Inner (-) | J54: Side (+)
A56: Outer | B56: =B23 -> W04 | C56: =C23 -> 1 | D56: =D23 -> 0.9 | E56: =E23 -> 1.5 | F56: =E56*D56 -> 1.35 | G56: =F56*C56 -> 1.35 | H56: =G56 -> 1.35 | I56: =G56 -> 1.35 | J56: =(D56+E56+D56+E56)*C56*0.15 -> 0.72
B57: =B24 -> W02 | C57: =C24 -> 1 | D57: =D24 -> 1.8 | E57: =E24 -> 1.5 | F57: =E57*D57 -> 2.7 | G57: =F57*C57 -> 2.7 | H57: =G57 -> 2.7 | I57: =G57 -> 2.7 | J57: =(D57+E57+D57+E57)*C57*0.15 -> 0.99
B58: =B25 -> D02 | C58: =C25 -> 1 | D58: =D25 -> 0.95 | E58: =E25 -> 2.25 | F58: =E58*D58 -> 2.1375 | G58: =F58*C58 -> 2.1375 | H58: =G58 -> 2.1375 | I58: =G58 -> 2.1375 | J58: =(D58+E58+D58+E58)*C58*0.15 -> 0.96
B59: Total Outer Area = | G59: =SUM(G55:G58) -> 6.1875 | H59: =SUM(H55:H58) -> 6.1875 | I59: =SUM(I55:I58) -> 6.1875 | J59: =SUM(J55:J58) -> 2.67
A61: Inner | B61: =B27 -> D03 | C61: =C27 -> 3 | D61: =D27 -> 0.95 | E61: =E27 -> 2.25 | F61: =E61*D61 -> 2.1375 | G61: =F61*C61 -> 6.4125 | H61: =G61 -> 6.4125 | I61: =G61 -> 6.4125 | J61: =(D61+E61+D61+E61)*C61*0.15 -> 2.88
B62: =B28 -> W02 | C62: =C28 -> 1 | D62: =D28 -> 1.8 | E62: =E28 -> 1.5 | F62: =E62*D62 -> 2.7 | G62: =F62*C62 -> 2.7 | H62: =G62 -> 2.7 | I62: =G62 -> 2.7 | J62: =(D62+E62+D62+E62)*C62*0.15 -> 0.99
B63: =B29 -> W04 | C63: =C29 -> 1 | D63: =D29 -> 0.9 | E63: =E29 -> 1.5 | F63: =E63*D63 -> 1.35 | G63: =F63*C63 -> 1.35 | H63: =G63 -> 1.35 | I63: =G63 -> 1.35 | J63: =(D63+E63+D63+E63)*C63*0.15 -> 0.72
B64: =B30 -> W01 | C64: =C30 -> 1 | D64: =D30 -> 1.517 | E64: =E30 -> 1.5 | F64: =E64*D64 -> 2.2755 | G64: =F64*C64 -> 2.2755 | H64: =G64 -> 2.2755 | I64: =G64 -> 2.2755 | J64: =(D64+E64+D64+E64)*C64*0.15 -> 0.9051
B65: =B31 -> D01 | C65: =C31 -> 1 | D65: =D31 -> 1.7 | E65: =E31 -> 2.45 | F65: =E65*D65 -> 4.165 | G65: =F65*C65 -> 4.165 | H65: =G65 -> 4.165 | I65: =G65 -> 4.165 | J65: =(D65+E65+D65+E65)*C65*0.15 -> 1.245
B66: =B32 -> PD01 | C66: =C32 -> 1 | D66: =D32 -> 2.45 | E66: =E32 -> 2.25 | F66: =E66*D66 -> 5.5125 | G66: =F66*C66 -> 5.5125 | H66: =G66 -> 5.5125 | I66: =G66 -> 5.5125 | J66: =(D66+E66+D66+E66)*C66*0.15 -> 1.41
B67: =B33 -> SD01 | C67: =C33 -> 1 | D67: =D33 -> 2.15 | E67: =E33 -> 2.6 | F67: =E67*D67 -> 5.59 | G67: =F67*C67 -> 5.59 | H67: =G67 -> 5.59 | I67: =G67 -> 5.59 | J67: =(D67+E67+D67+E67)*C67*0.15 -> 1.425
B68: =B34 -> SD02 | C68: =C34 -> 1 | D68: =D34 -> 2.335 | E68: =E34 -> 2.6 | F68: =E68*D68 -> 6.071 | G68: =F68*C68 -> 6.071 | H68: =G68 -> 6.071 | I68: =G68 -> 6.071 | J68: =(D68+E68+D68+E68)*C68*0.15 -> 1.4805
B70: Total Outer Area = | G70: =SUM(G60:G69) -> 34.0765 | H70: =SUM(H60:H69) -> 34.0765 | I70: =SUM(I60:I69) -> 34.0765 | J70: =SUM(J60:J69) -> 11.0556
A72: PLASTERING (INNER)
A73: 15mm tk Inner Plastering | B73: =D79-I59-H70-I70+J70 -> 252.44688 | C73: Sq.m
A75: Description | B75: Length | C75: Depth | D75: Sq. Value
A77: Internal Wall | B77: =P82 -> 103.012 | C77: 3.065 | D77: =C77*B77 -> 315.73178
A79: Total = | D79: =SUM(D75:D78) -> 315.73178
A81: Plastering wall Length
A82: =A77 -> Internal Wall | B82: 15.455 | C82: 16.15 | D82: 23.6 | E82: 16.415 | F82: 6.202 | G82: 9.684 | H82: 9.84 | I82: 5.666 | J82: 0 | K82: 0 | L82: 0 | M82: 0 | N82: 0 | O82: 0 | P82: =SUM(B82:O82) -> 103.012
A84: SCREEDING
A85: Floor Screeding | B85: =Y89 -> 121.785 | C85: Sq.m
A86: Stair screeding | B86: =Y90 -> 11 | C86: Sq.m
A88: Screeding area
A89: Screeding area | B89: 17.35 | C89: 16.11 | D89: 25.8 | E89: 3.58 | F89: 16.83 | G89: 9.3 | H89: 2.193 | I89: 28.5 | J89: 2.122 | K89: 0 | L89: 0 | M89: 0 | N89: 0 | O89: 0 | P89: 0 | Q89: 0 | R89: 0 | S89: 0 | T89: 0 | U89: 0 | V89: 0 | W89: 0 | X89: 0 | Y89: =SUM(B89:X89) -> 121.785
A90: =A86 -> Stair screeding | B90: 5.5 | C90: 5.5 | D90: 0 | E90: 0 | F90: 0 | G90: 0 | H90: 0 | I90: 0 | J90: 0 | K90: 0 | L90: 0 | M90: 0 | N90: 0 | O90: 0 | P90: 0 | Q90: 0 | R90: 0 | S90: 0 | T90: 0 | U90: 0 | V90: 0 | W90: 0 | X90: 0 | Y90: =SUM(B90:X90) -> 11
A92: PAINTING
A93: External Paiting | B93: =B40 -> 208.24275 | C93: Sq.m
A94: Internal Paiting | B94: =B73 -> 252.44688 | C94: Sq.m
A95: Ceiling Paiting | B95: =Y98 -> 121.87 | C95: Sq.m
A97: Ceiling Paiting
A98: =A95 -> Ceiling Paiting | B98: 17.4 | C98: 16.11 | D98: 25.8 | E98: 3.59 | F98: 16.83 | G98: 9.3 | H98: 2.2 | I98: 28.52 | J98: 2.12 | K98: 0 | L98: 0 | M98: 0 | N98: 0 | O98: 0 | P98: 0 | Q98: 0 | R98: 0 | S98: 0 | T98: 0 | U98: 0 | V98: 0 | W98: 0 | X98: 0 | Y98: =SUM(B98:X98) -> 121.87
A100: TILING
A101: GENERAL TILES | B101: =F106 -> 110.392 | C101: Sq.m
A102: Description | B102: sizes | C102: Area | D102: Skirting Length | E102: Skirt area | F102: Total
A104: General tiling | B104: 600x600 | C104: =Q109 -> 110.392 | D104: =Q110 -> 0 | E104: =0.1*D104 -> 0 | F104: =E104+C104 -> 110.392
A106: Total = | F106: =SUM(F104:F105) -> 110.392
A108: DETAILS
A109: AREA | B109: 17.35 | C109: 16.11 | D109: 25.8 | E109: 3.589 | F109: 16.83 | G109: 2.193 | H109: 28.52 | I109: 0 | J109: 0 | K109: 0 | L109: 0 | M109: 0 | N109: 0 | O109: 0 | P109: 0 | Q109: =SUM(B109:P109) -> 110.392
A110: Skirting Length | B110: 0 | C110: 0 | D110: 0 | E110: 0 | F110: 0 | G110: 0 | H110: 0 | I110: 0 | J110: 0 | K110: 0 | L110: 0 | M110: 0 | N110: 0 | O110: 0 | P110: 0 | Q110: =SUM(B110:P110) -> 0
A112: TOILET (FLOOR) | B112: =D117 -> 11.42 | C112: Sq.m
A113: Description | B113: sizes | C113: Area | D113: Total
A114: Toilet Floor | B114: 300x300 | C114: =K120 -> 11.42 | D114: =C114 -> 11.42
A117: Total = | D117: =SUM(D114:D116) -> 11.42
A119: DETAILS
A120: AREA | B120: 9.3 | C120: 2.12 | D120: 0 | E120: 0 | F120: 0 | G120: 0 | H120: 0 | I120: 0 | J120: 0 | K120: =SUM(B120:J120) -> 11.42
A123: TILING (WALL) | B123: =E129 -> 22.61 | C123: Sq.m
A124: Description | B124: sizes | C124: Length | D124: Depth | E124: Total
A125: Toilet Wall | B125: 300x600 | C125: =K132 -> 11.42 | D125: 2.5 | E125: =D125*C125 -> 28.55
A127: Deduction: (-) | C127: 0 | D127: 0 | E127: =K133 -> 5.94
A129: Total = | E129: =E125-E127 -> 22.61
A131: TOILET WALL
A132: Length | B132: 9.3 | C132: 2.12 | D132: 0 | E132: 0 | F132: 0 | G132: 0 | H132: 0 | I132: 0 | J132: 0 | K132: =SUM(B132:J132) -> 11.42
A133: Deduction | B133: 4.68 | C133: 1.26 | D133: 0 | E133: 0 | F133: 0 | G133: 0 | H133: 0 | I133: 0 | J133: 0 | K133: =SUM(B133:J133) -> 5.94
A136: STAIR CASE | B136: =E142 -> 9.8604 | C136: Sq.m
A137: Description | B137: Nos | C137: Length | D137: Depth | E137: Total
A138: Going (280x600mm) | B138: 1 | C138: 2.75 | D138: 2 | E138: =B138*C138*D138 -> 5.5
A139: Riser (165x280mm) | B139: 20 | C139: 0.988 | D139: 0.165 | E139: =D139*C139*B139 -> 3.2604
A140: Skirting | B140: 1 | C140: =K145 -> 11 | D140: 0.1 | E140: =D140*C140*B140 -> 1.1
A142: Total = | E142: =SUM(E138:E141) -> 9.8604
A144: Staircase
A145: Skirting | B145: 4.2 | C145: 4.2 | D145: 2.6 | E145: 0 | F145: 0 | G145: 0 | H145: 0 | I145: 0 | J145: 0 | K145: =SUM(B145:J145) -> 11
A147: LIFT FACE | B147: 4.2 | C147: Sq.m
...

Sheet S (TB & B)
A1: TIE BEAM | B1: SEA SAND
A2: ITEM | B2: DIA OF BAR | C2: NO. OF BARS/RING | D2: LENGTH OF BARS | E2: BEND CO.efficient | F2: BEND LENGTH | G2: LAP LENGTH | I2: TOTAL LENGTH | J2: UNIT WEIGHT | K2: TOTAL WEIGHT | L2: ADDITIONAL | N2: LENGTH DETAILS | AG2: Description | AH2: Diameter | AI2: Width | AJ2: Depth | AK2: Cover | AL2: Ring Width | AM2: Ring Depth | AN2: Ring Perimeter (mm) | AO2: Ring Perimeter (m) | AP2: Total Length (m)
I3: Full | N3: T.BEAM | AG3: =N4 -> TB1 | AH3: 10 | AI3: =M4 -> 250 | AJ3: =M5 -> 700 | AK3: 50 | AL3: =AI3-(2*AK3) -> 150 | AM3: =AJ3-(2*AK3) -> 600 | AN3: =2*(AL3+AM3)+(2*10*AH3)-(5*2*AH3) -> 1600 | AO3: =AN3/1000 -> 1.6 | AP3: =AO3+AO4+AO5 -> 5.224 | AS3: Bar/Beam Length | AT3: ok
A4: TB1 | B4: =AF4 -> 77.367 | C4: m | D4: BEND | E4: =AF5 -> 14 | F4: =M4 -> 250 | G4: x | H4: =M5 -> 700 | I4: =M6 -> 2 | J4: 0 | L4: Width | M4: 250 | N4: =A4 -> TB1 | O4: 5.814 | P4: 6.038 | Q4: 5.842 | R4: 2.94 | S4: 3.855 | T4: 5.945 | U4: 5.955 | V4: 4.915 | W4: 2.825 | X4: 5.328 | Y4: 3.075 | Z4: 4.06 | AA4: 4.292 | AB4: 6.141 | AC4: 4.342 | AD4: 6 | AF4: =SUM(O4:AE4) -> 77.367 | AH4: 10 | AI4: 256 | AJ4: =AJ3 -> 700 | AK4: 50 | AL4: =AI4 -> 256 | AM4: =AJ4-(2*AK4) -> 600 | AN4: =2*(AL4+AM4)+(2*10*AH4)-(5*2*AH4) -> 1812 | AO4: =AN4/1000 -> 1.812 | AS4: Bend | AT4: ok
A5: Through out | B5: 16 | C5: 6 | D5: =B4 -> 77.367 | E5: 10 | F5: =((10*B5)*E4*C5)/1000 -> 13.44 | H5: =(D5/6)*(0.04*B5) -> 8.25248 | I5: =C5*(D5+F5+H5) -> 594.35688 | J5: =B5*B5/162 -> 1.5802469 | K5: =(I5*J5)/1000 -> 0.93923063 | L5: Depth | M5: 700 | N5: Bend | O5: 2 | P5: 1 | Q5: 1 | R5: 1 | S5: 1 | T5: 0 | U5: 0 | V5: 1 | W5: 1 | X5: 1 | Y5: 1 | Z5: 0 | AA5: 1 | AB5: 1 | AC5: 1 | AD5: 1 | AF5: =SUM(O5:AE5) -> 14 | AH5: 10 | AI5: 256 | AJ5: =AJ3 -> 700 | AK5: 50 | AL5: =AI5 -> 256 | AM5: =AJ5-(2*AK5) -> 600 | AN5: =2*(AL5+AM5)+(2*10*AH5)-(5*2*AH5) -> 1812 | AO5: =AN5/1000 -> 1.812 | AS5: Mid Length | AT5: ok
B6: 16 | C6: 6 | D6: =B4 -> 77.367 | E6: 10 | F6: =((10*B6)*E4*C6)/1000 -> 13.44 | H6: =(D6/6)*(0.04*B6) -> 8.25248 | I6: =C6*(D6+F6+H6) -> 594.35688 | J6: =B6*B6/162 -> 1.5802469 | K6: =(I6*J6)/1000 -> 0.93923063 | L6: No.of Rings | M6: 2 | N6: Span | O6: =O4*0.7 -> 4.0698 | P6: =P4*0.7 -> 4.2266 | Q6: =Q4*0.7 -> 4.0894 | R6: =R4*0.7 -> 2.058 | S6: =S4*0.7 -> 2.6985 | T6: =T4*0.7 -> 4.1615 | U6: =U4*0.7 -> 4.1685 | V6: =V4*0.7 -> 3.4405 | ... AD6: =AD4*0.7 -> 4.2 | AS6: Sup Length | AT6: ok
B7: 12 | C7: 4 | D7: =B5 -> 16 | E7: 10 | F7: =((10*B7)*E5*C7)/1000 -> 4.8 | H7: =(D7/6)*(0.04*B7) -> 1.28 | I7: =C7*(D7+F7+H7) -> 88.32 | J7: =B7*B7/162 -> 0.88888889 | K7: =(I7*J7)/1000 -> 0.078506667
A8: Mid | B8: 16 | C8: 2 | D8: =AF8 -> 57 | H8: =(D8/6)*(0.04*B8) -> 6.08 | I8: =C8*(D8+F8+H8) -> 126.16 | J8: =B8*B8/162 -> 1.5802469 | K8: =(I8*J8)/1000 -> 0.19936395 | L8: Ring Space | M8: 0.15 | N8: Span (Adjust) | O8: 4 | P8: 4.5 | Q8: 4 | R8: 2 | S8: 3 | T8: 4.5 | U8: 4.5 | V8: 4 | W8: 2 | X8: 4 | Y8: 2.5 | Z8: 3 | AA8: 3 | AB8: 4.5 | AC8: 3 | AD8: 4.5 | AF8: =SUM(O8:AE8) -> 57 | AS8: Beam size | AT8: ok
A9: support | B9: 16 | C9: 6 | D9: =AF10 -> 30.5 | E9: 10 | F9: =((10*B9)*E4*C9)/1000 -> 13.44 | H9: =(D9/6)*(0.04*B9) -> 3.2533333 | I9: =C9*(D9+F9+H9) -> 283.16 | J9: =B9*B9/162 -> 1.5802469 | K9: =(I9*J9)/1000 -> 0.44746272 | L9: Ring Length | M9: =AP3 -> 5.224 | N9: Sup | O9: =O4*0.35 -> 2.0349 | P9: =P4*0.35 -> 2.1133 | Q9: =Q4*0.35 -> 2.0447 | R9: =R4*0.35 -> 1.029 | S9: =S4*0.35 -> 1.34925 | T9: =T4*0.35 -> 2.08075 | U9: =U4*0.35 -> 2.08425 | V9: =V4*0.35 -> 1.72025 | ... AD9: =AD4*0.35 -> 2.1 | AS9: Striupps | AT9: ok
A10: =M8 -> 0.15 | B10: 6 | C10: =(B4/A10)*I4 -> 1031.56 | D10: =M9 -> 5.224 | I10: =D10*C10 -> 5388.8694 | J10: =B10*B10/162 -> 0.22222222 | K10: =(I10*J10)/1000 -> 1.1975265 | N10: Sup (Adjust) | O10: 2 | P10: 2.5 | Q10: 2 | R10: 1 | S10: 1.5 | T10: 2.5 | U10: 2.5 | V10: 2 | W10: 1 | X10: 2 | Y10: 1.5 | Z10: 1.5 | AA10: 1.5 | AB10: 2.5 | AC10: 1.5 | AD10: 3 | AF10: =SUM(O10:AE10) -> 30.5 | AS10: Striupps Spacing | AT10: ok
I12: Full | N12: T.BEAM | AG12: =N13 -> TB2 | AH12: 10 | AI12: =M13 -> 250 | AJ12: =M14 -> 450 | AK12: 50 | AL12: =AI12-(2*AK12) -> 150 | AM12: =AJ12-(2*AK12) -> 350 | AN12: =2*(AL12+AM12)+(2*10*AH12)-(5*2*AH12) -> 1100 | AO12: =AN12/1000 -> 1.1 | AP12: =AO12+AO13+AO14 -> 3.724 | AS12: Bar/Beam Length | AT12: ok
A13: TB2 | B13: =AF13 -> 8.262 | C13: m | D13: BEND | E13: =AF14 -> 1 | F13: =M13 -> 250 | G13: x | H13: =M14 -> 450 | I13: =M15 -> 1 | J13: 0 | L13: Width | M13: 250 | N13: =A13 -> TB2 | O13: 4.207 | P13: 4.055 | AF13: =SUM(O13:AE13) -> 8.262 | AH13: 10 | AI13: 256 | AJ13: =AJ12 -> 450 | AK13: 50 | AL13: =AI13 -> 256 | AM13: =AJ13-(2*AK13) -> 350 | AN13: =2*(AL13+AM13)+(2*10*AH13)-(5*2*AH13) -> 1312 | AO13: =AN13/1000 -> 1.312 | AS13: Bend | AT13: ok
A14: Through out | B14: 16 | C14: 6 | D14: =B13 -> 8.262 | E14: 10 | F14: =((10*B14)*E13*C14)/1000 -> 0.96 | H14: =(D14/6)*(0.04*B14) -> 0.88128 | I14: =C14*(D14+F14+H14) -> 60.61968 | J14: =B14*B14/162 -> 1.5802469 | K14: =(I14*J14)/1000 -> 0.095794062 | L14: Depth | M14: 450 | N14: Bend | O14: 0 | P14: 1 | AF14: =SUM(O14:AE14) -> 1 | AH14: 10 | AI14: 256 | AJ14: =AJ12 -> 450 | AK14: 50 | AL14: =AI14 -> 256 | AM14: =AJ14-(2*AK14) -> 350 | AN14: =2*(AL14+AM14)+(2*10*AH14)-(5*2*AH14) -> 1312 | AO14: =AN14/1000 -> 1.312 | AS14: Mid Length | AT14: ok
B15: 16 | C15: 6 | D15: =B13 -> 8.262 | E15: 10 | F15: =((10*B15)*E13*C15)/1000 -> 0.96 | H15: =(D15/6)*(0.04*B15) -> 0.88128 | I15: =C15*(D15+F15+H15) -> 60.61968 | J15: =B15*B15/162 -> 1.5802469 | K15: =(I15*J15)/1000 -> 0.095794062 | L15: No.of Rings | M15: 1 | N15: Span | O15: =O13*0.7 -> 2.9449 | P15: =P13*0.7 -> 2.8385 | AS15: Sup Length | AT15: ok
B16: 16 | C16: 4 | D16: =B14 -> 16 | E16: 10 | F16: =((10*B16)*E14*C16)/1000 -> 6.4 | H16: =(D16/6)*(0.04*B16) -> 1.7066667 | I16: =C16*(D16+F16+H16) -> 96.426667 | J16: =B16*B16/162 -> 1.5802469 | K16: =(I16*J16)/1000 -> 0.15237794
A17: mid | B17: 16 | C17: 2 | D17: =AF17 -> 6 | H17: =(D17/6)*(0.04*B17) -> 0.64 | I17: =C17*(D17+F17+H17) -> 13.28 | J17: =B17*B17/162 -> 1.5802469 | K17: =(I17*J17)/1000 -> 0.020985679 | L17: Ring Space | M17: 0.15 | N17: Span (Adjust) | O17: 3 | P17: 3 | AF17: =SUM(O17:AE17) -> 6 | AS17: Beam size | AT17: ok
A18: support | B18: 16 | C18: 6 | D18: =AF19 -> 3 | E18: 10 | F18: =((10*B18)*E13*C18)/1000 -> 0.96 | H18: =(D18/6)*(0.04*B18) -> 0.32 | I18: =C18*(D18+F18+H18) -> 25.68 | J18: =B18*B18/162 -> 1.5802469 | K18: =(I18*J18)/1000 -> 0.040580741 | L18: Ring Length | M18: =AP12 -> 3.724 | N18: Sup | O18: =O13*0.35 -> 1.47245 | P18: =P13*0.35 -> 1.41925 | AS18: Striupps | AT18: ok
A19: =M17 -> 0.15 | B19: 6 | C19: =(B13/A19)*I13 -> 55.08 | D19: =M18 -> 3.724 | I19: =D19*C19 -> 205.11792 | J19: =B19*B19/162 -> 0.22222222 | K19: =(I19*J19)/1000 -> 0.04558176 | N19: Sup (Adjust) | O19: 1.5 | P19: 1.5 | AF19: =SUM(O19:AE19) -> 3 | AS19: Striupps Spacing | AT19: ok
I21: Full | N21: T.BEAM | AG21: =N22 -> TB3 | AH21: 10 | AI21: =M22 -> 250 | AJ21: =M23 -> 450 | AK21: 50 | AL21: =AI21-(2*AK21) -> 150 | AM21: =AJ21-(2*AK21) -> 350 | AN21: =2*(AL21+AM21)+(2*10*AH21)-(5*2*AH21) -> 1100 | AO21: =AN21/1000 -> 1.1 | AP21: =AO21+AO22+AO23 -> 3.724 | AS21: Bar/Beam Length | AT21: ok
A22: TB3 | B22: =AF22 -> 8.262 | C22: m | D22: BEND | E22: =AF23 -> 1 | F22: =M22 -> 250 | G22: x | H22: =M23 -> 450 | I22: =M24 -> 1 | J22: 0 | L22: Width | M22: 250 | N22: =A22 -> TB3 | O22: 4.207 | P22: 4.055 | AF22: =SUM(O22:AE22) -> 8.262 | AH22: 10 | AI22: 256 | AJ22: =AJ21 -> 450 | AK22: 50 | AL22: =AI22 -> 256 | AM22: =AJ22-(2*AK22) -> 350 | AN22: =2*(AL22+AM22)+(2*10*AH22)-(5*2*AH22) -> 1312 | AO22: =AN22/1000 -> 1.312 | AS22: Bend | AT22: ok
A23: Through out | B23: 16 | C23: 6 | D23: =B22 -> 8.262 | E23: 10 | F23: =((10*B23)*E22*C23)/1000 -> 0.96 | H23: =(D23/6)*(0.04*B23) -> 0.88128 | I23: =C23*(D23+F23+H23) -> 60.61968 | J23: =B23*B23/162 -> 1.5802469 | K23: =(I23*J23)/1000 -> 0.095794062 | L23: Depth | M23: 450 | N23: Bend | O23: 0 | P23: 1 | AF23: =SUM(O23:AE23) -> 1 | AH23: 10 | AI23: 256 | AJ23: =AJ21 -> 450 | AK23: 50 | AL23: =AI23 -> 256 | AM23: =AJ23-(2*AK23) -> 350 | AN23: =2*(AL23+AM23)+(2*10*AH23)-(5*2*AH23) -> 1312 | AO23: =AN23/1000 -> 1.312 | AS23: Mid Length | AT23: ok
B24: 16 | C24: 6 | D24: =B22 -> 8.262 | E24: 10 | F24: =((10*B24)*E22*C24)/1000 -> 0.96 | H24: =(D24/6)*(0.04*B24) -> 0.88128 | I24: =C24*(D24+F24+H24) -> 60.61968 | J24: =B24*B24/162 -> 1.5802469 | K24: =(I24*J24)/1000 -> 0.095794062 | L24: No.of Rings | M24: 1 | N24: Span | O24: =O22*0.7 -> 2.9449 | P24: =P22*0.7 -> 2.8385 | AS24: Sup Length | AT24: ok
B25: 16 | C25: 4 | D25: =B23 -> 16 | E25: 10 | F25: =((10*B25)*E23*C25)/1000 -> 6.4 | H25: =(D25/6)*(0.04*B25) -> 1.7066667 | I25: =C25*(D25+F25+H25) -> 96.426667 | J25: =B25*B25/162 -> 1.5802469 | K25: =(I25*J25)/1000 -> 0.15237794
A26: mid | B26: 16 | C26: 2 | D26: =AF26 -> 6 | H26: =(D26/6)*(0.04*B26) -> 0.64 | I26: =C26*(D26+F26+H26) -> 13.28 | J26: =B26*B26/162 -> 1.5802469 | K26: =(I26*J26)/1000 -> 0.020985679 | L26: Ring Space | M26: 0.15 | N26: Span (Adjust) | O26: 3 | P26: 3 | AF26: =SUM(O26:AE26) -> 6 | AS26: Beam size | AT26: ok
A27: support | B27: 16 | C27: 6 | D27: =AF28 -> 3 | E27: 10 | F27: =((10*B27)*E22*C27)/1000 -> 0.96 | H27: =(D27/6)*(0.04*B27) -> 0.32 | I27: =C27*(D27+F27+H27) -> 25.68 | J27: =B27*B27/162 -> 1.5802469 | K27: =(I27*J27)/1000 -> 0.040580741 | L27: Ring Length | M27: =AP21 -> 3.724 | N27: Sup | O27: =O22*0.35 -> 1.47245 | P27: =P22*0.35 -> 1.41925 | AS27: Striupps | AT27: ok
A28: =M26 -> 0.15 | B28: 6 | C28: =(B22/A28)*I22 -> 55.08 | D28: =M27 -> 3.724 | I28: =D28*C28 -> 205.11792 | J28: =B28*B28/162 -> 0.22222222 | K28: =(I28*J28)/1000 -> 0.04558176 | N28: Sup (Adjust) | O28: 1.5 | P28: 1.5 | AF28: =SUM(O28:AE28) -> 3 | AS28: Striupps Spacing | AT28: ok
F31: Beam | H31: Total | J31: Total (Kg)
H32: 6 | I32: =SUMIF($B$5:$B$10,H32,$K$5:$K$10) -> 1.1975265 | J32: =I32*1000 -> 1197.5265
H33: 10 | I33: =SUMIF($B$5:$B$10,H33,$K$5:$K$10) -> 0 | J33: =I33*1000 -> 0
H34: 12 | I34: =SUMIF($B$5:$B$10,H34,$K$5:$K$10) -> 0.078506667 | J34: =I34*1000 -> 78.506667
H35: 16 | I35: =SUMIF($B$5:$B$10,H35,$K$5:$K$10) -> 2.5252879 | J35: =I35*1000 -> 2525.2879
H36: 20 | I36: =SUMIF($B$5:$B$10,H36,$K$5:$K$10) -> 0 | J36: =I36*1000 -> 0
H37: 25 | I37: =SUMIF($B$5:$B$10,H37,$K$5:$K$10) -> 0 | J37: =I37*1000 -> 0
F38: Total | I38: =SUM(I32:I37) -> 3.8013211 | J38: =SUM(J32:J37) -> 3801.3211
A41: 1ST-TERRACE FLOOR
A42: ITEM | B42: DIA OF BAR | C42: NO. OF BARS/RING | D42: LENGTH OF BARS | E42: BEND CO.efficient | F42: BEND LENGTH | G42: LAP LENGTH | I42: TOTAL LENGTH | J42: UNIT WEIGHT | K42: TOTAL WEIGHT | L42: ADDITIONAL | N42: LENGTH DETAILS | AG42: Type | AH42: Description | AI42: Diameter | AJ42: Width | AK42: Depth | AL42: Cover | AM42: Ring Width | AN42: Ring Depth | AO42: Ring Perimeter (mm) | AP42: Ring Perimeter (m)
I43: SUP | J43: SPAN | N43: BEAM | AS43: Bar/Beam Length | AT43: ok
A44: =N44 -> B1 | B44: =AF44 -> 14.645 | C44: m | D44: BEND | E44: =AF45 -> 2 | F44: =M44 -> 200 | G44: x | H44: =M45 -> 400 | I44: =M46 -> 2 | J44: =M47 -> 2 | L44: Width | M44: 200 | N44: B1 | O44: 4.045 | P44: =4*2.65 -> 10.6 | Q44: 0 | R44: 0 | S44: 0 | T44: 0 | U44: 0 | V44: 0 | W44: 0 | X44: 0 | Y44: 0 | Z44: 0 | AA44: 0 | AB44: 0 | AC44: 0 | AD44: 0 | AE44: 0 | AF44: =SUM(O44:AE44) -> 14.645 | AG44: 1ST FLOOR BEAM | AH44: B1 | AI44: 6 | AJ44: 200 | AK44: 350 | AL44: 35 | AM44: =AJ44-(2*AL44) -> 130 | AN44: =AK44-(2*AL44) -> 280 | AO44: =2*(AM44+AN44)+(2*10*AI44)-(5*2*AI44) -> 880 | AP44: =AO44/1000 -> 0.88 | AS44: Bend | AT44: ok
A45: Through out | B45: 16 | C45: 2 | D45: =B44 -> 14.645 | E45: 10 | F45: =((10*B45)*E44*C45)/1000 -> 0.64 | H45: =(D45/6)*(0.04*B45) -> 1.5621333 | I45: =C45*(D45+F45+H45) -> 33.694267 | J45: =B45*B45/162 -> 1.5802469 | K45: =(I45*J45)/1000 -> 0.053245261 | L45: Depth | M45: 400 | N45: Bend | O45: 1 | P45: 1 | Q45: 0 | R45: 0 | S45: 0 | T45: 0 | U45: 0 | V45: 0 | W45: 0 | X45: 0 | Y45: 0 | Z45: 0 | AA45: 0 | AB45: 0 | AC45: 0 | AD45: 0 | AE45: 0 | AF45: =SUM(O45:AE45) -> 2 | AH45: 0 | AI45: 0 | AJ45: 0 | AK45: 0 | AL45: 0 | AM45: =AJ45-(2*AL45) -> 0 | AN45: =AK45-(2*AL45) -> 0 | AO45: =2*(AM45+AN45)+(2*10*AI45)-(5*2*AI45) -> 0 | AP45: =AO45/1000 -> 0 | AS45: Mid Length | AT45: ok
B46: 16 | C46: 2 | D46: =B44 -> 14.645 | E46: 10 | F46: =((10*B46)*E44*C46)/1000 -> 0.64 | H46: =(D46/6)*(0.04*B46) -> 1.5621333 | I46: =C46*(D46+F46+H46) -> 33.694267 | J46: =B46*B46/162 -> 1.5802469 | K46: =(I46*J46)/1000 -> 0.053245261 | L46: No.of Rings (Sup) | M46: 2 | N46: Span | O46: =O44*0.7 -> 2.8315 | P46: =P44*0.7 -> 7.42 | Q46: =Q44*0.7 -> 0 | R46: =R44*0.7 -> 0 | S46: =S44*0.7 -> 0 | T46: =T44*0.7 -> 0 | U46: =U44*0.7 -> 0 | V46: =V44*0.7 -> 0 | ... AE46: =AE44*0.7 -> 0 | AH46: 0 | AI46: 0 | AJ46: 0 | AK46: 0 | AL46: 0 | AM46: =AJ46-(2*AL46) -> 0 | AN46: =AK46-(2*AL46) -> 0 | AO46: =2*(AM46+AN46)+(2*10*AI46)-(5*2*AI46) -> 0 | AP46: =AO46/1000 -> 0 | AS46: Sup Length | AT46: ok
A47: mid | B47: 16 | C47: 2 | D47: =AF47 -> 4.5 | H47: =(D47/6)*(0.04*B47) -> 0.48 | I47: =C47*(D47+F47+H47) -> 9.96 | J47: =B47*B47/162 -> 1.5802469 | K47: =(I47*J47)/1000 -> 0.015739259 | L47: No.of Rings (mid) | M47: 2 | N47: Span (Adjust) | O47: 2 | P47: 2.5 | Q47: 0 | R47: 0 | S47: 0 | T47: 0 | U47: 0 | V47: 0 | W47: 0 | X47: 0 | Y47: 0 | Z47: 0 | AA47: 0 | AB47: 0 | AC47: 0 | AD47: 0 | AE47: 0 | AF47: =SUM(O47:AE47) -> 4.5 | AH47: 0 | AI47: 0 | AJ47: 0 | AK47: 0 | AL47: 0 | AM47: =AJ47-(2*AL47) -> 0 | AN47: =AK47-(2*AL47) -> 0 | AO47: =2*(AM47+AN47)+(2*10*AI47)-(5*2*AI47) -> 0 | AP47: =AO47/1000 -> 0 | AS47: Beam size | AT47: ok
A48: support | B48: 16 | C48: 2 | D48: =AF49 -> 2.5 | E48: 10 | F48: =((10*B48)*E44*C48)/1000 -> 0.64 | H48: =(D48/6)*(0.04*B48) -> 0.26666667 | I48: =C48*(D48+F48+H48) -> 6.8133333 | J48: =B48*B48/162 -> 1.5802469 | K48: =(I48*J48)/1000 -> 0.010766749 | L48: Space (Sup) | M48: 0.1 | N48: Sup | O48: =O44*0.35 -> 1.41575 | P48: =P44*0.35 -> 3.71 | Q48: =Q44*0.35 -> 0 | R48: =R44*0.35 -> 0 | S48: =S44*0.35 -> 0 | T48: =T44*0.35 -> 0 | U48: =U44*0.35 -> 0 | V48: =V44*0.35 -> 0 | ... AE48: =AE44*0.35 -> 0 | AH48: 0 | AI48: 0 | AJ48: 0 | AK48: 0 | AL48: 0 | AM48: =AJ48-(2*AL48) -> 0 | AN48: =AK48-(2*AL48) -> 0 | AO48: =2*(AM48+AN48)+(2*10*AI48)-(5*2*AI48) -> 0 | AP48: =AO48/1000 -> 0 | AS48: Striupps | AT48: ok
A49: =M48 -> 0.1 | B49: 6 | C49: =(D48/A49)*I44 -> 50 | D49: =M50 -> 0.88 | I49: =D49*C49 -> 44 | J49: =B49*B49/162 -> 0.22222222 | K49: =(I49*J49)/1000 -> 0.0097777778 | L49: Space (mid) | M49: 0.15 | N49: Sup (Adjust) | O49: 1 | P49: 1.5 | Q49: 0 | R49: 0 | S49: 0 | T49: 0 | U49: 0 | V49: 0 | W49: 0 | X49: 0 | Y49: 0 | Z49: 0 | AA49: 0 | AB49: 0 | AC49: 0 | AD49: 0 | AE49: 0 | AF49: =SUM(O49:AE49) -> 2.5 | AH49: 0 | AI49: 0 | AJ49: 0 | AK49: 0 | AL49: 0 | AM49: =AJ49-(2*AL49) -> 0 | AN49: =AK49-(2*AL49) -> 0 | AO49: =2*(AM49+AN49)+(2*10*AI49)-(5*2*AI49) -> 0 | AP49: =AO49/1000 -> 0 | AS49: Striupps Spacing | AT49: ok
A50: =M49 -> 0.15 | B50: 6 | C50: =((B44-D48)/A50)*J44 -> 161.93333 | D50: =M50 -> 0.88 | I50: =D50*C50 -> 142.50133 | J50: =B50*B50/162 -> 0.22222222 | K50: =(I50*J50)/1000 -> 0.031666963 | L50: Ring Length (m) | M50: =AP44 -> 0.88 | AH50: 0 | AI50: 0 | AJ50: 0 | AK50: 0 | AL50: 0 | AM50: =AJ50-(2*AL50) -> 0 | AN50: =AK50-(2*AL50) -> 0 | AO50: =2*(AM50+AN50)+(2*10*AI50)-(5*2*AI50) -> 0 | AP50: =AO50/1000 -> 0 | AS50: No of Bars & Dia | AT50: ok
AH51: 0 | AI51: 0 | AJ51: 0 | AK51: 0 | AL51: 0 | AM51: =AJ51-(2*AL51) -> 0 | AN51: =AK51-(2*AL51) -> 0 | AO51: =2*(AM51+AN51)+(2*10*AI51)-(5*2*AI51) -> 0 | AP51: =AO51/1000 -> 0
I52: SUP | J52: SPAN | N52: BEAM | AS52: Bar/Beam Length | AT52: ok
A53: =N53 -> B2 | B53: =AF53 -> 6.05 | C53: m | D53: BEND | E53: =AF54 -> 2 | F53: =M53 -> 200 | G53: x | H53: =M54 -> 400 | I53: =M55 -> 2 | J53: =M56 -> 1 | L53: Width | M53: 200 | N53: B2 | O53: 6.05 | P53: 0 | Q53: 0 | R53: 0 | S53: 0 | T53: 0 | U53: 0 | V53: 0 | W53: 0 | X53: 0 | Y53: 0 | Z53: 0 | AA53: 0 | AB53: 0 | AC53: 0 | AD53: 0 | AE53: 0 | AF53: =SUM(O53:AE53) -> 6.05 | AG53: 1ST FLOOR BEAM | AH53: B1 | AI53: 6 | AJ53: 200 | AK53: 350 | AL53: 35 | AM53: =AJ53-(2*AL53) -> 130 | AN53: =AK53-(2*AL53) -> 280 | AO53: =2*(AM53+AN53)+(2*10*AI53)-(5*2*AI53) -> 880 | AP53: =AO53/1000 -> 0.88 | AS53: Bend | AT53: ok
A54: Through out | B54: 16 | C54: 2 | D54: =B53 -> 6.05 | E54: 10 | F54: =((10*B54)*E53*C54)/1000 -> 0.64 | H54: =(D54/6)*(0.04*B54) -> 0.64533333 | I54: =C54*(D54+F54+H54) -> 14.670667 | J54: =B54*B54/162 -> 1.5802469 | K54: =(I54*J54)/1000 -> 0.023183276 | L54: Depth | M54: 400 | N54: Bend | O54: 2 | P54: 0 | Q54: 0 | R54: 0 | S54: 0 | T54: 0 | U54: 0 | V54: 0 | W54: 0 | X54: 0 | Y54: 0 | Z54: 0 | AA54: 0 | AB54: 0 | AC54: 0 | AD54: 0 | AE54: 0 | AF54: =SUM(O54:AE54) -> 2 | AH54: 0 | AI54: 0 | AJ54: 0 | AK54: 0 | AL54: 0 | AM54: =AJ54-(2*AL54) -> 0 | AN54: =AK54-(2*AL54) -> 0 | AO54: =2*(AM54+AN54)+(2*10*AI54)-(5*2*AI54) -> 0 | AP54: =AO54/1000 -> 0 | AS54: Mid Length | AT54: ok
B55: 16 | C55: 2 | D55: =B53 -> 6.05 | E55: 10 | F55: =((10*B55)*E53*C55)/1000 -> 0.64 | H55: =(D55/6)*(0.04*B55) -> 0.64533333 | I55: =C55*(D55+F55+H55) -> 14.670667 | J55: =B55*B55/162 -> 1.5802469 | K55: =(I55*J55)/1000 -> 0.023183276 | L55: No.of Rings (Sup) | M55: 2 | N55: Span | O55: =O53*0.7 -> 4.235 | P55: =P53*0.7 -> 0 | Q55: =Q53*0.7 -> 0 | R55: =R53*0.7 -> 0 | S55: =S53*0.7 -> 0 | T55: =T53*0.7 -> 0 | U55: =U53*0.7 -> 0 | V55: =V53*0.7 -> 0 | ... AE55: =AE53*0.7 -> 0 | AH55: 0 | AI55: 0 | AJ55: 0 | AK55: 0 | AL55: 0 | AM55: =AJ55-(2*AL55) -> 0 | AN55: =AK55-(2*AL55) -> 0 | AO55: =2*(AM55+AN55)+(2*10*AI55)-(5*2*AI55) -> 0 | AP55: =AO55/1000 -> 0 | AS55: Sup Length | AT55: ok
A56: mid | B56: 16 | C56: 4 | D56: =AF56 -> 4.5 | H56: =(D56/6)*(0.04*B56) -> 0.48 | I56: =C56*(D56+F56+H56) -> 19.92 | J56: =B56*B56/162 -> 1.5802469 | K56: =(I56*J56)/1000 -> 0.031478519 | L56: No.of Rings (mid) | M56: 1 | N56: Span (Adjust) | O56: 4.5 | P56: 0 | Q56: 0 | R56: 0 | S56: 0 | T56: 0 | U56: 0 | V56: 0 | W56: 0 | X56: 0 | Y56: 0 | Z56: 0 | AA56: 0 | AB56: 0 | AC56: 0 | AD56: 0 | AE56: 0 | AF56: =SUM(O56:AE56) -> 4.5 | AH56: 0 | AI56: 0 | AJ56: 0 | AK56: 0 | AL56: 0 | AM56: =AJ56-(2*AL56) -> 0 | AN56: =AK56-(2*AL56) -> 0 | AO56: =2*(AM56+AN56)+(2*10*AI56)-(5*2*AI56) -> 0 | AP56: =AO56/1000 -> 0 | AS56: Beam size | AT56: ok
A57: support | B57: 16 | C57: 2 | D57: =AF58 -> 2.5 | E57: 10 | F57: =((10*B57)*E53*C57)/1000 -> 0.64 | H57: =(D57/6)*(0.04*B57) -> 0.26666667 | I57: =C57*(D57+F57+H57) -> 6.8133333 | J57: =B57*B57/162 -> 1.5802469 | K57: =(I57*J57)/1000 -> 0.010766749 | L57: Space (Sup) | M57: 0.15 | N57: Sup | O57: =O53*0.35 -> 2.1175 | P57: =P53*0.35 -> 0 | Q57: =Q53*0.35 -> 0 | R57: =R53*0.35 -> 0 | S57: =S53*0.35 -> 0 | T57: =T53*0.35 -> 0 | U57: =U53*0.35 -> 0 | V57: =V53*0.35 -> 0 | ... AE57: =AE53*0.35 -> 0 | AH57: 0 | AI57: 0 | AJ57: 0 | AK57: 0 | AL57: 0 | AM57: =AJ57-(2*AL57) -> 0 | AN57: =AK57-(2*AL57) -> 0 | AO57: =2*(AM57+AN57)+(2*10*AI57)-(5*2*AI57) -> 0 | AP57: =AO57/1000 -> 0 | AS57: Striupps | AT57: ok
A58: =M57 -> 0.15 | B58: 6 | C58: =(D57/A58)*I53 -> 33.333333 | D58: =M59 -> 0.88 | I58: =D58*C58 -> 29.333333 | J58: =B58*B58/162 -> 0.22222222 | K58: =(I58*J58)/1000 -> 0.0065185185 | L58: Space (mid) | M58: 0.15 | N58: Sup (Adjust) | O58: 2.5 | P58: 0 | Q58: 0 | R58: 0 | S58: 0 | T58: 0 | U58: 0 | V58: 0 | W58: 0 | X58: 0 | Y58: 0 | Z58: 0 | AA58: 0 | AB58: 0 | AC58: 0 | AD58: 0 | AE58: 0 | AF58: =SUM(O58:AE58) -> 2.5 | AH58: 0 | AI58: 0 | AJ58: 0 | AK58: 0 | AL58: 0 | AM58: =AJ58-(2*AL58) -> 0 | AN58: =AK58-(2*AL58) -> 0 | AO58: =2*(AM58+AN58)+(2*10*AI58)-(5*2*AI58) -> 0 | AP58: =AO58/1000 -> 0 | AS58: Striupps Spacing | AT58: ok
A59: =M58 -> 0.15 | B59: 6 | C59: =((B53-D57)/A59)*J53 -> 23.666667 | D59: =M59 -> 0.88 | I59: =D59*C59 -> 20.826667 | J59: =B59*B59/162 -> 0.22222222 | K59: =(I59*J59)/1000 -> 0.0046281481 | L59: Ring Length (m) | M59: =AP53 -> 0.88 | AH59: 0 | AI59: 0 | AJ59: 0 | AK59: 0 | AL59: 0 | AM59: =AJ59-(2*AL59) -> 0 | AN59: =AK59-(2*AL59) -> 0 | AO59: =2*(AM59+AN59)+(2*10*AI59)-(5*2*AI59) -> 0 | AP59: =AO59/1000 -> 0 | AS59: No of Bars & Dia | AT59: ok
AH60: 0 | AI60: 0 | AJ60: 0 | AK60: 0 | AL60: 0 | AM60: =AJ60-(2*AL60) -> 0 | AN60: =AK60-(2*AL60) -> 0 | AO60: =2*(AM60+AN60)+(2*10*AI60)-(5*2*AI60) -> 0 | AP60: =AO60/1000 -> 0
I61: SUP | J61: SPAN | N61: BEAM | AS61: Bar/Beam Length | AT61: ok
A62: =N62 -> B3 | B62: =AF62 -> 0 | C62: m | D62: BEND | E62: =AF63 -> 0 | F62: =M62 -> 200 | G62: x | H62: =M63 -> 400 | I62: =M64 -> 2 | J62: =M65 -> 1 | L62: Width | M62: 200 | N62: B3 | O62: 0 | P62: 0 | Q62: 0 | R62: 0 | S62: 0 | T62: 0 | U62: 0 | V62: 0 | W62: 0 | X62: 0 | Y62: 0 | Z62: 0 | AA62: 0 | AB62: 0 | AC62: 0 | AD62: 0 | AE62: 0 | AF62: =SUM(O62:AE62) -> 0 | AG62: 1ST FLOOR BEAM | AH62: B1 | AI62: 6 | AJ62: 200 | AK62: 350 | AL62: 35 | AM62: =AJ62-(2*AL62) -> 130 | AN62: =AK62-(2*AL62) -> 280 | AO62: =2*(AM62+AN62)+(2*10*AI62)-(5*2*AI62) -> 880 | AP62: =AO62/1000 -> 0.88 | AS62: Bend | AT62: ok
A63: Through out | B63: 16 | C63: 5 | D63: =B62 -> 0 | E63: 10 | F63: =((10*B63)*E62*C63)/1000 -> 0 | H63: =(D63/6)*(0.04*B63) -> 0 | I63: =C63*(D63+F63+H63) -> 0 | J63: =B63*B63/162 -> 1.5802469 | K63: =(I63*J63)/1000 -> 0 | L63: Depth | M63: 400 | N63: Bend | O63: 0 | P63: 0 | Q63: 0 | R63: 0 | S63: 0 | T63: 0 | U63: 0 | V63: 0 | W63: 0 | X63: 0 | Y63: 0 | Z63: 0 | AA63: 0 | AB63: 0 | AC63: 0 | AD63: 0 | AE63: 0 | AF63: =SUM(O63:AE63) -> 0 | AH63: 0 | AI63: 0 | AJ63: 0 | AK63: 0 | AL63: 0 | AM63: =AJ63-(2*AL63) -> 0 | AN63: =AK63-(2*AL63) -> 0 | AO63: =2*(AM63+AN63)+(2*10*AI63)-(5*2*AI63) -> 0 | AP63: =AO63/1000 -> 0 | AS63: Mid Length | AT63: ok
B64: 16 | C64: 5 | D64: =B62 -> 0 | E64: 10 | F64: =((10*B64)*E62*C64)/1000 -> 0 | H64: =(D64/6)*(0.04*B64) -> 0 | I64: =C64*(D64+F64+H64) -> 0 | J64: =B64*B64/162 -> 1.5802469 | K64: =(I64*J64)/1000 -> 0 | L64: No.of Rings (Sup) | M64: 2 | N64: Span | O64: =O62*0.7 -> 0 | P64: =P62*0.7 -> 0 | Q64: =Q62*0.7 -> 0 | R64: =R62*0.7 -> 0 | S64: =S62*0.7 -> 0 | T64: =T62*0.7 -> 0 | U64: =U62*0.7 -> 0 | V64: =V62*0.7 -> 0 | ... AE64: =AE62*0.7 -> 0 | AH64: 0 | AI64: 0 | AJ64: 0 | AK64: 0 | AL64: 0 | AM64: =AJ64-(2*AL64) -> 0 | AN64: =AK64-(2*AL64) -> 0 | AO64: =2*(AM64+AN64)+(2*10*AI64)-(5*2*AI64) -> 0 | AP64: =AO64/1000 -> 0 | AS64: Sup Length | AT64: ok
A65: mid | B65: 16 | C65: 2 | D65: =AF65 -> 0 | H65: =(D65/6)*(0.04*B65) -> 0 | I65: =C65*(D65+F65+H65) -> 0 | J65: =B65*B65/162 -> 1.5802469 | K65: =(I65*J65)/1000 -> 0 | L65: No.of Rings (mid) | M65: 1 | N65: Span (Adjust) | O65: 0 | P65: 0 | Q65: 0 | R65: 0 | S65: 0 | T65: 0 | U65: 0 | V65: 0 | W65: 0 | X65: 0 | Y65: 0 | Z65: 0 | AA65: 0 | AB65: 0 | AC65: 0 | AD65: 0 | AE65: 0 | AF65: =SUM(O65:AE65) -> 0 | AH65: 0 | AI65: 0 | AJ65: 0 | AK65: 0 | AL65: 0 | AM65: =AJ65-(2*AL65) -> 0 | AN65: =AK65-(2*AL65) -> 0 | AO65: =2*(AM65+AN65)+(2*10*AI65)-(5*2*AI65) -> 0 | AP65: =AO65/1000 -> 0 | AS65: Beam size | AT65: ok
A66: support | B66: 16 | C66: 2 | D66: =AF67 -> 0 | E66: 10 | F66: =((10*B66)*E62*C66)/1000 -> 0 | H66: =(D66/6)*(0.04*B66) -> 0 | I66: =C66*(D66+F66+H66) -> 0 | J66: =B66*B66/162 -> 1.5802469 | K66: =(I66*J66)/1000 -> 0 | L66: Space (Sup) | M66: 0.15 | N66: Sup | O66: =O62*0.35 -> 0 | P66: =P62*0.35 -> 0 | Q66: =Q62*0.35 -> 0 | R66: =R62*0.35 -> 0 | S66: =S62*0.35 -> 0 | T66: =T62*0.35 -> 0 | U66: =U62*0.35 -> 0 | V66: =V62*0.35 -> 0 | ... AE66: =AE62*0.35 -> 0 | AH66: 0 | AI66: 0 | AJ66: 0 | AK66: 0 | AL66: 0 | AM66: =AJ66-(2*AL66) -> 0 | AN66: =AK66-(2*AL66) -> 0 | AO66: =2*(AM66+AN66)+(2*10*AI66)-(5*2*AI66) -> 0 | AP66: =AO66/1000 -> 0 | AS66: Striupps | AT66: ok
A67: =M66 -> 0.15 | B67: 6 | C67: =(D66/A67)*I62 -> 0 | D67: =M68 -> 0.88 | I67: =D67*C67 -> 0 | J67: =B67*B67/162 -> 0.22222222 | K67: =(I67*J67)/1000 -> 0 | L67: Space (mid) | M67: 0.15 | N67: Sup (Adjust) | O67: 0 | P67: 0 | Q67: 0 | R67: 0 | S67: 0 | T67: 0 | U67: 0 | V67: 0 | W67: 0 | X67: 0 | Y67: 0 | Z67: 0 | AA67: 0 | AB67: 0 | AC67: 0 | AD67: 0 | AE67: 0 | AF67: =SUM(O67:AE67) -> 0 | AH67: 0 | AI67: 0 | AJ67: 0 | AK67: 0 | AL67: 0 | AM67: =AJ67-(2*AL67) -> 0 | AN67: =AK67-(2*AL67) -> 0 | AO67: =2*(AM67+AN67)+(2*10*AI67)-(5*2*AI67) -> 0 | AP67: =AO67/1000 -> 0 | AS67: Striupps Spacing | AT67: ok
A68: =M67 -> 0.15 | B68: 6 | C68: =((B62-D66)/A68)*J62 -> 0 | D68: =M68 -> 0.88 | I68: =D68*C68 -> 0 | J68: =B68*B68/162 -> 0.22222222 | K68: =(I68*J68)/1000 -> 0 | L68: Ring Length (m) | M68: =AP62 -> 0.88 | AH68: 0 | AI68: 0 | AJ68: 0 | AK68: 0 | AL68: 0 | AM68: =AJ68-(2*AL68) -> 0 | AN68: =AK68-(2*AL68) -> 0 | AO68: =2*(AM68+AN68)+(2*10*AI68)-(5*2*AI68) -> 0 | AP68: =AO68/1000 -> 0 | AS68: No of Bars & Dia | AT68: ok
AH69: 0 | AI69: 0 | AJ69: 0 | AK69: 0 | AL69: 0 | AM69: =AJ69-(2*AL69) -> 0 | AN69: =AK69-(2*AL69) -> 0 | AO69: =2*(AM69+AN69)+(2*10*AI69)-(5*2*AI69) -> 0 | AP69: =AO69/1000 -> 0
I70: SUP | J70: SPAN | N70: BEAM | AS70: Bar/Beam Length | AT70: ok
A71: =N71 -> B4 | B71: =AF71 -> 16.431 | C71: m | D71: BEND | E71: =AF72 -> 2 | F71: =M71 -> 200 | G71: x | H71: =M72 -> 400 | I71: =M73 -> 2 | J71: =M74 -> 1 | L71: Width | M71: 200 | N71: B4 | O71: 4.915 | P71: 5.331 | Q71: 6.185 | R71: 0 | S71: 0 | T71: 0 | U71: 0 | V71: 0 | W71: 0 | X71: 0 | Y71: 0 | Z71: 0 | AA71: 0 | AB71: 0 | AC71: 0 | AD71: 0 | AE71: 0 | AF71: =SUM(O71:AE71) -> 16.431 | AG71: 1ST FLOOR BEAM | AH71: B1 | AI71: 6 | AJ71: 200 | AK71: 350 | AL71: 35 | AM71: =AJ71-(2*AL71) -> 130 | AN71: =AK71-(2*AL71) -> 280 | AO71: =2*(AM71+AN71)+(2*10*AI71)-(5*2*AI71) -> 880 | AP71: =AO71/1000 -> 0.88 | AS71: Bend | AT71: ok
A72: Through out | B72: 16 | C72: 2 | D72: =B71 -> 16.431 | E72: 10 | F72: =((10*B72)*E71*C72)/1000 -> 0.64 | H72: =(D72/6)*(0.04*B72) -> 1.75264 | I72: =C72*(D72+F72+H72) -> 37.64728 | J72: =B72*B72/162 -> 1.5802469 | K72: =(I72*J72)/1000 -> 0.059491998 | L72: Depth | M72: 400 | N72: Bend | O72: 1 | P72: 1 | Q72: 0 | R72: 0 | S72: 0 | T72: 0 | U72: 0 | V72: 0 | W72: 0 | X72: 0 | Y72: 0 | Z72: 0 | AA72: 0 | AB72: 0 | AC72: 0 | AD72: 0 | AE72: 0 | AF72: =SUM(O72:AE72) -> 2 | AH72: 0 | AI72: 0 | AJ72: 0 | AK72: 0 | AL72: 0 | AM72: =AJ72-(2*AL72) -> 0 | AN72: =AK72-(2*AL72) -> 0 | AO72: =2*(AM72+AN72)+(2*10*AI72)-(5*2*AI72) -> 0 | AP72: =AO72/1000 -> 0 | AS72: Mid Length | AT72: ok
B73: 16 | C73: 2 | D73: =B71 -> 16.431 | E73: 10 | F73: =((10*B73)*E71*C73)/1000 -> 0.64 | H73: =(D73/6)*(0.04*B73) -> 1.75264 | I73: =C73*(D73+F73+H73) -> 37.64728 | J73: =B73*B73/162 -> 1.5802469 | K73: =(I73*J73)/1000 -> 0.059491998 | L73: No.of Rings (Sup) | M73: 2 | N73: Span | O73: =O71*0.7 -> 3.4405 | P73: =P71*0.7 -> 3.7317 | Q73: =Q71*0.7 -> 4.3295 | R73: =R71*0.7 -> 0 | S73: =S71*0.7 -> 0 | T73: =T71*0.7 -> 0 | U73: =U71*0.7 -> 0 | V73: =V71*0.7 -> 0 | ... AE73: =AE71*0.7 -> 0 | AH73: 0 | AI73: 0 | AJ73: 0 | AK73: 0 | AL73: 0 | AM73: =AJ73-(2*AL73) -> 0 | AN73: =AK73-(2*AL73) -> 0 | AO73: =2*(AM73+AN73)+(2*10*AI73)-(5*2*AI73) -> 0 | AP73: =AO73/1000 -> 0 | AS73: Sup Length | AT73: ok
A74: mid | B74: 16 | C74: 2 | D74: =AF74 -> 12.5 | H74: =(D74/6)*(0.04*B74) -> 1.3333333 | I74: =C74*(D74+F74+H74) -> 27.666667 | J74: =B74*B74/162 -> 1.5802469 | K74: =(I74*J74)/1000 -> 0.043720165 | L74: No.of Rings (mid) | M74: 1 | N74: Span (Adjust) | O74: 4 | P74: 4 | Q74: 4.5 | R74: 0 | S74: 0 | T74: 0 | U74: 0 | V74: 0 | W74: 0 | X74: 0 | Y74: 0 | Z74: 0 | AA74: 0 | AB74: 0 | AC74: 0 | AD74: 0 | AE74: 0 | AF74: =SUM(O74:AE74) -> 12.5 | AH74: 0 | AI74: 0 | AJ74: 0 | AK74: 0 | AL74: 0 | AM74: =AJ74-(2*AL74) -> 0 | AN74: =AK74-(2*AL74) -> 0 | AO74: =2*(AM74+AN74)+(2*10*AI74)-(5*2*AI74) -> 0 | AP74: =AO74/1000 -> 0 | AS74: Beam size | AT74: ok
A75: support | B75: 16 | C75: 3 | D75: =AF76 -> 7 | E75: 10 | F75: =((10*B75)*E71*C75)/1000 -> 0.96 | H75: =(D75/6)*(0.04*B75) -> 0.74666667 | I75: =C75*(D75+F75+H75) -> 26.12 | J75: =B75*B75/162 -> 1.5802469 | K75: =(I75*J75)/1000 -> 0.041276049 | L75: Space (Sup) | M75: 0.15 | N75: Sup | O75: =O71*0.35 -> 1.72025 | P75: =P71*0.35 -> 1.86585 | Q75: =Q71*0.35 -> 2.16475 | R75: =R71*0.35 -> 0 | S75: =S71*0.35 -> 0 | T75: =T71*0.35 -> 0 | U75: =U71*0.35 -> 0 | V75: =V71*0.35 -> 0 | ... AE75: =AE71*0.35 -> 0 | AH75: 0 | AI75: 0 | AJ75: 0 | AK75: 0 | AL75: 0 | AM75: =AJ75-(2*AL75) -> 0 | AN75: =AK75-(2*AL75) -> 0 | AO75: =2*(AM75+AN75)+(2*10*AI75)-(5*2*AI75) -> 0 | AP75: =AO75/1000 -> 0 | AS75: Striupps | AT75: ok
A76: =M75 -> 0.15 | B76: 6 | C76: =(D75/A76)*I71 -> 93.333333 | D76: =M77 -> 0.88 | I76: =D76*C76 -> 82.133333 | J76: =B76*B76/162 -> 0.22222222 | K76: =(I76*J76)/1000 -> 0.018251852 | L76: Space (mid) | M76: 0.15 | N76: Sup (Adjust) | O76: 2 | P76: 2 | Q76: 3 | R76: 0 | S76: 0 | T76: 0 | U76: 0 | V76: 0 | W76: 0 | X76: 0 | Y76: 0 | Z76: 0 | AA76: 0 | AB76: 0 | AC76: 0 | AD76: 0 | AE76: 0 | AF76: =SUM(O76:AE76) -> 7 | AH76: 0 | AI76: 0 | AJ76: 0 | AK76: 0 | AL76: 0 | AM76: =AJ76-(2*AL76) -> 0 | AN76: =AK76-(2*AL76) -> 0 | AO76: =2*(AM76+AN76)+(2*10*AI76)-(5*2*AI76) -> 0 | AP76: =AO76/1000 -> 0 | AS76: Striupps Spacing | AT76: ok
A77: =M76 -> 0.15 | B77: 6 | C77: =((B71-D75)/A77)*J71 -> 62.873333 | D77: =M77 -> 0.88 | I77: =D77*C77 -> 55.328533 | J77: =B77*B77/162 -> 0.22222222 | K77: =(I77*J77)/1000 -> 0.01229523 | L77: Ring Length (m) | M77: =AP71 -> 0.88 | AH77: 0 | AI77: 0 | AJ77: 0 | AK77: 0 | AL77: 0 | AM77: =AJ77-(2*AL77) -> 0 | AN77: =AK77-(2*AL77) -> 0 | AO77: =2*(AM77+AN77)+(2*10*AI77)-(5*2*AI77) -> 0 | AP77: =AO77/1000 -> 0 | AS77: No of Bars & Dia | AT77: ok
AH78: 0 | AI78: 0 | AJ78: 0 | AK78: 0 | AL78: 0 | AM78: =AJ78-(2*AL78) -> 0 | AN78: =AK78-(2*AL78) -> 0 | AO78: =2*(AM78+AN78)+(2*10*AI78)-(5*2*AI78) -> 0 | AP78: =AO78/1000 -> 0
I79: SUP | J79: SPAN | N79: BEAM | AS79: Bar/Beam Length | AT79: ok
A80: =N80 -> B5 | B80: =AF80 -> 14.43 | C80: m | D80: BEND | E80: =AF81 -> 6 | F80: =M80 -> 200 | G80: x | H80: =M81 -> 430 | I80: =M82 -> 2 | J80: =M83 -> 1 | L80: Width | M80: 200 | N80: B5 | O80: 5.815 | P80: 4.465 | Q80: 4.15 | R80: 0 | S80: 0 | T80: 0 | U80: 0 | V80: 0 | W80: 0 | X80: 0 | Y80: 0 | Z80: 0 | AA80: 0 | AB80: 0 | AC80: 0 | AD80: 0 | AE80: 0 | AF80: =SUM(O80:AE80) -> 14.43 | AG80: 1ST FLOOR BEAM | AH80: B1 | AI80: 6 | AJ80: 200 | AK80: 350 | AL80: 35 | AM80: =AJ80-(2*AL80) -> 130 | AN80: =AK80-(2*AL80) -> 280 | AO80: =2*(AM80+AN80)+(2*10*AI80)-(5*2*AI80) -> 880 | AP80: =AO80/1000 -> 0.88 | AS80: Bend | AT80: ok
A81: Through out | B81: 16 | C81: 2 | D81: =B80 -> 14.43 | E81: 10 | F81: =((10*B81)*E80*C81)/1000 -> 1.92 | H81: =(D81/6)*(0.04*B81) -> 1.5392 | I81: =C81*(D81+F81+H81) -> 35.7784 | J81: =B81*B81/162 -> 1.5802469 | K81: =(I81*J81)/1000 -> 0.056538706 | L81: Depth | M81: 430 | N81: Bend | O81: 2 | P81: 2 | Q81: 2 | R81: 0 | S81: 0 | T81: 0 | U81: 0 | V81: 0 | W81: 0 | X81: 0 | Y81: 0 | Z81: 0 | AA81: 0 | AB81: 0 | AC81: 0 | AD81: 0 | AE81: 0 | AF81: =SUM(O81:AE81) -> 6 | AH81: 0 | AI81: 0 | AJ81: 0 | AK81: 0 | AL81: 0 | AM81: =AJ81-(2*AL81) -> 0 | AN81: =AK81-(2*AL81) -> 0 | AO81: =2*(AM81+AN81)+(2*10*AI81)-(5*2*AI81) -> 0 | AP81: =AO81/1000 -> 0 | AS81: Mid Length | AT81: ok
B82: 16 | C82: 2 | D82: =B80 -> 14.43 | E82: 10 | F82: =((10*B82)*E80*C82)/1000 -> 1.92 | H82: =(D82/6)*(0.04*B82) -> 1.5392 | I82: =C82*(D82+F82+H82) -> 35.7784 | J82: =B82*B82/162 -> 1.5802469 | K82: =(I82*J82)/1000 -> 0.056538706 | L82: No.of Rings (Sup) | M82: 2 | N82: Span | O82: =O80*0.7 -> 4.0705 | P82: =P80*0.7 -> 3.1255 | Q82: =Q80*0.7 -> 2.905 | R82: =R80*0.7 -> 0 | S82: =S80*0.7 -> 0 | T82: =T80*0.7 -> 0 | U82: =U80*0.7 -> 0 | V82: =V80*0.7 -> 0 | ... AE82: =AE80*0.7 -> 0 | AH82: 0 | AI82: 0 | AJ82: 0 | AK82: 0 | AL82: 0 | AM82: =AJ82-(2*AL82) -> 0 | AN82: =AK82-(2*AL82) -> 0 | AO82: =2*(AM82+AN82)+(2*10*AI82)-(5*2*AI82) -> 0 | AP82: =AO82/1000 -> 0 | AS82: Sup Length | AT82: ok
A83: mid | B83: 16 | C83: 2 | D83: =AF83 -> 11 | H83: =(D83/6)*(0.04*B83) -> 1.1733333 | I83: =C83*(D83+F83+H83) -> 24.346667 | J83: =B83*B83/162 -> 1.5802469 | K83: =(I83*J83)/1000 -> 0.038473745 | L83: No.of Rings (mid) | M83: 1 | N83: Span (Adjust) | O83: 4.5 | P83: 3.5 | Q83: 3 | R83: 0 | S83: 0 | T83: 0 | U83: 0 | V83: 0 | W83: 0 | X83: 0 | Y83: 0 | Z83: 0 | AA83: 0 | AB83: 0 | AC83: 0 | AD83: 0 | AE83: 0 | AF83: =SUM(O83:AE83) -> 11 | AH83: 0 | AI83: 0 | AJ83: 0 | AK83: 0 | AL83: 0 | AM83: =AJ83-(2*AL83) -> 0 | AN83: =AK83-(2*AL83) -> 0 | AO83: =2*(AM83+AN83)+(2*10*AI83)-(5*2*AI83) -> 0 | AP83: =AO83/1000 -> 0 | AS83: Beam size | AT83: ok
A84: support | B84: 16 | C84: 0 | D84: =AF85 -> 5.5 | E84: 10 | F84: =((10*B84)*E80*C84)/1000 -> 0 | H84: =(D84/6)*(0.04*B84) -> 0.58666667 | I84: =C84*(D84+F84+H84) -> 0 | J84: =B84*B84/162 -> 1.5802469 | K84: =(I84*J84)/1000 -> 0 | L84: Space (Sup) | M84: 0.15 | N84: Sup | O84: =O80*0.35 -> 2.03525 | P84: =P80*0.35 -> 1.56275 | Q84: =Q80*0.35 -> 1.4525 | R84: =R80*0.35 -> 0 | S84: =S80*0.35 -> 0 | T84: =T80*0.35 -> 0 | U84: =U80*0.35 -> 0 | V84: =V80*0.35 -> 0 | ... AE84: =AE80*0.35 -> 0 | AH84: 0 | AI84: 0 | AJ84: 0 | AK84: 0 | AL84: 0 | AM84: =AJ84-(2*AL84) -> 0 | AN84: =AK84-(2*AL84) -> 0 | AO84: =2*(AM84+AN84)+(2*10*AI84)-(5*2*AI84) -> 0 | AP84: =AO84/1000 -> 0 | AS84: Striupps | AT84: ok
A85: =M84 -> 0.15 | B85: 6 | C85: =(D84/A85)*I80 -> 73.333333 | D85: =M86 -> 0.88 | I85: =D85*C85 -> 64.533333 | J85: =B85*B85/162 -> 0.22222222 | K85: =(I85*J85)/1000 -> 0.014340741 | L85: Space (mid) | M85: 0.15 | N85: Sup (Adjust) | O85: 2 | P85: 2 | Q85: 1.5 | R85: 0 | S85: 0 | T85: 0 | U85: 0 | V85: 0 | W85: 0 | X85: 0 | Y85: 0 | Z85: 0 | AA85: 0 | AB85: 0 | AC85: 0 | AD85: 0 | AE85: 0 | AF85: =SUM(O85:AE85) -> 5.5 | AH85: 0 | AI85: 0 | AJ85: 0 | AK85: 0 | AL85: 0 | AM85: =AJ85-(2*AL85) -> 0 | AN85: =AK85-(2*AL85) -> 0 | AO85: =2*(AM85+AN85)+(2*10*AI85)-(5*2*AI85) -> 0 | AP85: =AO85/1000 -> 0 | AS85: Striupps Spacing | AT85: ok
A86: =M85 -> 0.15 | B86: 6 | C86: =((B80-D84)/A86)*J80 -> 59.533333 | D86: =M86 -> 0.88 | I86: =D86*C86 -> 52.389333 | J86: =B86*B86/162 -> 0.22222222 | K86: =(I86*J86)/1000 -> 0.011642074 | L86: Ring Length (m) | M86: =AP80 -> 0.88 | AH86: 0 | AI86: 0 | AJ86: 0 | AK86: 0 | AL86: 0 | AM86: =AJ86-(2*AL86) -> 0 | AN86: =AK86-(2*AL86) -> 0 | AO86: =2*(AM86+AN86)+(2*10*AI86)-(5*2*AI86) -> 0 | AP86: =AO86/1000 -> 0 | AS86: No of Bars & Dia | AT86: ok
AH87: 0 | AI87: 0 | AJ87: 0 | AK87: 0 | AL87: 0 | AM87: =AJ87-(2*AL87) -> 0 | AN87: =AK87-(2*AL87) -> 0 | AO87: =2*(AM87+AN87)+(2*10*AI87)-(5*2*AI87) -> 0 | AP87: =AO87/1000 -> 0
I88: SUP | J88: SPAN | N88: BEAM | AS88: Bar/Beam Length | AT88: ok
A89: =N89 -> B4 | B89: =AF89 -> 25.059 | C89: m | D89: BEND | E89: =AF90 -> 6 | F89: =M89 -> 200 | G89: x | H89: =M90 -> 430 | I89: =M91 -> 2 | J89: =M92 -> 1 | L89: Width | M89: 200 | N89: B4 | O89: 2.94 | P89: 3.86 | Q89: 5.955 | R89: 4.065 | S89: 3.95 | T89: 3.077 | U89: 1.212 | V89: 0 | W89: 0 | X89: 0 | Y89: 0 | Z89: 0 | AA89: 0 | AB89: 0 | AC89: 0 | AD89: 0 | AE89: 0 | AF89: =SUM(O89:AE89) -> 25.059 | AG89: 1ST FLOOR BEAM | AH89: B1 | AI89: 6 | AJ89: 200 | AK89: 350 | AL89: 35 | AM89: =AJ89-(2*AL89) -> 130 | AN89: =AK89-(2*AL89) -> 280 | AO89: =2*(AM89+AN89)+(2*10*AI89)-(5*2*AI89) -> 880 | AP89: =AO89/1000 -> 0.88 | AS89: Bend | AT89: ok
A90: Through out | B90: 16 | C90: 2 | D90: =B89 -> 25.059 | E90: 10 | F90: =((10*B90)*E89*C90)/1000 -> 1.92 | H90: =(D90/6)*(0.04*B90) -> 2.67296 | I90: =C90*(D90+F90+H90) -> 59.30392 | J90: =B90*B90/162 -> 1.5802469 | K90: =(I90*J90)/1000 -> 0.093714837 | L90: Depth | M90: 430 | N90: Bend | O90: 1 | P90: 1 | Q90: 0 | R90: 1 | S90: 1 | T90: 1 | U90: 1 | V90: 0 | W90: 0 | X90: 0 | Y90: 0 | Z90: 0 | AA90: 0 | AB90: 0 | AC90: 0 | AD90: 0 | AE90: 0 | AF90: =SUM(O90:AE90) -> 6 | AH90: 0 | AI90: 0 | AJ90: 0 | AK90: 0 | AL90: 0 | AM90: =AJ90-(2*AL90) -> 0 | AN90: =AK90-(2*AL90) -> 0 | AO90: =2*(AM90+AN90)+(2*10*AI90)-(5*2*AI90) -> 0 | AP90: =AO90/1000 -> 0 | AS90: Mid Length | AT90: ok
B91: 16 | C91: 2 | D91: =B89 -> 25.059 | E91: 10 | F91: =((10*B91)*E89*C91)/1000 -> 1.92 | H91: =(D91/6)*(0.04*B91) -> 2.67296 | I91: =C91*(D91+F91+H91) -> 59.30392 | J91: =B91*B91/162 -> 1.5802469 | K91: =(I91*J91)/1000 -> 0.093714837 | L91: No.of Rings (Sup) | M91: 2 | N91: Span | O91: =O89*0.7 -> 2.058 | P91: =P89*0.7 -> 2.702 | Q91: =Q89*0.7 -> 4.1685 | R91: =R89*0.7 -> 2.8455 | S91: =S89*0.7 -> 2.765 | T91: =T89*0.7 -> 2.1539 | U91: =U89*0.7 -> 0.8484 | V91: =V89*0.7 -> 0 | ... AE91: =AE89*0.7 -> 0 | AH91: 0 | AI91: 0 | AJ91: 0 | AK91: 0 | AL91: 0 | AM91: =AJ91-(2*AL91) -> 0 | AN91: =AK91-(2*AL91) -> 0 | AO91: =2*(AM91+AN91)+(2*10*AI91)-(5*2*AI91) -> 0 | AP91: =AO91/1000 -> 0 | AS91: Sup Length | AT91: ok
A92: mid | B92: 16 | C92: 0 | D92: =AF92 -> 19.5 | H92: =(D92/6)*(0.04*B92) -> 2.08 | I92: =C92*(D92+F92+H92) -> 0 | J92: =B92*B92/162 -> 1.5802469 | K92: =(I92*J92)/1000 -> 0 | L92: No.of Rings (mid) | M92: 1 | N92: Span (Adjust) | O92: 2.5 | P92: 3 | Q92: 4.5 | R92: 3 | S92: 3 | T92: 2.5 | U92: 1 | V92: 0 | W92: 0 | X92: 0 | Y92: 0 | Z92: 0 | AA92: 0 | AB92: 0 | AC92: 0 | AD92: 0 | AE92: 0 | AF92: =SUM(O92:AE92) -> 19.5 | AH92: 0 | AI92: 0 | AJ92: 0 | AK92: 0 | AL92: 0 | AM92: =AJ92-(2*AL92) -> 0 | AN92: =AK92-(2*AL92) -> 0 | AO92: =2*(AM92+AN92)+(2*10*AI92)-(5*2*AI92) -> 0 | AP92: =AO92/1000 -> 0 | AS92: Beam size | AT92: ok
A93: support | B93: 16 | C93: 0 | D93: =AF94 -> 10.7 | E93: 10 | F93: =((10*B93)*E89*C93)/1000 -> 0 | H93: =(D93/6)*(0.04*B93) -> 1.1413333 | I93: =C93*(D93+F93+H93) -> 0 | J93: =B93*B93/162 -> 1.5802469 | K93: =(I93*J93)/1000 -> 0 | L93: Space (Sup) | M93: 0.15 | N93: Sup | O93: =O89*0.35 -> 1.029 | P93: =P89*0.35 -> 1.351 | Q93: =Q89*0.35 -> 2.08425 | R93: =R89*0.35 -> 1.42275 | S93: =S89*0.35 -> 1.3825 | T93: =T89*0.35 -> 1.07695 | U93: =U89*0.35 -> 0.4242 | V93: =V89*0.35 -> 0 | ... AE93: =AE89*0.35 -> 0 | AH93: 0 | AI93: 0 | AJ93: 0 | AK93: 0 | AL93: 0 | AM93: =AJ93-(2*AL93) -> 0 | AN93: =AK93-(2*AL93) -> 0 | AO93: =2*(AM93+AN93)+(2*10*AI93)-(5*2*AI93) -> 0 | AP93: =AO93/1000 -> 0 | AS93: Striupps | AT93: ok
A94: =M93 -> 0.15 | B94: 6 | C94: =(D93/A94)*I89 -> 142.66667 | D94: =M95 -> 0.88 | I94: =D94*C94 -> 125.54667 | J94: =B94*B94/162 -> 0.22222222 | K94: =(I94*J94)/1000 -> 0.027899259 | L94: Space (mid) | M94: 0.15 | N94: Sup (Adjust) | O94: 1.2 | P94: 1.5 | Q94: 2.5 | R94: 1.5 | S94: 1.5 | T94: 1.5 | U94: 1 | V94: 0 | W94: 0 | X94: 0 | Y94: 0 | Z94: 0 | AA94: 0 | AB94: 0 | AC94: 0 | AD94: 0 | AE94: 0 | AF94: =SUM(O94:AE94) -> 10.7 | AH94: 0 | AI94: 0 | AJ94: 0 | AK94: 0 | AL94: 0 | AM94: =AJ94-(2*AL94) -> 0 | AN94: =AK94-(2*AL94) -> 0 | AO94: =2*(AM94+AN94)+(2*10*AI94)-(5*2*AI94) -> 0 | AP94: =AO94/1000 -> 0 | AS94: Striupps Spacing | AT94: ok
A95: =M94 -> 0.15 | B95: 6 | C95: =((B89-D93)/A95)*J89 -> 95.726667 | D95: =M95 -> 0.88 | I95: =D95*C95 -> 84.239467 | J95: =B95*B95/162 -> 0.22222222 | K95: =(I95*J95)/1000 -> 0.018719881 | L95: Ring Length (m) | M95: =AP89 -> 0.88 | AH95: 0 | AI95: 0 | AJ95: 0 | AK95: 0 | AL95: 0 | AM95: =AJ95-(2*AL95) -> 0 | AN95: =AK95-(2*AL95) -> 0 | AO95: =2*(AM95+AN95)+(2*10*AI95)-(5*2*AI95) -> 0 | AP95: =AO95/1000 -> 0 | AS95: No of Bars & Dia | AT95: ok
AH96: 0 | AI96: 0 | AJ96: 0 | AK96: 0 | AL96: 0 | AM96: =AJ96-(2*AL96) -> 0 | AN96: =AK96-(2*AL96) -> 0 | AO96: =2*(AM96+AN96)+(2*10*AI96)-(5*2*AI96) -> 0 | AP96: =AO96/1000 -> 0
I97: SUP | J97: SPAN | N97: BEAM | AS97: Bar/Beam Length | AT97: ok
A98: =N98 -> B5 | B98: =AF98 -> 22.038 | C98: m | D98: BEND | E98: =AF99 -> 2 | F98: =M98 -> 200 | G98: x | H98: =M99 -> 430 | I98: =M100 -> 2 | J98: =M101 -> 1 | L98: Width | M98: 200 | N98: B5 | O98: 6.038 | P98: 5.845 | Q98: 5.945 | R98: 4.21 | S98: 0 | T98: 0 | U98: 0 | V98: 0 | W98: 0 | X98: 0 | Y98: 0 | Z98: 0 | AA98: 0 | AB98: 0 | AC98: 0 | AD98: 0 | AE98: 0 | AF98: =SUM(O98:AE98) -> 22.038 | AG98: 1ST FLOOR BEAM | AH98: B1 | AI98: 6 | AJ98: 200 | AK98: 350 | AL98: 35 | AM98: =AJ98-(2*AL98) -> 130 | AN98: =AK98-(2*AL98) -> 280 | AO98: =2*(AM98+AN98)+(2*10*AI98)-(5*2*AI98) -> 880 | AP98: =AO98/1000 -> 0.88 | AS98: Bend | AT98: ok
A99: Through out | B99: 16 | C99: 2 | D99: =B98 -> 22.038 | E99: 10 | F99: =((10*B99)*E98*C99)/1000 -> 0.64 | H99: =(D99/6)*(0.04*B99) -> 2.35072 | I99: =C99*(D99+F99+H99) -> 50.05744 | J99: =B99*B99/162 -> 1.5802469 | K99: =(I99*J99)/1000 -> 0.079103115 | L99: Depth | M99: 430 | N99: Bend | O99: 1 | P99: 1 | Q99: 0 | R99: 0 | S99: 0 | T99: 0 | U99: 0 | V99: 0 | W99: 0 | X99: 0 | Y99: 0 | Z99: 0 | AA99: 0 | AB99: 0 | AC99: 0 | AD99: 0 | AE99: 0 | AF99: =SUM(O99:AE99) -> 2 | AH99: 0 | AI99: 0 | AJ99: 0 | AK99: 0 | AL99: 0 | AM99: =AJ99-(2*AL99) -> 0 | AN99: =AK99-(2*AL99) -> 0 | AO99: =2*(AM99+AN99)+(2*10*AI99)-(5*2*AI99) -> 0 | AP99: =AO99/1000 -> 0 | AS99: Mid Length | AT99: ok
B100: 16 | C100: 2 | D100: =B98 -> 22.038 | E100: 10 | F100: =((10*B100)*E98*C100)/1000 -> 0.64 | H100: =(D100/6)*(0.04*B100) -> 2.35072 | I100: =C100*(D100+F100+H100) -> 50.05744 | J100: =B100*B100/162 -> 1.5802469 | K100: =(I100*J100)/1000 -> 0.079103115 | L100: No.of Rings (Sup) | M100: 2 | N100: Span | O100: =O98*0.7 -> 4.2266 | P100: =P98*0.7 -> 4.0915 | Q100: =Q98*0.7 -> 4.1615 | R100: =R98*0.7 -> 2.947 | S100: =S98*0.7 -> 0 | T100: =T98*0.7 -> 0 | U100: =U98*0.7 -> 0 | V100: =V98*0.7 -> 0 | ... AE100: =AE98*0.7 -> 0 | AH100: 0 | AI100: 0 | AJ100: 0 | AK100: 0 | AL100: 0 | AM100: =AJ100-(2*AL100) -> 0 | AN100: =AK100-(2*AL100) -> 0 | AO100: =2*(AM100+AN100)+(2*10*AI100)-(5*2*AI100) -> 0 | AP100: =AO100/1000 -> 0 | AS100: Sup Length | AT100: ok
A101: mid | B101: 16 | C101: 1 | D101: =AF101 -> 16.5 | H101: =(D101/6)*(0.04*B101) -> 1.76 | I101: =C101*(D101+F101+H101) -> 18.26 | J101: =B101*B101/162 -> 1.5802469 | K101: =(I101*J101)/1000 -> 0.028855309 | L101: No.of Rings (mid) | M101: 1 | N101: Span (Adjust) | O101: 4.5 | P101: 4.5 | Q101: 4.5 | R101: 3 | S101: 0 | T101: 0 | U101: 0 | V101: 0 | W101: 0 | X101: 0 | Y101: 0 | Z101: 0 | AA101: 0 | AB101: 0 | AC101: 0 | AD101: 0 | AE101: 0 | AF101: =SUM(O101:AE101) -> 16.5 | AH101: 0 | AI101: 0 | AJ101: 0 | AK101: 0 | AL101: 0 | AM101: =AJ101-(2*AL101) -> 0 | AN101: =AK101-(2*AL101) -> 0 | AO101: =2*(AM101+AN101)+(2*10*AI101)-(5*2*AI101) -> 0 | AP101: =AO101/1000 -> 0 | AS101: Beam size | AT101: ok
A102: support | B102: 16 | C102: 1 | D102: =AF103 -> 8.5 | E102: 10 | F102: =((10*B102)*E98*C102)/1000 -> 0.32 | H102: =(D102/6)*(0.04*B102) -> 0.90666667 | I102: =C102*(D102+F102+H102) -> 9.7266667 | J102: =B102*B102/162 -> 1.5802469 | K102: =(I102*J102)/1000 -> 0.015370535 | L102: Space (Sup) | M102: 0.15 | N102: Sup | O102: =O98*0.35 -> 2.1133 | P102: =P98*0.35 -> 2.04575 | Q102: =Q98*0.35 -> 2.08075 | R102: =R98*0.35 -> 1.4735 | S102: =S98*0.35 -> 0 | T102: =T98*0.35 -> 0 | U102: =U98*0.35 -> 0 | V102: =V98*0.35 -> 0 | ... AE102: =AE98*0.35 -> 0 | AH102: 0 | AI102: 0 | AJ102: 0 | AK102: 0 | AL102: 0 | AM102: =AJ102-(2*AL102) -> 0 | AN102: =AK102-(2*AL102) -> 0 | AO102: =2*(AM102+AN102)+(2*10*AI102)-(5*2*AI102) -> 0 | AP102: =AO102/1000 -> 0 | AS102: Striupps | AT102: ok
A103: =M102 -> 0.15 | B103: 6 | C103: =(D102/A103)*I98 -> 113.33333 | D103: =M104 -> 0.88 | I103: =D103*C103 -> 99.733333 | J103: =B103*B103/162 -> 0.22222222 | K103: =(I103*J103)/1000 -> 0.022162963 | L103: Space (mid) | M103: 0.15 | N103: Sup (Adjust) | O103: 2.5 | P103: 2 | Q103: 2.5 | R103: 1.5 | S103: 0 | T103: 0 | U103: 0 | V103: 0 | W103: 0 | X103: 0 | Y103: 0 | Z103: 0 | AA103: 0 | AB103: 0 | AC103: 0 | AD103: 0 | AE103: 0 | AF103: =SUM(O103:AE103) -> 8.5 | AH103: 0 | AI103: 0 | AJ103: 0 | AK103: 0 | AL103: 0 | AM103: =AJ103-(2*AL103) -> 0 | AN103: =AK103-(2*AL103) -> 0 | AO103: =2*(AM103+AN103)+(2*10*AI103)-(5*2*AI103) -> 0 | AP103: =AO103/1000 -> 0 | AS103: Striupps Spacing | AT103: ok
A104: =M103 -> 0.15 | B104: 6 | C104: =((B98-D102)/A104)*J98 -> 90.253333 | D104: =M104 -> 0.88 | I104: =D104*C104 -> 79.422933 | J104: =B104*B104/162 -> 0.22222222 | K104: =(I104*J104)/1000 -> 0.017649541 | L104: Ring Length (m) | M104: =AP98 -> 0.88 | AH104: 0 | AI104: 0 | AJ104: 0 | AK104: 0 | AL104: 0 | AM104: =AJ104-(2*AL104) -> 0 | AN104: =AK104-(2*AL104) -> 0 | AO104: =2*(AM104+AN104)+(2*10*AI104)-(5*2*AI104) -> 0 | AP104: =AO104/1000 -> 0 | AS104: No of Bars & Dia | AT104: ok
AH105: 0 | AI105: 0 | AJ105: 0 | AK105: 0 | AL105: 0 | AM105: =AJ105-(2*AL105) -> 0 | AN105: =AK105-(2*AL105) -> 0 | AO105: =2*(AM105+AN105)+(2*10*AI105)-(5*2*AI105) -> 0 | AP105: =AO105/1000 -> 0
I106: SUP | J106: SPAN | N106: BEAM | AS106: Bar/Beam Length | AT106: ok
...

Sheet S (CL)
A1: Corrected all the cells on 24 March 2024
A3: FOUNDATION
A5: Item | B5: Dia | C5: No of Bar | D5: Length & Ring size | E5: Bend | G5: Bar Length | H5: Lap Length | I5: Total Length | J5: Unit Weight | K5: Total Weight
A6: =M6 -> C1 | B6: Length | C6: =O8 -> 1.8 | D6: SIZE | E6: =O6 -> 200 | F6: x | G6: =O7 -> 350 | H6: No. of Column | I6: =M7 -> 3 | L6: Column | M6: C1 | N6: Width | O6: 200 | P6: Description | Q6: Diameter | R6: Width | S6: Depth | T6: Cover | U6: Ring Width | V6: Ring Depth | W6: Ring Perimeter (mm) | X6: Ring Perimeter (m) | Y6: Ring Length
B7: 16 | C7: 3 | D7: =C6*C7*I6 -> 16.2 | E7: 0 | G7: =D7+E7 -> 16.2 | H7: =((C6/6)*(45*B7)*(I6*C7))/1000 -> 1.944 | I7: =(G7+H7) -> 18.144 | J7: =B7*B7/162 -> 1.5802469 | K7: =I7*J7 -> 28.672 | L7: No Of Column | M7: 3 | N7: Depth | O7: 350 | P7: =M6 -> C1 | Q7: =B9 -> 6 | R7: =O6 -> 200 | S7: =O7 -> 350 | T7: 40 | U7: =R7-(2*T7) -> 120 | V7: =S7-(2*T7) -> 270 | W7: =2*(U7+V7)+(2*10*Q7)-(5*2*Q7) -> 840 | X7: =W7/1000 -> 0.84 | Y7: =SUM(X7:X9) -> 1.46
B8: 16 | C8: 3 | D8: =C6*C8*I6 -> 16.2 | E8: 0 | G8: =D8+E8 -> 16.2 | H8: =((C6/6)*(45*B8)*(I6*C8))/1000 -> 1.944 | I8: =(G8+H8) -> 18.144 | J8: =B8*B8/162 -> 1.5802469 | K8: =I8*J8 -> 28.672 | L8: No of Striupps | M8: 7 | N8: Length | O8: =1.4+0.4 -> 1.8 | Q8: =B9 -> 6 | R8: =R7 -> 200 | S8: 160 | T8: 40 | U8: =R8-(2*T8) -> 120 | V8: =S8 -> 160 | W8: =2*(U8+V8)+(2*10*Q8)-(5*2*Q8) -> 620 | X8: =W8/1000 -> 0.62
B9: 6 | C9: =M8 -> 7 | D9: =Y7 -> 1.46 | E9: 0 | G9: =D9*C9*I6 -> 30.66 | I9: =G9 -> 30.66 | J9: =B9*B9/162 -> 0.22222222 | K9: =I9*J9 -> 6.8133333 | L9: Ring Length | M9: =Y7 -> 1.46
A11: =M11 -> C2 | B11: Length | C11: =O13 -> 1.8 | D11: SIZE | E11: =O11 -> 200 | F11: x | G11: =O12 -> 300 | H11: No. of Column | I11: =M12 -> 4 | L11: Column | M11: C2 | N11: Width | O11: 200 | P11: Description | Q11: Diameter | R11: Width | S11: Depth | T11: Cover | U11: Ring Width | V11: Ring Depth | W11: Ring Perimeter (mm) | X11: Ring Perimeter (m) | Y11: Ring Length
B12: 16 | C12: 4 | D12: =C11*C12*I11 -> 28.8 | E12: 0 | G12: =D12+E12 -> 28.8 | H12: =((C11/6)*(45*B12)*(I11*C12))/1000 -> 3.456 | I12: =(G12+H12) -> 32.256 | J12: =B12*B12/162 -> 1.5802469 | K12: =I12*J12 -> 50.972444 | L12: No Of Column | M12: 4 | N12: Depth | O12: 300 | P12: =M11 -> C2 | Q12: =B14 -> 6 | R12: =O11 -> 200 | S12: =O12 -> 300 | T12: 40 | U12: =R12-(2*T12) -> 120 | V12: =S12-(2*T12) -> 220 | W12: =2*(U12+V12)+(2*10*Q12)-(5*2*Q12) -> 740 | X12: =W12/1000 -> 0.74 | Y12: =SUM(X12:X14) -> 1.36
B13: 16 | C13: 4 | D13: =C11*C13*I11 -> 28.8 | E13: 0 | G13: =D13+E13 -> 28.8 | H13: =((C11/6)*(45*B13)*(I11*C13))/1000 -> 3.456 | I13: =(G13+H13) -> 32.256 | J13: =B13*B13/162 -> 1.5802469 | K13: =I13*J13 -> 50.972444 | L13: No of Striupps | M13: 7 | N13: Length | O13: =O8 -> 1.8 | Q13: =B14 -> 6 | R13: =R12 -> 200 | S13: 160 | T13: 40 | U13: =R13-(2*T13) -> 120 | V13: =S13 -> 160 | W13: =2*(U13+V13)+(2*10*Q13)-(5*2*Q13) -> 620 | X13: =W13/1000 -> 0.62
B14: 6 | C14: =M13 -> 7 | D14: =Y12 -> 1.36 | E14: 0 | G14: =D14*C14*I11 -> 38.08 | I14: =G14 -> 38.08 | J14: =B14*B14/162 -> 0.22222222 | K14: =I14*J14 -> 8.4622222 | L14: Ring Length | M14: =Y12 -> 1.36
A16: =M16 -> C3 | B16: Length | C16: =O18 -> 1.8 | D16: SIZE | E16: =O16 -> 250 | F16: x | G16: =O17 -> 300 | H16: No. of Column | I16: =M17 -> 9 | L16: Column | M16: C3 | N16: Width | O16: 250 | P16: Description | Q16: Diameter | R16: Width | S16: Depth | T16: Cover | U16: Ring Width | V16: Ring Depth | W16: Ring Perimeter (mm) | X16: Ring Perimeter (m) | Y16: Ring Length
B17: 20 | C17: 4 | D17: =C16*C17*I16 -> 64.8 | E17: 0 | G17: =D17+E17 -> 64.8 | H17: =((C16/6)*(45*B17)*(I16*C17))/1000 -> 9.72 | I17: =(G17+H17) -> 74.52 | J17: =B17*B17/162 -> 2.4691358 | K17: =I17*J17 -> 184 | L17: No Of Column | M17: 9 | N17: Depth | O17: 300 | P17: =M16 -> C3 | Q17: =B19 -> 6 | R17: =O16 -> 250 | S17: =O17 -> 300 | T17: 40 | U17: =R17-(2*T17) -> 170 | V17: =S17-(2*T17) -> 220 | W17: =2*(U17+V17)+(2*10*Q17)-(5*2*Q17) -> 840 | X17: =W17/1000 -> 0.84 | Y17: =SUM(X17:X19) -> 1.5
B18: 20 | C18: 4 | D18: =C16*C18*I16 -> 64.8 | E18: 0 | G18: =D18+E18 -> 64.8 | H18: =((C16/6)*(45*B18)*(I16*C18))/1000 -> 9.72 | I18: =(G18+H18) -> 74.52 | J18: =B18*B18/162 -> 2.4691358 | K18: =I18*J18 -> 184 | L18: No of Striupps | M18: 7 | N18: Length | O18: =O8 -> 1.8 | Q18: =B19 -> 6 | R18: =R17 -> 250 | S18: 130 | T18: 40 | U18: =R18-(2*T18) -> 170 | V18: =S18 -> 130 | W18: =2*(U18+V18)+(2*10*Q18)-(5*2*Q18) -> 660 | X18: =W18/1000 -> 0.66
B19: 6 | C19: =M18 -> 7 | D19: =Y17 -> 1.5 | E19: 0 | G19: =D19*C19*I16 -> 94.5 | I19: =G19 -> 94.5 | J19: =B19*B19/162 -> 0.22222222 | K19: =I19*J19 -> 21 | L19: Ring Length | M19: =Y17 -> 1.5
I21: COLUMN | J21: Dia | K21: Total weight (Kg)
J22: 6 | K22: =SUMIF($B$7:$B$20,J22,$K$7:$K$20) -> 36.275556
J23: 10 | K23: =SUMIF($B$7:$B$20,J23,$K$7:$K$20) -> 0
J24: 12 | K24: =SUMIF($B$7:$B$20,J24,$K$7:$K$20) -> 0
J25: 16 | K25: =SUMIF($B$7:$B$20,J25,$K$7:$K$20) -> 159.28889
J26: 20 | K26: =SUMIF($B$7:$B$20,J26,$K$7:$K$20) -> 368
J27: 25 | K27: =SUMIF($B$7:$B$20,J27,$K$7:$K$20) -> 0
I28: Total = | K28: =SUM(K22:K27) -> 563.56444
A30: GROUND FLOOR
A32: Item | B32: Dia | C32: No of Bar | D32: Length & Ring size | E32: Bend | G32: Bar Length | H32: Lap Length | I32: Total Length | J32: Unit Weight | K32: Total Weight
A33: =M33 -> C1 | B33: Length | C33: =O35 -> 3.3 | D33: SIZE | E33: =O33 -> 250 | F33: x | G33: =O34 -> 400 | H33: No. of Column | I33: =M34 -> 5 | L33: Column | M33: C1 | N33: Width | O33: 250 | P33: Description | Q33: Diameter | R33: Width | S33: Depth | T33: Cover | U33: Ring Width | V33: Ring Depth | W33: Ring Perimeter (mm) | X33: Ring Perimeter (m) | Y33: Ring Length
B34: 20 | C34: 4 | D34: =C33*C34*I33 -> 66 | E34: 0 | G34: =D34+E34 -> 66 | H34: =((C33/6)*(45*B34)*(I33*C34))/1000 -> 9.9 | I34: =(G34+H34) -> 75.9 | J34: =B34*B34/162 -> 2.4691358 | K34: =I34*J34 -> 187.40741 | L34: No Of Column | M34: 5 | N34: Depth | O34: 400 | P34: =M33 -> C1 | Q34: =B36 -> 6 | R34: =O33 -> 250 | S34: =O34 -> 400 | T34: 40 | U34: =R34-(2*T34) -> 170 | V34: =S34-(2*T34) -> 320 | W34: =2*(U34+V34)+(2*10*Q34)-(5*2*Q34) -> 1040 | X34: =W34/1000 -> 1.04 | Y34: =SUM(X34:X36) -> 1.76
B35: 20 | C35: 4 | D35: =C33*C35*I33 -> 66 | E35: 0 | G35: =D35+E35 -> 66 | H35: =((C33/6)*(45*B35)*(I33*C35))/1000 -> 9.9 | I35: =(G35+H35) -> 75.9 | J35: =B35*B35/162 -> 2.4691358 | K35: =I35*J35 -> 187.40741 | L35: No of Striupps | M35: 23 | N35: Length | O35: 3.3 | Q35: =B36 -> 6 | R35: =R34 -> 250 | S35: 160 | T35: 40 | U35: =R35-(2*T35) -> 170 | V35: =S35 -> 160 | W35: =2*(U35+V35)+(2*10*Q35)-(5*2*Q35) -> 720 | X35: =W35/1000 -> 0.72
B36: 6 | C36: =M35 -> 23 | D36: =Y34 -> 1.76 | E36: 0 | G36: =D36*C36*I33 -> 202.4 | I36: =G36 -> 202.4 | J36: =B36*B36/162 -> 0.22222222 | K36: =I36*J36 -> 44.977778 | L36: Ring Length | M36: =Y34 -> 1.76
A38: =M38 -> C2 | B38: Length | C38: =O40 -> 3.3 | D38: SIZE | E38: =O38 -> 250 | F38: x | G38: =O39 -> 400 | H38: No. of Column | I38: =M39 -> 6 | L38: Column | M38: C2 | N38: Width | O38: 250 | P38: Description | Q38: Diameter | R38: Width | S38: Depth | T38: Cover | U38: Ring Width | V38: Ring Depth | W38: Ring Perimeter (mm) | X38: Ring Perimeter (m) | Y38: Ring Length
B39: 16 | C39: 4 | D39: =C38*C39*I38 -> 79.2 | E39: 0 | G39: =D39+E39 -> 79.2 | H39: =((C38/6)*(45*B39)*(I38*C39))/1000 -> 9.504 | I39: =(G39+H39) -> 88.704 | J39: =B39*B39/162 -> 1.5802469 | K39: =I39*J39 -> 140.17422 | L39: No Of Column | M39: 6 | N39: Depth | O39: 400 | P39: =M38 -> C2 | Q39: =B41 -> 6 | R39: =O38 -> 250 | S39: =O39 -> 400 | T39: 40 | U39: =R39-(2*T39) -> 170 | V39: =S39-(2*T39) -> 320 | W39: =2*(U39+V39)+(2*10*Q39)-(5*2*Q39) -> 1040 | X39: =W39/1000 -> 1.04 | Y39: =SUM(X39:X41) -> 1.76
B40: 16 | C40: 4 | D40: =C38*C40*I38 -> 79.2 | E40: 0 | G40: =D40+E40 -> 79.2 | H40: =((C38/6)*(45*B40)*(I38*C40))/1000 -> 9.504 | I40: =(G40+H40) -> 88.704 | J40: =B40*B40/162 -> 1.5802469 | K40: =I40*J40 -> 140.17422 | L40: No of Striupps | M40: 23 | N40: Length | O40: 3.3 | Q40: =B41 -> 6 | R40: =R39 -> 250 | S40: 160 | T40: 40 | U40: =R40-(2*T40) -> 170 | V40: =S40 -> 160 | W40: =2*(U40+V40)+(2*10*Q40)-(5*2*Q40) -> 720 | X40: =W40/1000 -> 0.72
B41: 6 | C41: =M40 -> 23 | D41: =Y39 -> 1.76 | E41: 0 | G41: =D41*C41*I38 -> 242.88 | I41: =G41 -> 242.88 | J41: =B41*B41/162 -> 0.22222222 | K41: =I41*J41 -> 53.973333 | L41: Ring Length | M41: =Y39 -> 1.76
A43: =M43 -> C3 | B43: Length | C43: =O45 -> 3.3 | D43: SIZE | E43: =O43 -> 250 | F43: x | G43: =O44 -> 300 | H43: No. of Column | I43: =M44 -> 3 | L43: Column | M43: C3 | N43: Width | O43: 250 | P43: Description | Q43: Diameter | R43: Width | S43: Depth | T43: Cover | U43: Ring Width | V43: Ring Depth | W43: Ring Perimeter (mm) | X43: Ring Perimeter (m) | Y43: Ring Length
B44: 20 | C44: 4 | D44: =C43*C44*I43 -> 39.6 | E44: 0 | G44: =D44+E44 -> 39.6 | H44: =((C43/6)*(45*B44)*(I43*C44))/1000 -> 5.94 | I44: =(G44+H44) -> 45.54 | J44: =B44*B44/162 -> 2.4691358 | K44: =I44*J44 -> 112.44444 | L44: No Of Column | M44: 3 | N44: Depth | O44: 300 | P44: =M43 -> C3 | Q44: =B46 -> 6 | R44: =O43 -> 250 | S44: =O44 -> 300 | T44: 40 | U44: =R44-(2*T44) -> 170 | V44: =S44-(2*T44) -> 220 | W44: =2*(U44+V44)+(2*10*Q44)-(5*2*Q44) -> 840 | X44: =W44/1000 -> 0.84 | Y44: =SUM(X44:X46) -> 1.5
B45: 20 | C45: 4 | D45: =C43*C45*I43 -> 39.6 | E45: 0 | G45: =D45+E45 -> 39.6 | H45: =((C43/6)*(45*B45)*(I43*C45))/1000 -> 5.94 | I45: =(G45+H45) -> 45.54 | J45: =B45*B45/162 -> 2.4691358 | K45: =I45*J45 -> 112.44444 | L45: No of Striupps | M45: 23 | N45: Length | O45: 3.3 | Q45: =B46 -> 6 | R45: =R44 -> 250 | S45: 130 | T45: 40 | U45: =R45-(2*T45) -> 170 | V45: =S45 -> 130 | W45: =2*(U45+V45)+(2*10*Q45)-(5*2*Q45) -> 660 | X45: =W45/1000 -> 0.66
B46: 6 | C46: =M45 -> 23 | D46: =Y44 -> 1.5 | E46: 0 | G46: =D46*C46*I43 -> 103.5 | I46: =G46 -> 103.5 | J46: =B46*B46/162 -> 0.22222222 | K46: =I46*J46 -> 23 | L46: Ring Length | M46: =Y44 -> 1.5
A48: =M48 -> C4 | B48: Length | C48: =O50 -> 3.3 | D48: SIZE | E48: =O48 -> 200 | F48: x | G48: =O49 -> 200 | H48: No. of Column | I48: =M49 -> 1 | L48: Column | M48: C4 | N48: Width | O48: 200 | P48: Description | Q48: Diameter | R48: Width | S48: Depth | T48: Cover | U48: Ring Width | V48: Ring Depth | W48: Ring Perimeter (mm) | X48: Ring Perimeter (m) | Y48: Ring Length
B49: 20 | C49: 4 | D49: =C48*C49*I48 -> 13.2 | E49: 0 | G49: =D49+E49 -> 13.2 | H49: =((C48/6)*(45*B49)*(I48*C49))/1000 -> 1.98 | I49: =(G49+H49) -> 15.18 | J49: =B49*B49/162 -> 2.4691358 | K49: =I49*J49 -> 37.481481 | L49: No Of Column | M49: 1 | N49: Depth | O49: 200 | P49: =M48 -> C4 | Q49: =B51 -> 6 | R49: =O48 -> 200 | S49: =O49 -> 200 | T49: 40 | U49: =R49-(2*T49) -> 120 | V49: =S49-(2*T49) -> 120 | W49: =2*(U49+V49)+(2*10*Q49)-(5*2*Q49) -> 540 | X49: =W49/1000 -> 0.54 | Y49: =SUM(X49:X51) -> 0.54
B50: 20 | C50: 4 | D50: =C48*C50*I48 -> 13.2 | E50: 0 | G50: =D50+E50 -> 13.2 | H50: =((C48/6)*(45*B50)*(I48*C50))/1000 -> 1.98 | I50: =(G50+H50) -> 15.18 | J50: =B50*B50/162 -> 2.4691358 | K50: =I50*J50 -> 37.481481 | L50: No of Striupps | M50: 23 | N50: Length | O50: 3.3
B51: 6 | C51: =M50 -> 23 | D51: =Y49 -> 0.54 | E51: 0 | G51: =D51*C51*I48 -> 12.42 | I51: =G51 -> 12.42 | J51: =B51*B51/162 -> 0.22222222 | K51: =I51*J51 -> 2.76 | L51: Ring Length | M51: =Y49 -> 0.54
I54: COLUMN | J54: Dia | K54: Total weight (Kg)
J55: 6 | K55: =SUMIF($B$34:$B$51,J55,$K$34:$K$51) -> 124.71111
J56: 10 | K56: =SUMIF($B$34:$B$51,J56,$K$34:$K$51) -> 0
J57: 12 | K57: =SUMIF($B$34:$B$51,J57,$K$34:$K$51) -> 0
J58: 16 | K58: =SUMIF($B$34:$B$51,J58,$K$34:$K$51) -> 280.34844
J59: 20 | K59: =SUMIF($B$34:$B$51,J59,$K$34:$K$51) -> 674.66667
J60: 25 | K60: =SUMIF($B$34:$B$51,J60,$K$34:$K$51) -> 0
I61: Total = | K61: =SUM(K55:K60) -> 1079.7262
A63: FIRST -5TH FLOOR
A65: Item | B65: Dia | C65: No of Bar | D65: Length & Ring size | E65: Bend | G65: Bar Length | H65: Lap Length | I65: Total Length | J65: Unit Weight | K65: Total Weight
A66: =M66 -> C1 | B66: Length | C66: =O68 -> 3 | D66: SIZE | E66: =O66 -> 250 | F66: x | G66: =O67 -> 400 | H66: No. of Column | I66: =M67 -> 5 | L66: Column | M66: C1 | N66: Width | O66: 250 | P66: Description | Q66: Diameter | R66: Width | S66: Depth | T66: Cover | U66: Ring Width | V66: Ring Depth | W66: Ring Perimeter (mm) | X66: Ring Perimeter (m) | Y66: Ring Length
B67: 20 | C67: 4 | D67: =C66*C67*I66 -> 60 | E67: 0 | G67: =D67+E67 -> 60 | H67: =((C66/6)*(45*B67)*(I66*C67))/1000 -> 9 | I67: =(G67+H67) -> 69 | J67: =B67*B67/162 -> 2.4691358 | K67: =I67*J67 -> 170.37037 | L67: No Of Column | M67: 5 | N67: Depth | O67: 400 | P67: =M66 -> C1 | Q67: =B69 -> 6 | R67: =O66 -> 250 | S67: =O67 -> 400 | T67: 40 | U67: =R67-(2*T67) -> 170 | V67: =S67-(2*T67) -> 320 | W67: =2*(U67+V67)+(2*10*Q67)-(5*2*Q67) -> 1040 | X67: =W67/1000 -> 1.04 | Y67: =SUM(X67:X69) -> 1.76
B68: 20 | C68: 4 | D68: =C66*C68*I66 -> 60 | E68: 0 | G68: =D68+E68 -> 60 | H68: =((C66/6)*(45*B68)*(I66*C68))/1000 -> 9 | I68: =(G68+H68) -> 69 | J68: =B68*B68/162 -> 2.4691358 | K68: =I68*J68 -> 170.37037 | L68: No of Striupps | M68: 21 | N68: Length | O68: 3 | Q68: =B69 -> 6 | R68: =R67 -> 250 | S68: 160 | T68: 40 | U68: =R68-(2*T68) -> 170 | V68: =S68 -> 160 | W68: =2*(U68+V68)+(2*10*Q68)-(5*2*Q68) -> 720 | X68: =W68/1000 -> 0.72
B69: 6 | C69: =M68 -> 21 | D69: =Y67 -> 1.76 | E69: 0 | G69: =D69*C69*I66 -> 184.8 | I69: =G69 -> 184.8 | J69: =B69*B69/162 -> 0.22222222 | K69: =I69*J69 -> 41.066667 | L69: Ring Length | M69: =Y67 -> 1.76
A71: =M71 -> C2 | B71: Length | C71: =O73 -> 3 | D71: SIZE | E71: =O71 -> 250 | F71: x | G71: =O72 -> 400 | H71: No. of Column | I71: =M72 -> 6 | L71: Column | M71: C2 | N71: Width | O71: 250 | P71: Description | Q71: Diameter | R71: Width | S71: Depth | T71: Cover | U71: Ring Width | V71: Ring Depth | W71: Ring Perimeter (mm) | X71: Ring Perimeter (m) | Y71: Ring Length
B72: 16 | C72: 4 | D72: =C71*C72*I71 -> 72 | E72: 0 | G72: =D72+E72 -> 72 | H72: =((C71/6)*(45*B72)*(I71*C72))/1000 -> 8.64 | I72: =(G72+H72) -> 80.64 | J72: =B72*B72/162 -> 1.5802469 | K72: =I72*J72 -> 127.43111 | L72: No Of Column | M72: 6 | N72: Depth | O72: 400 | P72: =M71 -> C2 | Q72: =B74 -> 6 | R72: =O71 -> 250 | S72: =O72 -> 400 | T72: 40 | U72: =R72-(2*T72) -> 170 | V72: =S72-(2*T72) -> 320 | W72: =2*(U72+V72)+(2*10*Q72)-(5*2*Q72) -> 1040 | X72: =W72/1000 -> 1.04 | Y72: =SUM(X72:X74) -> 1.76
B73: 16 | C73: 4 | D73: =C71*C73*I71 -> 72 | E73: 0 | G73: =D73+E73 -> 72 | H73: =((C71/6)*(45*B73)*(I71*C73))/1000 -> 8.64 | I73: =(G73+H73) -> 80.64 | J73: =B73*B73/162 -> 1.5802469 | K73: =I73*J73 -> 127.43111 | L73: No of Striupps | M73: 21 | N73: Length | O73: 3 | Q73: =B74 -> 6 | R73: =R72 -> 250 | S73: 160 | T73: 40 | U73: =R73-(2*T73) -> 170 | V73: =S73 -> 160 | W73: =2*(U73+V73)+(2*10*Q73)-(5*2*Q73) -> 720 | X73: =W73/1000 -> 0.72
B74: 6 | C74: =M73 -> 21 | D74: =Y72 -> 1.76 | E74: 0 | G74: =D74*C74*I71 -> 221.76 | I74: =G74 -> 221.76 | J74: =B74*B74/162 -> 0.22222222 | K74: =I74*J74 -> 49.28 | L74: Ring Length | M74: =Y72 -> 1.76
A76: =M76 -> C3 | B76: Length | C76: =O78 -> 3 | D76: SIZE | E76: =O76 -> 250 | F76: x | G76: =O77 -> 300 | H76: No. of Column | I76: =M77 -> 3 | L76: Column | M76: C3 | N76: Width | O76: 250 | P76: Description | Q76: Diameter | R76: Width | S76: Depth | T76: Cover | U76: Ring Width | V76: Ring Depth | W76: Ring Perimeter (mm) | X76: Ring Perimeter (m) | Y76: Ring Length
B77: 20 | C77: 4 | D77: =C76*C77*I76 -> 36 | E77: 0 | G77: =D77+E77 -> 36 | H77: =((C76/6)*(45*B77)*(I76*C77))/1000 -> 5.4 | I77: =(G77+H77) -> 41.4 | J77: =B77*B77/162 -> 2.4691358 | K77: =I77*J77 -> 102.22222 | L77: No Of Column | M77: 3 | N77: Depth | O77: 300 | P77: =M76 -> C3 | Q77: =B79 -> 6 | R77: =O76 -> 250 | S77: =O77 -> 300 | T77: 40 | U77: =R77-(2*T77) -> 170 | V77: =S77-(2*T77) -> 220 | W77: =2*(U77+V77)+(2*10*Q77)-(5*2*Q77) -> 840 | X77: =W77/1000 -> 0.84 | Y77: =SUM(X77:X79) -> 1.5
B78: 20 | C78: 4 | D78: =C76*C78*I76 -> 36 | E78: 0 | G78: =D78+E78 -> 36 | H78: =((C76/6)*(45*B78)*(I76*C78))/1000 -> 5.4 | I78: =(G78+H78) -> 41.4 | J78: =B78*B78/162 -> 2.4691358 | K78: =I78*J78 -> 102.22222 | L78: No of Striupps | M78: 21 | N78: Length | O78: 3 | Q78: =B79 -> 6 | R78: =R77 -> 250 | S78: 130 | T78: 40 | U78: =R78-(2*T78) -> 170 | V78: =S78 -> 130 | W78: =2*(U78+V78)+(2*10*Q78)-(5*2*Q78) -> 660 | X78: =W78/1000 -> 0.66
B79: 6 | C79: =M78 -> 21 | D79: =Y77 -> 1.5 | E79: 0 | G79: =D79*C79*I76 -> 94.5 | I79: =G79 -> 94.5 | J79: =B79*B79/162 -> 0.22222222 | K79: =I79*J79 -> 21 | L79: Ring Length | M79: =Y77 -> 1.5
I81: COLUMN | J81: Dia | K81: Total weight (Kg)
J82: 6 | K82: =SUMIF($B$67:$B$79,J82,$K$67:$K$79) -> 111.34667
J83: 10 | K83: =SUMIF($B$67:$B$79,J83,$K$67:$K$79) -> 0
J84: 12 | K84: =SUMIF($B$67:$B$79,J84,$K$67:$K$79) -> 0
J85: 16 | K85: =SUMIF($B$67:$B$79,J85,$K$67:$K$79) -> 254.86222
J86: 20 | K86: =SUMIF($B$67:$B$79,J86,$K$67:$K$79) -> 545.18519
J87: 25 | K87: =SUMIF($B$67:$B$79,J87,$K$67:$K$79) -> 0
I88: Total = | K88: =SUM(K82:K87) -> 911.39407
A90: TERRACE FLOOR
A92: Item | B92: Dia | C92: No of Bar | D92: Length & Ring size | E92: Bend | G92: Bar Length | H92: Lap Length | I92: Total Length | J92: Unit Weight | K92: Total Weight
A93: =M93 -> C1 | B93: Length | C93: =O95 -> 3 | D93: SIZE | E93: =O93 -> 250 | F93: x | G93: =O94 -> 400 | H93: No. of Column | I93: =M94 -> 5 | L93: Column | M93: C1 | N93: Width | O93: 250 | P93: Description | Q93: Diameter | R93: Width | S93: Depth | T93: Cover | U93: Ring Width | V93: Ring Depth | W93: Ring Perimeter (mm) | X93: Ring Perimeter (m) | Y93: Ring Length
B94: 20 | C94: 4 | D94: =C93*C94*I93 -> 60 | E94: 0 | G94: =D94+E94 -> 60 | H94: =((C93/6)*(45*B94)*(I93*C94))/1000 -> 9 | I94: =(G94+H94) -> 69 | J94: =B94*B94/162 -> 2.4691358 | K94: =I94*J94 -> 170.37037 | L94: No Of Column | M94: 5 | N94: Depth | O94: 400 | P94: =M93 -> C1 | Q94: =B96 -> 6 | R94: =O93 -> 250 | S94: =O94 -> 400 | T94: 40 | U94: =R94-(2*T94) -> 170 | V94: =S94-(2*T94) -> 320 | W94: =2*(U94+V94)+(2*10*Q94)-(5*2*Q94) -> 1040 | X94: =W94/1000 -> 1.04 | Y94: =SUM(X94:X96) -> 1.76
B95: 20 | C95: 4 | D95: =C93*C95*I93 -> 60 | E95: 0 | G95: =D95+E95 -> 60 | H95: =((C93/6)*(45*B95)*(I93*C95))/1000 -> 9 | I95: =(G95+H95) -> 69 | J95: =B95*B95/162 -> 2.4691358 | K95: =I95*J95 -> 170.37037 | L95: No of Striupps | M95: 21 | N95: Length | O95: 3 | Q95: =B96 -> 6 | R95: =R94 -> 250 | S95: 160 | T95: 40 | U95: =R95-(2*T95) -> 170 | V95: =S95 -> 160 | W95: =2*(U95+V95)+(2*10*Q95)-(5*2*Q95) -> 720 | X95: =W95/1000 -> 0.72
B96: 6 | C96: =M95 -> 21 | D96: =Y94 -> 1.76 | E96: 0 | G96: =D96*C96*I93 -> 184.8 | I96: =G96 -> 184.8 | J96: =B96*B96/162 -> 0.22222222 | K96: =I96*J96 -> 41.066667 | L96: Ring Length | M96: =Y94 -> 1.76
A98: =M98 -> C2 | B98: Length | C98: =O100 -> 3 | D98: SIZE | E98: =O98 -> 250 | F98: x | G98: =O99 -> 400 | H98: No. of Column | I98: =M99 -> 2 | L98: Column | M98: C2 | N98: Width | O98: 250 | P98: Description | Q98: Diameter | R98: Width | S98: Depth | T98: Cover | U98: Ring Width | V98: Ring Depth | W98: Ring Perimeter (mm) | X98: Ring Perimeter (m) | Y98: Ring Length
B99: 16 | C99: 4 | D99: =C98*C99*I98 -> 24 | E99: 0 | G99: =D99+E99 -> 24 | H99: =((C98/6)*(45*B99)*(I98*C99))/1000 -> 2.88 | I99: =(G99+H99) -> 26.88 | J99: =B99*B99/162 -> 1.5802469 | K99: =I99*J99 -> 42.477037 | L99: No Of Column | M99: 2 | N99: Depth | O99: 400 | P99: =M98 -> C2 | Q99: =B101 -> 6 | R99: =O98 -> 250 | S99: =O99 -> 400 | T99: 40 | U99: =R99-(2*T99) -> 170 | V99: =S99-(2*T99) -> 320 | W99: =2*(U99+V99)+(2*10*Q99)-(5*2*Q99) -> 1040 | X99: =W99/1000 -> 1.04 | Y99: =SUM(X99:X101) -> 1.76
B100: 16 | C100: 4 | D100: =C98*C100*I98 -> 24 | E100: 0 | G100: =D100+E100 -> 24 | H100: =((C98/6)*(45*B100)*(I98*C100))/1000 -> 2.88 | I100: =(G100+H100) -> 26.88 | J100: =B100*B100/162 -> 1.5802469 | K100: =I100*J100 -> 42.477037 | L100: No of Striupps | M100: 21 | N100: Length | O100: 3 | Q100: =B101 -> 6 | R100: =R99 -> 250 | S100: 160 | T100: 40 | U100: =R100-(2*T100) -> 170 | V100: =S100 -> 160 | W100: =2*(U100+V100)+(2*10*Q100)-(5*2*Q100) -> 720 | X100: =W100/1000 -> 0.72
B101: 6 | C101: =M100 -> 21 | D101: =Y99 -> 1.76 | E101: 0 | G101: =D101*C101*I98 -> 73.92 | I101: =G101 -> 73.92 | J101: =B101*B101/162 -> 0.22222222 | K101: =I101*J101 -> 16.426667 | L101: Ring Length | M101: =Y99 -> 1.76
A103: =M103 -> C3 | B103: Length | C103: =O105 -> 3 | D103: SIZE | E103: =O103 -> 250 | F103: x | G103: =O104 -> 300 | H103: No. of Column | I103: =M104 -> 3 | L103: Column | M103: C3 | N103: Width | O103: 250 | P103: Description | Q103: Diameter | R103: Width | S103: Depth | T103: Cover | U103: Ring Width | V103: Ring Depth | W103: Ring Perimeter (mm) | X103: Ring Perimeter (m) | Y103: Ring Length
B104: 20 | C104: 4 | D104: =C103*C104*I103 -> 36 | E104: 0 | G104: =D104+E104 -> 36 | H104: =((C103/6)*(45*B104)*(I103*C104))/1000 -> 5.4 | I104: =(G104+H104) -> 41.4 | J104: =B104*B104/162 -> 2.4691358 | K104: =I104*J104 -> 102.22222 | L104: No Of Column | M104: 3 | N104: Depth | O104: 300 | P104: =M103 -> C3 | Q104: =B106 -> 6 | R104: =O103 -> 250 | S104: =O104 -> 300 | T104: 40 | U104: =R104-(2*T104) -> 170 | V104: =S104-(2*T104) -> 220 | W104: =2*(U104+V104)+(2*10*Q104)-(5*2*Q104) -> 840 | X104: =W104/1000 -> 0.84 | Y104: =SUM(X104:X106) -> 1.5
B105: 20 | C105: 4 | D105: =C103*C105*I103 -> 36 | E105: 0 | G105: =D105+E105 -> 36 | H105: =((C103/6)*(45*B105)*(I103*C105))/1000 -> 5.4 | I105: =(G105+H105) -> 41.4 | J105: =B105*B105/162 -> 2.4691358 | K105: =I105*J105 -> 102.22222 | L105: No of Striupps | M105: 21 | N105: Length | O105: 3 | Q105: =B106 -> 6 | R105: =R104 -> 250 | S105: 130 | T105: 40 | U105: =R105-(2*T105) -> 170 | V105: =S105 -> 130 | W105: =2*(U105+V105)+(2*10*Q105)-(5*2*Q105) -> 660 | X105: =W105/1000 -> 0.66
B106: 6 | C106: =M105 -> 21 | D106: =Y104 -> 1.5 | E106: 0 | G106: =D106*C106*I103 -> 94.5 | I106: =G106 -> 94.5 | J106: =B106*B106/162 -> 0.22222222 | K106: =I106*J106 -> 21 | L106: Ring Length | M106: =Y104 -> 1.5
A108: =M108 -> PC1 | B108: Length | C108: =O110 -> 3 | D108: SIZE | E108: =O108 -> 200 | F108: x | G108: =O109 -> 200 | H108: No. of Column | I108: =M109 -> 1 | L108: Column | M108: PC1 | N108: Width | O108: 200 | P108: Description | Q108: Diameter | R108: Width | S108: Depth | T108: Cover | U108: Ring Width | V108: Ring Depth | W108: Ring Perimeter (mm) | X108: Ring Perimeter (m) | Y108: Ring Length
B109: 20 | C109: 4 | D109: =C108*C109*I108 -> 12 | E109: 0 | G109: =D109+E109 -> 12 | H109: =((C108/6)*(45*B109)*(I108*C109))/1000 -> 1.8 | I109: =(G109+H109) -> 13.8 | J109: =B109*B109/162 -> 2.4691358 | K109: =I109*J109 -> 34.074074 | L109: No Of Column | M109: 1 | N109: Depth | O109: 200 | P109: =M108 -> PC1 | Q109: =B111 -> 6 | R109: =O108 -> 200 | S109: =O109 -> 200 | T109: 40 | U109: =R109-(2*T109) -> 120 | V109: =S109-(2*T109) -> 120 | W109: =2*(U109+V109)+(2*10*Q109)-(5*2*Q109) -> 540 | X109: =W109/1000 -> 0.54 | Y109: =SUM(X109:X111) -> 0.54
B110: 20 | C110: 4 | D110: =C108*C110*I108 -> 12 | E110: 0 | G110: =D110+E110 -> 12 | H110: =((C108/6)*(45*B110)*(I108*C110))/1000 -> 1.8 | I110: =(G110+H110) -> 13.8 | J110: =B110*B110/162 -> 2.4691358 | K110: =I110*J110 -> 34.074074 | L110: No of Striupps | M110: 21 | N110: Length | O110: 3
B111: 6 | C111: =M110 -> 21 | D111: =Y109 -> 0.54 | E111: 0 | G111: =D111*C111*I108 -> 11.34 | I111: =G111 -> 11.34 | J111: =B111*B111/162 -> 0.22222222 | K111: =I111*J111 -> 2.52 | L111: Ring Length | M111: =Y109 -> 0.54
I114: COLUMN | J114: Dia | K114: Total weight (Kg)
J115: 6 | K115: =SUMIF($B$94:$B$111,J115,$K$94:$K$111) -> 81.013333
J116: 10 | K116: =SUMIF($B$94:$B$111,J116,$K$94:$K$111) -> 0
J117: 12 | K117: =SUMIF($B$94:$B$111,J117,$K$94:$K$111) -> 0
J118: 16 | K118: =SUMIF($B$94:$B$111,J118,$K$94:$K$111) -> 84.954074
J119: 20 | K119: =SUMIF($B$94:$B$111,J119,$K$94:$K$111) -> 613.33333
J120: 25 | K120: =SUMIF($B$94:$B$111,J120,$K$94:$K$111) -> 0
I121: Total = | K121: =SUM(K115:K120) -> 779.30074

Sheet S (L&B.L)
A1: LIFT REINFORCEMENT
A3: FOUNDATION FLOOR
A4: ITEM | B4: DES. | C4: DIA OF BARS | D4: BAR LENGTH | E4: LENGTH OF THE WALL (m) | F4: SPACING (m) | G4: NO.OF BARS | H4: LAP LENGTH (m) | I4: TOTAL LENGTH (m) | J4: UNIT WEIGHT (Kg) | K4: TOTAL WEIGHT (Kg) | L4: TOTAL (Kg)
A5: LIFT | B5: Vertical (Y) | C5: 12 | D5: 3 | E5: =D6 -> 6.762 | F5: 0.1 | G5: =(E5/F5)+1 -> 68.62 | H5: =(((45*C5)/6)*D5)/1000 -> 0.27 | I5: =(D5+H5)*G5 -> 224.3874 | J5: =C5*C5/162 -> 0.88888889 | K5: =J5*I5 -> 199.45547 | L5: =K5+K6 -> 241.26102
B6: Horizontal (X) | C6: 10 | D6: 6.762 | E6: =D5 -> 3 | F6: 0.15 | G6: =(E6/F6)+1 -> 21 | H6: =(((45*C6)/6)*E6)/1000 -> 0.225 | I6: =(E6+H6)*G6 -> 67.725 | J6: =C6*C6/162 -> 0.61728395 | K6: =J6*I6 -> 41.805556
A8: GROUND FLOOR
A9: ITEM | B9: DES. | C9: DIA OF BARS | D9: BAR LENGTH | E9: LENGTH OF THE WALL (m) | F9: SPACING (m) | G9: NO.OF BARS | H9: LAP LENGTH (m) | I9: TOTAL LENGTH (m) | J9: UNIT WEIGHT (Kg) | K9: TOTAL WEIGHT (Kg) | L9: TOTAL (Kg)
A10: LIFT | B10: Vertical (Y) | C10: 12 | D10: 3.3 | E10: =D11 -> 5.173 | F10: 0.1 | G10: =(E10/F10)+1 -> 52.73 | H10: =(((45*C10)/6)*D10)/1000 -> 0.297 | I10: =(D10+H10)*G10 -> 189.66981 | J10: =C10*C10/162 -> 0.88888889 | K10: =J10*I10 -> 168.59539 | L10: =K10+K11 -> 218.96113
B11: Horizontal (X) | C11: 10 | D11: 5.173 | E11: =D10 -> 3.3 | F11: 0.15 | G11: =(E11/F11)+1 -> 23 | H11: =(((45*C11)/6)*E11)/1000 -> 0.2475 | I11: =(E11+H11)*G11 -> 81.5925 | J11: =C11*C11/162 -> 0.61728395 | K11: =J11*I11 -> 50.365741
A13: 1ST-5TH FLOOR
A14: ITEM | B14: DES. | C14: DIA OF BARS | D14: BAR LENGTH | E14: LENGTH OF THE WALL (m) | F14: SPACING (m) | G14: NO.OF BARS | H14: LAP LENGTH (m) | I14: TOTAL LENGTH (m) | J14: UNIT WEIGHT (Kg) | K14: TOTAL WEIGHT (Kg) | L14: TOTAL (Kg)
A15: LIFT | B15: Vertical (Y) | C15: 12 | D15: 3 | E15: =D16 -> 5.173 | F15: 0.1 | G15: =(E15/F15)+1 -> 52.73 | H15: =(((45*C15)/6)*D15)/1000 -> 0.27 | I15: =(D15+H15)*G15 -> 172.4271 | J15: =C15*C15/162 -> 0.88888889 | K15: =J15*I15 -> 153.26853 | L15: =K15+K16 -> 195.07409
B16: Horizontal (X) | C16: 10 | D16: 5.173 | E16: =D15 -> 3 | F16: 0.15 | G16: =(E16/F16)+1 -> 21 | H16: =(((45*C16)/6)*E16)/1000 -> 0.225 | I16: =(E16+H16)*G16 -> 67.725 | J16: =C16*C16/162 -> 0.61728395 | K16: =J16*I16 -> 41.805556
A18: TERRACE FLOOR
A19: ITEM | B19: DES. | C19: DIA OF BARS | D19: BAR LENGTH | E19: LENGTH OF THE WALL (m) | F19: SPACING (m) | G19: NO.OF BARS | H19: LAP LENGTH (m) | I19: TOTAL LENGTH (m) | J19: UNIT WEIGHT (Kg) | K19: TOTAL WEIGHT (Kg) | L19: TOTAL (Kg)
A20: LIFT | B20: Vertical (Y) | C20: 12 | D20: 4 | E20: =D21 -> 5.173 | F20: 0.1 | G20: =(E20/F20)+1 -> 52.73 | H20: =(((45*C20)/6)*D20)/1000 -> 0.36 | I20: =(D20+H20)*G20 -> 229.9028 | J20: =C20*C20/162 -> 0.88888889 | K20: =J20*I20 -> 204.35804 | L20: =K20+K21 -> 277.79426
B21: Horizontal (X) | C21: 10 | D21: 5.173 | E21: =D20 -> 4 | F21: 0.15 | G21: =(E21/F21)+1 -> 27.666667 | H21: =(((45*C21)/6)*E21)/1000 -> 0.3 | I21: =(E21+H21)*G21 -> 118.96667 | J21: =C21*C21/162 -> 0.61728395 | K21: =J21*I21 -> 73.436214
A24: RC WALL REINFORCEMNT
A26: 1ST - 5TH FLOOR
A27: ITEM | B27: DES. | C27: DIA OF BARS | D27: BAR LENGTH | E27: LENGTH OF THE WALL (m) | F27: SPACING (m) | G27: NO.OF BARS | H27: LAP LENGTH (m) | I27: TOTAL LENGTH (m) | J27: UNIT WEIGHT (Kg) | K27: TOTAL WEIGHT (Kg) | L27: TOTAL (Kg)
A28: RC WALL | B28: Vertical (Y) | C28: 10 | D28: 1.5 | E28: =D29 -> 2.07 | F28: 0.1 | G28: =(E28/F28)+1 -> 21.7 | H28: =(((45*C28)/6)*D28)/1000 -> 0.1125 | I28: =(D28+H28)*G28 -> 34.99125 | J28: =C28*C28/162 -> 0.61728395 | K28: =J28*I28 -> 21.599537 | L28: =K28+K29 -> 32.548611
B29: Horizontal (X) | C29: 10 | D29: 2.07 | E29: =D28 -> 1.5 | F29: 0.15 | G29: =(E29/F29)+1 -> 11 | H29: =(((45*C29)/6)*E29)/1000 -> 0.1125 | I29: =(E29+H29)*G29 -> 17.7375 | J29: =C29*C29/162 -> 0.61728395 | K29: =J29*I29 -> 10.949074
A31: TERRACE FLOOR
A32: ITEM | B32: DES. | C32: DIA OF BARS | D32: BAR LENGTH | E32: LENGTH OF THE WALL (m) | F32: SPACING (m) | G32: NO.OF BARS | H32: LAP LENGTH (m) | I32: TOTAL LENGTH (m) | J32: UNIT WEIGHT (Kg) | K32: TOTAL WEIGHT (Kg) | L32: TOTAL (Kg)
A33: RC WALL-0.60M | B33: Vertical (Y) | C33: 10 | D33: 0.9 | E33: =D34 -> 15.75 | F33: 0.1 | G33: =(E33/F33)+1 -> 158.5 | H33: =(((45*C33)/6)*D33)/1000 -> 0.0675 | I33: =(D33+H33)*G33 -> 153.34875 | J33: =C33*C33/162 -> 0.61728395 | K33: =J33*I33 -> 94.659722 | L33: =K33+K34 -> 98.840278
B34: Horizontal (X) | C34: 10 | D34: =8.49+5.76+1.5 -> 15.75 | E34: =D33 -> 0.9 | F34: 0.15 | G34: =(E34/F34)+1 -> 7 | H34: =(((45*C34)/6)*E34)/1000 -> 0.0675 | I34: =(E34+H34)*G34 -> 6.7725 | J34: =C34*C34/162 -> 0.61728395 | K34: =J34*I34 -> 4.1805556
A35: RC WALL-1.20M | B35: Vertical (Y) | C35: 10 | D35: 1.5 | E35: =D36 -> 9.48 | F35: 0.15 | G35: =(E35/F35)+1 -> 64.2 | H35: =(((45*C35)/6)*D35)/1000 -> 0.1125 | I35: =(D35+H35)*G35 -> 103.5225 | J35: =C35*C35/162 -> 0.61728395 | K35: =J35*I35 -> 63.902778 | L35: =K35+K36 -> 74.851852
B36: Horizontal (X) | C36: 10 | D36: =8.58+0.9 -> 9.48 | E36: =D35 -> 1.5 | F36: 0.15 | G36: =(E36/F36)+1 -> 11 | H36: =(((45*C36)/6)*E36)/1000 -> 0.1125 | I36: =(E36+H36)*G36 -> 17.7375 | J36: =C36*C36/162 -> 0.61728395 | K36: =J36*I36 -> 10.949074
A37: RF LVL-1.20M | B37: Vertical (Y) | C37: 10 | D37: 1.5 | E37: =D38 -> 19.418 | F37: 0.15 | G37: =(E37/F37)+1 -> 130.45333 | H37: =(((45*C37)/6)*D37)/1000 -> 0.1125 | I37: =(D37+H37)*G37 -> 210.356 | J37: =C37*C37/162 -> 0.61728395 | K37: =J37*I37 -> 129.84938 | L37: =K37+K38 -> 140.79846
B38: Horizontal (X) | C38: 10 | D38: =11.964+7.454 -> 19.418 | E38: =D37 -> 1.5 | F38: 0.15 | G38: =(E38/F38)+1 -> 11 | H38: =(((45*C38)/6)*E38)/1000 -> 0.1125 | I38: =(E38+H38)*G38 -> 17.7375 | J38: =C38*C38/162 -> 0.61728395 | K38: =J38*I38 -> 10.949074

Sheet S (SL)
A2: RAFT SLAB
A4: TYPE | B4: AXIS | C4: DIA OF BARS | D4: BAR LENGTH | E4: LENGTH OF SLAB | F4: SPACING | G4: NO OF BARS | H4: ROUNDED NO OF BARS | I4: NO OF REPEAT | J4: BEND LENGTH | K4: LAP LENGTH | L4: TOTAL LENGTH | M4: UNIT WEIGHT | N4: TOTAL WEIGHT
A5: Bottom | B5: B1 | C5: 12 | D5: 19.86 | E5: 7.1 | F5: 0.15 | G5: =(E5/F5)+1 -> 48.333333 | H5: 50 | I5: 2 | J5: =(15*C5*2)/1000 -> 0.36 | K5: =(D5/6)*(0.04*C5) -> 1.5888 | L5: =H5*(D5+J5+K5)*I5 -> 2180.88 | M5: =C5*C5/162 -> 0.88888889 | N5: =L5*M5 -> 1938.56
A6: Bottom | B6: B1 | C6: 12 | D6: 7.1 | E6: 19.86 | F6: 0.15 | G6: =(E6/F6)+1 -> 133.4 | H6: 135 | I6: 2 | J6: =(15*C6*2)/1000 -> 0.36 | K6: =(D6/6)*(0.04*C6) -> 0.568 | L6: =H6*(D6+J6+K6)*I6 -> 2167.56 | M6: =C6*C6/162 -> 0.88888889 | N6: =L6*M6 -> 1926.72
M7: Total = | N7: =SUM(N5:N6) -> 3865.28 | O7: =N7*15% -> 579.792 | P7: =N7+O7 -> 4445.072
A10: GRADE SLAB
A12: TYPE | B12: AXIS | C12: DIA OF BARS | D12: BAR LENGTH | E12: LENGTH OF SLAB | F12: SPACING | G12: NO OF BARS | H12: ROUNDED NO OF BARS | I12: NO OF REPEAT | J12: BEND LENGTH | K12: LAP LENGTH | L12: TOTAL LENGTH | M12: UNIT WEIGHT | N12: TOTAL WEIGHT
A13: Bottom | B13: B1 | C13: 6 | D13: 19.859 | E13: 7.1 | F13: 0.25 | G13: =(E13/F13)+1 -> 29.4 | H13: 31 | I13: 1 | J13: =(15*C13*2)/1000 -> 0.18 | K13: =(D13/6)*(0.04*C13) -> 0.79436 | L13: =H13*(D13+J13+K13)*I13 -> 645.83416 | M13: =C13*C13/162 -> 0.22222222 | N13: =L13*M13 -> 143.5187
A14: Bottom | B14: B1 | C14: 6 | D14: 7.1 | E14: 19.86 | F14: 0.25 | G14: =(E14/F14)+1 -> 80.44 | H14: 82 | I14: 1 | J14: =(15*C14*2)/1000 -> 0.18 | K14: =(D14/6)*(0.04*C14) -> 0.284 | L14: =H14*(D14+J14+K14)*I14 -> 620.248 | M14: =C14*C14/162 -> 0.22222222 | N14: =L14*M14 -> 137.83289
M15: Total = | N15: =SUM(N13:N14) -> 281.35159
A18: 1ST - TERRACE FLOOR SLAB
A20: TYPE | B20: AXIS | C20: DIA OF BARS | D20: BAR LENGTH | E20: WIDTH OF SLAB | F20: SPACING | G20: NO OF BARS | H20: ROUNDED NO OF BARS | I20: NO OF REPEAT | J20: BEND LENGTH | K20: LAP LENGTH | L20: TOTAL LENGTH | M20: UNIT WEIGHT | N20: TOTAL WEIGHT
A21: Bottom | B21: B1 | C21: 10 | D21: 19.856 | E21: 7.1 | F21: 0.15 | G21: =(E21/F21)+1 -> 48.333333 | H21: 50 | I21: 1 | J21: =(15*C21*2)/1000 -> 0.3 | K21: =(D21/6)*(0.04*C21) -> 1.3237333 | L21: =H21*(D21+J21+K21)*I21 -> 1073.9867 | M21: =C21*C21/162 -> 0.61728395 | N21: =L21*M21 -> 662.95473
A22: Bottom | B22: B1 | C22: 10 | D22: 7.1 | E22: 19.86 | F22: 0.15 | G22: =(E22/F22)+1 -> 133.4 | H22: 135 | I22: 1 | J22: =(15*C22*2)/1000 -> 0.3 | K22: =(D22/6)*(0.04*C22) -> 0.47333333 | L22: =H22*(D22+J22+K22)*I22 -> 1062.9 | M22: =C22*C22/162 -> 0.61728395 | N22: =L22*M22 -> 656.11111
M24: Total = | N24: =SUM(N21:N23) -> 1319.0658
A25: Top | B25: T1 | C25: 10 | D25: 2 | E25: 5.445 | F25: 0.15 | G25: =(E25/F25)+1 -> 37.3 | H25: 38 | I25: 1 | J25: =(15*C25*1)/1000 -> 0.15 | K25: 0 | L25: =H25*(D25+J25+K25)*I25 -> 81.7 | M25: =C25*C25/162 -> 0.61728395 | N25: =L25*M25 -> 50.432099
A26: Top | B26: T1 | C26: 10 | D26: 3.5 | E26: 6.4 | F26: 0.15 | G26: =(E26/F26)+1 -> 43.666667 | H26: 45 | I26: 1 | J26: =(15*C26*1)/1000 -> 0.15 | K26: 0 | L26: =H26*(D26+J26+K26)*I26 -> 164.25 | M26: =C26*C26/162 -> 0.61728395 | N26: =L26*M26 -> 101.38889
A27: Top | B27: T1 | C27: 10 | D27: 3.5 | E27: 7.12 | F27: 0.15 | G27: =(E27/F27)+1 -> 48.466667 | H27: 50 | I27: 1 | J27: =(15*C27*1)/1000 -> 0.15 | K27: 0 | L27: =H27*(D27+J27+K27)*I27 -> 182.5 | M27: =C27*C27/162 -> 0.61728395 | N27: =L27*M27 -> 112.65432
A28: Top | B28: T1 | C28: 10 | D28: 2 | E28: 2.55 | F28: 0.15 | G28: =(E28/F28)+1 -> 18 | H28: 19 | I28: 1 | J28: =(15*C28*1)/1000 -> 0.15 | K28: 0 | L28: =H28*(D28+J28+K28)*I28 -> 40.85 | M28: =C28*C28/162 -> 0.61728395 | N28: =L28*M28 -> 25.216049
A29: Top | B29: T1 | C29: 10 | D29: 6 | E29: 5.203 | F29: 0.15 | G29: =(E29/F29)+1 -> 35.686667 | H29: 37 | I29: 1 | J29: =(15*C29*1)/1000 -> 0.15 | K29: 0 | L29: =H29*(D29+J29+K29)*I29 -> 227.55 | M29: =C29*C29/162 -> 0.61728395 | N29: =L29*M29 -> 140.46296
A31: Top | B31: T2 | C31: 10 | D31: 2 | E31: 5.5 | F31: 0.15 | G31: =(E31/F31)+1 -> 37.666667 | H31: 39 | I31: 1 | J31: =(15*C31*1)/1000 -> 0.15 | K31: 0 | L31: =H31*(D31+J31+K31)*I31 -> 83.85 | M31: =C31*C31/162 -> 0.61728395 | N31: =L31*M31 -> 51.759259
A32: Top | B32: T2 | C32: 10 | D32: 2 | E32: 5.675 | F32: 0.15 | G32: =(E32/F32)+1 -> 38.833333 | H32: 40 | I32: 1 | J32: =(15*C32*1)/1000 -> 0.15 | K32: 0 | L32: =H32*(D32+J32+K32)*I32 -> 86 | M32: =C32*C32/162 -> 0.61728395 | N32: =L32*M32 -> 53.08642
A33: Top | B33: T2 | C33: 10 | D33: 1.5 | E33: 4.185 | F33: 0.15 | G33: =(E33/F33)+1 -> 28.9 | H33: 31 | I33: 1 | J33: =(15*C33*1)/1000 -> 0.15 | K33: 0 | L33: =H33*(D33+J33+K33)*I33 -> 51.15 | M33: =C33*C33/162 -> 0.61728395 | N33: =L33*M33 -> 31.574074
A34: Top | B34: T2 | C34: 10 | D34: 3 | E34: 4.185 | F34: 0.15 | G34: =(E34/F34)+1 -> 28.9 | H34: 31 | I34: 1 | J34: =(15*C34*1)/1000 -> 0.15 | K34: 0 | L34: =H34*(D34+J34+K34)*I34 -> 97.65 | M34: =C34*C34/162 -> 0.61728395 | N34: =L34*M34 -> 60.277778
A35: Top | B35: T2 | C35: 10 | D35: 2 | E35: 4.2141 | F35: 0.15 | G35: =(E35/F35)+1 -> 29.094 | H35: 30 | I35: 1 | J35: =(15*C35*1)/1000 -> 0.15 | K35: 0 | L35: =H35*(D35+J35+K35)*I35 -> 64.5 | M35: =C35*C35/162 -> 0.61728395 | N35: =L35*M35 -> 39.814815
A36: Top | B36: T2 | C36: 10 | D36: 2 | E36: 5.638 | F36: 0.15 | G36: =(E36/F36)+1 -> 38.586667 | H36: 40 | I36: 1 | J36: =(15*C36*1)/1000 -> 0.15 | K36: 0 | L36: =H36*(D36+J36+K36)*I36 -> 86 | M36: =C36*C36/162 -> 0.61728395 | N36: =L36*M36 -> 53.08642
A37: Top | B37: T2 | C37: 10 | D37: 2.2 | E37: 5.6 | F37: 0.15 | G37: =(E37/F37)+1 -> 38.333333 | H37: 40 | I37: 1 | J37: =(15*C37*1)/1000 -> 0.15 | K37: 0 | L37: =H37*(D37+J37+K37)*I37 -> 94 | M37: =C37*C37/162 -> 0.61728395 | N37: =L37*M37 -> 58.024691
A38: Top | B38: T2 | C38: 10 | D38: 1 | E38: 5.58 | F38: 0.15 | G38: =(E38/F38)+1 -> 38.2 | H38: 40 | I38: 1 | J38: =(15*C38*1)/1000 -> 0.15 | K38: 0 | L38: =H38*(D38+J38+K38)*I38 -> 46 | M38: =C38*C38/162 -> 0.61728395 | N38: =L38*M38 -> 28.395062
A39: Top | B39: T2 | C39: 10 | D39: 6.5 | E39: 1.6 | F39: 0.15 | G39: =(E39/F39)+1 -> 11.666667 | H39: 40 | I39: 1 | J39: =(15*C39*1)/1000 -> 0.15 | K39: =(D39/6)*(0.04*C39) -> 0.43333333 | L39: =H39*(D39+J39+K39)*I39 -> 283.33333 | M39: =C39*C39/162 -> 0.61728395 | N39: =L39*M39 -> 174.89712
A40: Top | B40: T2 | C40: 10 | D40: 4.2 | E40: 2 | F40: 0.15 | G40: =(E40/F40)+1 -> 14.333333 | H40: 40 | I40: 1 | J40: =(15*C40*1)/1000 -> 0.15 | K40: 0 | L40: =H40*(D40+J40+K40)*I40 -> 174 | M40: =C40*C40/162 -> 0.61728395 | N40: =L40*M40 -> 107.40741
M42: Total = | N42: =SUM(N25:N41) -> 1088.4774
A43: Distribution | B43: T1 | C43: 10 | D43: 5.445 | E43: 2 | F43: 0.3 | G43: =(E43/F43)+1 -> 7.6666667 | H43: 8 | I43: 1 | J43: =(15*C43*1)/1000 -> 0.15 | K43: =(D43/6)*(0.04*C43) -> 0.363 | L43: =H43*(D43+J43+K43)*I43 -> 47.664 | M43: =C43*C43/162 -> 0.61728395 | N43: =L43*M43 -> 29.422222
A44: Distribution | B44: T1 | C44: 10 | D44: 6.4 | E44: 3.5 | F44: 0.3 | G44: =(E44/F44)+1 -> 12.666667 | H44: 14 | I44: 1 | J44: =(15*C44*1)/1000 -> 0.15 | K44: =(D44/6)*(0.04*C44) -> 0.42666667 | L44: =H44*(D44+J44+K44)*I44 -> 97.673333 | M44: =C44*C44/162 -> 0.61728395 | N44: =L44*M44 -> 60.292181
A45: Distribution | B45: T1 | C45: 10 | D45: 7.5 | E45: 3.5 | F45: 0.3 | G45: =(E45/F45)+1 -> 12.666667 | H45: 14 | I45: 1 | J45: =(15*C45*1)/1000 -> 0.15 | K45: =(D45/6)*(0.04*C45) -> 0.5 | L45: =H45*(D45+J45+K45)*I45 -> 114.1 | M45: =C45*C45/162 -> 0.61728395 | N45: =L45*M45 -> 70.432099
A46: Distribution | B46: T1 | C46: 10 | D46: 8 | E46: 2 | F46: 0.3 | G46: =(E46/F46)+1 -> 7.6666667 | H46: 9 | I46: 1 | J46: =(15*C46*1)/1000 -> 0.15 | K46: =(D46/6)*(0.04*C46) -> 0.53333333 | L46: =H46*(D46+J46+K46)*I46 -> 78.15 | M46: =C46*C46/162 -> 0.61728395 | N46: =L46*M46 -> 48.240741
A48: Distribution | B48: T2 | C48: 10 | D48: 15.664 | E48: 2 | F48: 0.3 | G48: =(E48/F48)+1 -> 7.6666667 | H48: 9 | I48: 1 | J48: =(15*C48*1)/1000 -> 0.15 | K48: =(D48/6)*(0.04*C48) -> 1.0442667 | L48: =H48*(D48+J48+K48)*I48 -> 151.7244 | M48: =C48*C48/162 -> 0.61728395 | N48: =L48*M48 -> 93.657037
A49: Distribution | B49: T2 | C49: 10 | D49: 15.961 | E49: 2 | F49: 0.3 | G49: =(E49/F49)+1 -> 7.6666667 | H49: 9 | I49: 1 | J49: =(15*C49*1)/1000 -> 0.15 | K49: =(D49/6)*(0.04*C49) -> 1.0640667 | L49: =H49*(D49+J49+K49)*I49 -> 154.5756 | M49: =C49*C49/162 -> 0.61728395 | N49: =L49*M49 -> 95.417037
A50: Distribution | B50: T2 | C50: 10 | D50: 4.184 | E50: 3 | F50: 0.3 | G50: =(E50/F50)+1 -> 11 | H50: 12 | I50: 1 | J50: =(15*C50*1)/1000 -> 0.15 | K50: =(D50/6)*(0.04*C50) -> 0.27893333 | L50: =H50*(D50+J50+K50)*I50 -> 55.3552 | M50: =C50*C50/162 -> 0.61728395 | N50: =L50*M50 -> 34.169877
A51: Distribution | B51: T2 | C51: 10 | D51: 5.579 | E51: 2.2 | F51: 0.3 | G51: =(E51/F51)+1 -> 8.3333333 | H51: 10 | I51: 1 | J51: =(15*C51*1)/1000 -> 0.15 | K51: =(D51/6)*(0.04*C51) -> 0.37193333 | L51: =H51*(D51+J51+K51)*I51 -> 61.009333 | M51: =C51*C51/162 -> 0.61728395 | N51: =L51*M51 -> 37.660082
M53: Total = | N53: =SUM(N43:N52) -> 469.29128
A54: Deduction:
A55: Lift Void | B55: B2 | C55: 10 | D55: 1.6 | E55: 1.5 | F55: 0.15 | G55: =(E55/F55)+1 -> 11 | H55: 12 | I55: 1 | J55: =(15*C55*2)/1000 -> 0.3 | K55: 0 | L55: =H55*(D55+J55+K55)*I55 -> 22.8 | M55: =C55*C55/162 -> 0.61728395 | N55: =L55*M55 -> 14.074074
B56: B2 | C56: 10 | D56: 1.5 | E56: 1.6 | F56: 0.15 | G56: =(E56/F56)+1 -> 11.666667 | H56: 13 | I56: 1 | J56: =(15*C56*2)/1000 -> 0.3 | K56: 0 | L56: =H56*(D56+J56+K56)*I56 -> 23.4 | M56: =C56*C56/162 -> 0.61728395 | N56: =L56*M56 -> 14.444444
A57: Stair well (Big) | B57: B2 | C57: 10 | D57: 2.75 | E57: 1.95 | F57: 0.15 | G57: =(E57/F57)+1 -> 14 | H57: 15 | I57: 1 | J57: =(15*C57*2)/1000 -> 0.3 | K57: 0 | L57: =H57*(D57+J57+K57)*I57 -> 45.75 | M57: =C57*C57/162 -> 0.61728395 | N57: =L57*M57 -> 28.240741
B58: B2 | C58: 10 | D58: 1.95 | E58: 2.75 | F58: 0.15 | G58: =(E58/F58)+1 -> 19.333333 | H58: 20 | I58: 1 | J58: =(15*C58*2)/1000 -> 0.3 | K58: 0 | L58: =H58*(D58+J58+K58)*I58 -> 45 | M58: =C58*C58/162 -> 0.61728395 | N58: =L58*M58 -> 27.777778
M59: Total = | N59: =SUM(N55:N58) -> 84.537037
K61: Total Weight of Bars (Kg) = | N61: =N53+N42+N24 -> 2876.8345
J62: Voids deduction (Kg) = | N62: =N59 -> 84.537037
M63: Total = | N63: =N61-N62 -> 2792.2974
A66: ROOF SLAB
A68: TYPE | B68: AXIS | C68: DIA OF BARS | D68: BAR LENGTH | E68: WIDTH OF SLAB | F68: SPACING | G68: NO OF BARS | H68: ROUNDED NO OF BARS | I68: NO OF REPEAT | J68: BEND LENGTH | K68: LAP LENGTH | L68: TOTAL LENGTH | M68: UNIT WEIGHT | N68: TOTAL WEIGHT
A69: Bottom | B69: B1 | C69: 10 | D69: 6.793 | E69: 11.801 | F69: 0.15 | G69: =(E69/F69)+1 -> 79.673333 | H69: 81 | I69: 1 | J69: =(15*C69*2)/1000 -> 0.3 | K69: =(D69/6)*(0.04*C69) -> 0.45286667 | L69: =H69*(D69+J69+K69)*I69 -> 611.2152 | M69: =C69*C69/162 -> 0.61728395 | N69: =L69*M69 -> 377.29333
A70: Bottom | B70: B1 | C70: 10 | D70: 11.801 | E70: 6.793 | F70: 0.15 | G70: =(E70/F70)+1 -> 46.286667 | H70: 47 | I70: 1 | J70: =(15*C70*2)/1000 -> 0.3 | K70: =(D70/6)*(0.04*C70) -> 0.78673333 | L70: =H70*(D70+J70+K70)*I70 -> 605.72347 | M70: =C70*C70/162 -> 0.61728395 | N70: =L70*M70 -> 373.90337
A71: Bottom | B71: B1 | C71: 10 | D71: 4.41 | E71: 3.953 | F71: 0.15 | G71: =(E71/F71)+1 -> 27.353333 | H71: 29 | I71: 1 | J71: =(15*C71*2)/1000 -> 0.3 | K71: =(D71/6)*(0.04*C71) -> 0.294 | L71: =H71*(D71+J71+K71)*I71 -> 145.116 | M71: =C71*C71/162 -> 0.61728395 | N71: =L71*M71 -> 89.577778
A72: Bottom | B72: B1 | C72: 10 | D72: 3.953 | E72: 4.41 | F72: 0.15 | G72: =(E72/F72)+1 -> 30.4 | H72: 32 | I72: 1 | J72: =(15*C72*2)/1000 -> 0.3 | K72: =(D72/6)*(0.04*C72) -> 0.26353333 | L72: =H72*(D72+J72+K72)*I72 -> 144.52907 | M72: =C72*C72/162 -> 0.61728395 | N72: =L72*M72 -> 89.215473
M74: Total = | N74: =SUM(N69:N73) -> 929.98996
A75: Top | B75: T1 | C75: 10 | D75: 1.8 | E75: 5.445 | F75: 0.15 | G75: =(E75/F75)+1 -> 37.3 | H75: 39 | I75: 2 | J75: =(15*C75*1)/1000 -> 0.15 | K75: 0 | L75: =H75*(D75+J75+K75)*I75 -> 152.1 | M75: =C75*C75/162 -> 0.61728395 | N75: =L75*M75 -> 93.888889
A76: Top | B76: T1 | C76: 10 | D76: 4 | E76: 6.4 | F76: 0.15 | G76: =(E76/F76)+1 -> 43.666667 | H76: 45 | I76: 2 | J76: =(15*C76*1)/1000 -> 0.15 | K76: 0 | L76: =H76*(D76+J76+K76)*I76 -> 373.5 | M76: =C76*C76/162 -> 0.61728395 | N76: =L76*M76 -> 230.55556
A77: Top | B77: T1 | C77: 10 | D77: 2 | E77: 7.33 | F77: 0.15 | G77: =(E77/F77)+1 -> 49.866667 | H77: 51 | I77: 1 | J77: =(15*C77*1)/1000 -> 0.15 | K77: 0 | L77: =H77*(D77+J77+K77)*I77 -> 109.65 | M77: =C77*C77/162 -> 0.61728395 | N77: =L77*M77 -> 67.685185
A79: Top | B79: T1 | C79: 10 | D79: 1 | E79: 3.55 | F79: 0.15 | G79: =(E79/F79)+1 -> 24.666667 | H79: 26 | I79: 1 | J79: =(15*C79*1)/1000 -> 0.15 | K79: 0 | L79: =H79*(D79+J79+K79)*I79 -> 29.9 | M79: =C79*C79/162 -> 0.61728395 | N79: =L79*M79 -> 18.45679
A80: Top | B80: T1 | C80: 10 | D80: 2.5 | E80: 3.55 | F80: 0.15 | G80: =(E80/F80)+1 -> 24.666667 | H80: 26 | I80: 1 | J80: =(15*C80*1)/1000 -> 0.15 | K80: 0 | L80: =H80*(D80+J80+K80)*I80 -> 68.9 | M80: =C80*C80/162 -> 0.61728395 | N80: =L80*M80 -> 42.530864
A81: Top | B81: T2 | C81: 10 | D81: 2 | E81: 5.5 | F81: 0.15 | G81: =(E81/F81)+1 -> 37.666667 | H81: 39 | I81: 1 | J81: =(15*C81*1)/1000 -> 0.15 | K81: 0 | L81: =H81*(D81+J81+K81)*I81 -> 83.85 | M81: =C81*C81/162 -> 0.61728395 | N81: =L81*M81 -> 51.759259
A82: Top | B82: T2 | C82: 10 | D82: 1.2 | E82: 5.65 | F82: 0.15 | G82: =(E82/F82)+1 -> 38.666667 | H82: 39 | I82: 1 | J82: =(15*C82*1)/1000 -> 0.15 | K82: 0 | L82: =H82*(D82+J82+K82)*I82 -> 52.65 | M82: =C82*C82/162 -> 0.61728395 | N82: =L82*M82 -> 32.5
A83: Top | B83: T2 | C83: 10 | D83: 2 | E83: 5.675 | F83: 0.15 | G83: =(E83/F83)+1 -> 38.833333 | H83: 40 | I83: 1 | J83: =(15*C83*1)/1000 -> 0.15 | K83: 0 | L83: =H83*(D83+J83+K83)*I83 -> 86 | M83: =C83*C83/162 -> 0.61728395 | N83: =L83*M83 -> 53.08642
A84: Top | B84: T2 | C84: 10 | D84: 1.2 | E84: 5.725 | F84: 0.15 | G84: =(E84/F84)+1 -> 39.166667 | H84: 40 | I84: 1 | J84: =(15*C84*1)/1000 -> 0.15 | K84: 0 | L84: =H84*(D84+J84+K84)*I84 -> 54 | M84: =C84*C84/162 -> 0.61728395 | N84: =L84*M84 -> 33.333333
A85: Top | B85: T2 | C85: 10 | D85: 2.4 | E85: 5.65 | F85: 0.15 | G85: =(E85/F85)+1 -> 38.666667 | H85: 40 | I85: 1 | J85: =(15*C85*1)/1000 -> 0.15 | K85: 0 | L85: =H85*(D85+J85+K85)*I85 -> 102 | M85: =C85*C85/162 -> 0.61728395 | N85: =L85*M85 -> 62.962963
A86: Top | B86: T2 | C86: 10 | D86: 1.5 | E86: 2.75 | F86: 0.15 | G86: =(E86/F86)+1 -> 19.333333 | H86: 21 | I86: 2 | J86: =(15*C86*1)/1000 -> 0.15 | K86: 0 | L86: =H86*(D86+J86+K86)*I86 -> 69.3 | M86: =C86*C86/162 -> 0.61728395 | N86: =L86*M86 -> 42.777778
M88: Total = | N88: =SUM(N75:N87) -> 729.53704
A89: Distribution | B89: T1 | C89: 10 | D89: 5.445 | E89: 1.8 | F89: 0.3 | G89: =(E89/F89)+1 -> 7 | H89: 8 | I89: 1 | J89: =(15*C89*1)/1000 -> 0.15 | K89: =(D89/6)*(0.04*C89) -> 0.363 | L89: =H89*(D89+J89+K89)*I89 -> 47.664 | M89: =C89*C89/162 -> 0.61728395 | N89: =L89*M89 -> 29.422222
A90: Distribution | B90: T1 | C90: 10 | D90: 6.407 | E90: 4 | F90: 0.3 | G90: =(E90/F90)+1 -> 14.333333 | H90: 16 | I90: 1 | J90: =(15*C90*1)/1000 -> 0.15 | K90: =(D90/6)*(0.04*C90) -> 0.42713333 | L90: =H90*(D90+J90+K90)*I90 -> 111.74613 | M90: =C90*C90/162 -> 0.61728395 | N90: =L90*M90 -> 68.979095
A91: Distribution | B91: T1 | C91: 10 | D91: 7.53 | E91: 2 | F91: 0.3 | G91: =(E91/F91)+1 -> 7.6666667 | H91: 9 | I91: 1 | J91: =(15*C91*1)/1000 -> 0.15 | K91: =(D91/6)*(0.04*C91) -> 0.502 | L91: =H91*(D91+J91+K91)*I91 -> 73.638 | M91: =C91*C91/162 -> 0.61728395 | N91: =L91*M91 -> 45.455556
A92: Distribution | B92: T1 | C92: 10 | D92: 3.55 | E92: 1 | F92: 0.3 | G92: =(E92/F92)+1 -> 4.3333333 | H92: 5 | I92: 2 | J92: =(15*C92*1)/1000 -> 0.15 | K92: =(D92/6)*(0.04*C92) -> 0.23666667 | L92: =H92*(D92+J92+K92)*I92 -> 39.366667 | M92: =C92*C92/162 -> 0.61728395 | N92: =L92*M92 -> 24.300412
A94: Distribution | B94: T1 | C94: 10 | D94: 11.4 | E94: 1.5 | F94: 0.3 | G94: =(E94/F94)+1 -> 6 | H94: 7 | I94: 1 | J94: =(15*C94*1)/1000 -> 0.15 | K94: =(D94/6)*(0.04*C94) -> 0.76 | L94: =H94*(D94+J94+K94)*I94 -> 86.17 | M94: =C94*C94/162 -> 0.61728395 | N94: =L94*M94 -> 53.191358
A95: Distribution | B95: T1 | C95: 10 | D95: 11.65 | E95: 1.5 | F95: 0.3 | G95: =(E95/F95)+1 -> 6 | H95: 7 | I95: 1 | J95: =(15*C95*1)/1000 -> 0.15 | K95: =(D95/6)*(0.04*C95) -> 0.77666667 | L95: =H95*(D95+J95+K95)*I95 -> 88.036667 | M95: =C95*C95/162 -> 0.61728395 | N95: =L95*M95 -> 54.343621
A96: Distribution | B96: T1 | C96: 10 | D96: 5.65 | E96: 2.4 | F96: 0.3 | G96: =(E96/F96)+1 -> 9 | H96: 10 | I96: 1 | J96: =(15*C96*1)/1000 -> 0.15 | K96: =(D96/6)*(0.04*C96) -> 0.37666667 | L96: =H96*(D96+J96+K96)*I96 -> 61.766667 | M96: =C96*C96/162 -> 0.61728395 | N96: =L96*M96 -> 38.127572
A97: Distribution | B97: T1 | C97: 10 | D97: 11.65 | E97: 1.5 | F97: 0.3 | G97: =(E97/F97)+1 -> 6 | H97: 7 | I97: 1 | J97: =(15*C97*1)/1000 -> 0.15 | K97: =(D97/6)*(0.04*C97) -> 0.77666667 | L97: =H97*(D97+J97+K97)*I97 -> 88.036667 | M97: =C97*C97/162 -> 0.61728395 | N97: =L97*M97 -> 54.343621
A98: Distribution | B98: T1 | C98: 10 | D98: 5.65 | E98: 2.4 | F98: 0.3 | G98: =(E98/F98)+1 -> 9 | H98: 10 | I98: 1 | J98: =(15*C98*1)/1000 -> 0.15 | K98: =(D98/6)*(0.04*C98) -> 0.37666667 | L98: =H98*(D98+J98+K98)*I98 -> 61.766667 | M98: =C98*C98/162 -> 0.61728395 | N98: =L98*M98 -> 38.127572
M100: Total = | N100: =SUM(N89:N99) -> 406.29103
A101: Deduction:
M106: Total = | N106: =SUM(N102:N105) -> 0
K108: Total Weight of Bars (Kg) = | N108: =N100+N88+N74 -> 2065.818
J109: Voids deduction (Kg) = | N109: =N106 -> 0
M110: Total = | N110: =N108-N109 -> 2065.818
