Workbook

Sheet Cover
A16: BILL OF QUANTITIES
A17: VILIMALE HOSPITAL PARK
A19: CLIENT : MALE' GROUP OF HOSPITALS

Sheet BOQ Summary
A2: SUMMARY OF BILLS OF QUANTITIES
A3: =Cover!A17:I17 -> VILIMALE HOSPITAL PARK
C5: DESCRIPTION | D5: AMOUNT
C8: ='BOQ '!E7 -> Bill №: 01 - PRELIMINARIES | D8: ='BOQ '!J35 -> 0
C9: ='BOQ '!E36 -> Bill №: 02 - SITE PREPARATION, EARTHWORKS AND SUB-BASE WORKS | D9: ='BOQ '!J71 -> 0
C10: ='BOQ '!E72 -> Bill №: 03 - INSITU CONCRETE WORKS | D10: ='BOQ '!J133 -> 0
C11: ='BOQ '!E134 -> Bill №: 04 - MASONRY | D11: ='BOQ '!J146 -> 0
C12: ='BOQ '!E147 -> Bill №: 05 - PLASTERING | D12: ='BOQ '!J157 -> 0
C13: ='BOQ '!E158 -> Bill №: 06 - FLOOR FINISHINGS | D13: ='BOQ '!J185 -> 0
C14: ='BOQ '!E186 -> Bill №: 07 - PAINTING & DECORATIONS | D14: ='BOQ '!J209 -> 0
C15: ='BOQ '!E210 -> Bill №: 08 - HOSPITAL SIGNAGE WALL,SEATING AND FLAG POST WORKS | D15: ='BOQ '!J228 -> 0
C16: ='BOQ '!E229 -> Bill №: 09 - ELECTRICAL / LANDSCAPE LIGHTING WORKS | D16: ='BOQ '!J243 -> 0
C17: =+'BOQ '!E244 -> Bill №: 10 - PLUMBING | D17: ='BOQ '!J250 -> 0
C18: TOTAL AMOUNT | D18: =SUM(D8:D17) -> 0
C19: GST 8% | D19: =D18*8/100 -> 0
C20: TOTAL AMOUNT including GST | D20: =D18+D19 -> 0

Sheet BOQ 
A2: ='BOQ Summary'!A3:D3 -> VILIMALE HOSPITAL PARK
A3: Republic of Maldives
A5: BILL OF QUANTITIES
A6: ITEM | E6: DESCRIPTION | G6: UNIT | H6: QTY | I6: Rate | J6: Amount
A7: 1.0.00 | E7: Bill №: 01 - PRELIMINARIES
A10: 1.1.00 | B10: GENERAL NOTES
E11: Abbreviations
D12: m | E12: - metre
D13: nr | E13: - numbers
D14: m3 | E14: - cubic metres
D15: m2 | E15: - square metres
D16: m | E16: - linear metre
D17: t | E17: - tons
D18: inc. | E18: - including
D19: mm | E19: - millimetre
D20: SS | E20: - stainless steel
D21: GI | E21: - galvanized iron
A24: 1.2.00 | B24: SITE MANAGEMENT COSTS
E25: Allow for all on and off site management cost including costs of foreman and assistants, temporary services, telephone, fax, hoardings & similar. | H25: 0
A28: 1.3.00 | B28: SIGN BOARD
E29: Allow for sign board. | G29: nr | H29: 0
A32: 1.4.00 | B32: CLEAN-UP
E33: Allow for clean-up upon completion of works. | G33: item | H33: 0
A35: 1.5.00 | B35: TOTAL OF BILL №: 01 - Carried Over To Summary
A36: 2.0.00 | E36: Bill №: 02 - SITE PREPARATION, EARTHWORKS AND SUB-BASE WORKS
A38: 2.1.00 | B38: GENERAL
D39: (a) | E39: Rates shall include for: leveling, grading, trimming, compacting to faces of excavation, keep sides plumb, backfilling, consolidating, and disposing surplus soil.
D40: (b) | E40: Rate shall include for taking all Authority approvals and neccesary mitigtion measures
A42: 2.2.00 | B42: SITE CLEARING
A43: 2.2.01 | E43: Clear the area of site from rubbish and vegetable matters, stumps, roots. Rates shall include for removal of trees and tree stumps and disposal of such materials to a site approved by local authorities. | G43: m2 | H43: 836.88 | J43: =H43*I43 -> 0
A46: 2.3.00 | B46: EXCAVATION
E47: Excavation quantities are measured to the faces of concrete members. Rates shall include for all the additional excavation required to place the formwork.
A48: 2.3.01 | E48: Excavation | G48: m3 | H48: 25 | J48: =H48*I48 -> 0
A50: 2.4.00 | B50: FILLING
E51: Rate shall include for: Back filling
A52: 2.4.01 | E52: Earth filling under ground slab | G52: m2 | H52: 15
J53: =H52*I53 -> 0
A54: 2.4.00 | B54: PREPARATION, GRADING AND COMPACTION OF APPROVED SUBGRADE
E55: Preparation of the existing subgrade, including removal of loose and unsuitable materials, trimming, grading to the required levels and falls, watering where required, and mechanical compaction to achieve a firm, level and stable formation ready to receive the aggregate sub-base, complete with all labour, equipment and necessary works.
A56: 2.4.01 | E56: Compacted earth | G56: m2 | H56: 707.555 | J56: =H56*I56 -> 0
A58: 2.4.00 | B58: SUPPLY, PLACE AND COMPACT 150 MM THICK APPROVED AGGREGATE SUB-BASE
E59: Supply, spread, level and compact 150 mm thick approved aggregate sub-base material over the prepared subgrade, including watering, grading, rolling and mechanical compaction to achieve a minimum 98% MDD, complete with all labour, materials, plant and equipment.
A60: 2.4.01 | E60: 150 mm thk Aggregate | G60: m3 | H60: 34.5357 | J60: =H60*I60 -> 0
A62: 2.4.00 | B62: SAW-CUT CONTRACTION JOINTS
E63: Saw-cut contraction joints in concrete pavement, 5 mm wide and to a depth of 1/3 of slab thickness, at maximum 4.0 m centres, including cutting, cleaning and all necessary joint preparation, complete.
A64: 2.4.01 | E64: Saw cut | G64: m | H64: 64.8 | J64: =H64*I64 -> 0
A66: 2.5.00 | B66: DAMP-PROOF MEMBRANE
E67: Rate shall include for: dressing around and sealing to all penetrations,laps and turnups.
A68: 2.5.01 | E68: Polythene damp proof membrane (500 gauge) | G68: m2 | H68: 30 | J68: =H68*I68 -> 0
A71: 2.8.00 | B71: TOTAL OF BILL №: 02 - Carried Over To Summary | J71: =SUM(J26:J70) -> 0
A72: 3.0.00 | E72: Bill №: 03 - INSITU CONCRETE WORKS
A73: 3.1.00 | B73: GENERAL
D74: (a) | E74: Rates shall include for: placing in position, making good after removal of formwork, mortar touch up to all concrete and casting in all required items; additional concrete required to conform to structural and excavated tolerances
D75: (b) | E75: Mix ratio for reinforced concrete shall be 1:2:3 and lean concrete shall be 1:2:6.
D76: (c) | E76: All structural concrete shall be GRADE M25 and lean concrete shall be GRADE M15
D77: (d) | E77: Rates shall include for: concrete, formwork, reinforcement, cleaning, fabrication, placing, the provision for all necessary temporary fixings and supports including tie wires and chair supports, laps, distribution bars and wastage.
D78: (e) | E78: Rates shall include for: all necessary boarding, supports, erecting, framing, temporary cambering, cutting, perforations for reinforcing bars, bolts, straps, ties, hangers, pipes and removal of formwork.
D79: (f) | E79: Rates shall include for: cleaning, fabrication, placing the provision for all necessary temporary fixings and supports including tie wires and chair supports, laps, distribution bars and wastage.
D80: (g) | E80: All reinforcing bars shall be high strength bars.
D81: (h) | E81: Slab soffits to be finished fairfaced, use plasteciser and formwork with reducing agent.
D82: (i) | E82: All exposed & external concrete members shall be casted with Masterpel 777 or equivalent water proofing chemical.
D83: (j) | E83: Rate shall include for applying 2 coats of waterproofing chemical to substructure.(Below ground level)
A86: 3.2.00 | B86: MASS CONCRETE
E87: Quantity is measured to the edges of concrete foundation members. Rates shall be inclusive for any additional concrete required to place the formwork.
A89: 3.2.01 | D89: 50 | E89: mm Lean Concrete | G89: m3 | H89: 0.75 | J89: =H89*I89 -> 0
A91: 3.3.00 | B91: REINFORCED INSITU CONCRETE
C93: FOUNDATION & FOUNDATION BEAM
A94: 3.3.08 | B94: 750 | C94: x | D94: 250 | E94: mm Flag post footing | G94: m3 | H94: 0.28125 | J94: =H94*I94 -> 0
A95: 3.3.08 | B95: 200 | C95: x | D95: 250 | E95: mm Foundation Beam FB | G95: m3 | H95: 2.5 | J95: =H95*I95 -> 0
A96: 3.3.08 | B96: 200 | C96: x | D96: 100 | E96: mm Capping Beam CB | G96: m3 | H96: 0.96 | J96: =H96*I96 -> 0
C98: BOUNDARY WALL COLUMN
A99: 3.3.10 | B99: 200 | C99: x | D99: 100 | E99: mm Concrete columns BC | G99: m3 | H99: 0.9 | J99: =H99*I99 -> 0
C101: FLOOR SLAB
A102: 3.4.04 | D102: 200 | E102: mm floor slab | G102: m3 | H102: 46.048 | J102: =H102*I102 -> 0
A103: 3.4.04 | D103: 100 | E103: mm floor slab | G103: m3 | H103: 24.027 | J103: =H103*I103 -> 0
A105: 3.8.00 | C105: FORM WORK
C106: FOUNDATION & FOUNDATION BEAM
A107: 3.8.07 | B107: 750 | C107: x | D107: 250 | E107: =E94 -> mm Flag post footing | G107: m² | H107: 1.125 | J107: =H107*I107 -> 0
A108: 3.8.07 | B108: 200 | C108: x | D108: 250 | E108: =E95 -> mm Foundation Beam FB | G108: m² | H108: 20 | J108: =H108*I108 -> 0
A109: 3.8.07 | B109: 200 | C109: x | D109: 100 | E109: =E96 -> mm Capping Beam CB | G109: m² | H109: 19.2 | J109: =H109*I109 -> 0
C111: BOUNDARY WALL COLUMN
A112: 3.8.09 | B112: 200 | C112: x | D112: 100 | E112: mm Concrete columns BC | G112: m² | H112: 27 | J112: =H112*I112 -> 0
C114: FLOOR SLAB
A115: 3.9.04 | D115: 200 | E115: mm floor slab | G115: m² | H115: 40 | J115: =H115*I115 -> 0
A116: 3.9.04 | D116: 100 | E116: mm floor slab | G116: m² | H116: 25 | J116: =H116*I116 -> 0
A118: 3.13.00 | C118: STEEL WORK
C119: FOUNDATION & FOUNDATION BEAM
A120: 3.13.01 | C120: 6 | D120: mm | E120: Steel bar in foundation | G120: nr | H120: 64 | J120: =H120*I120 -> 0
A121: 3.13.01 | C121: 10 | D121: mm | E121: Steel bar in foundation | G121: nr | H121: 23 | J121: =H121*I121 -> 0
A122: 3.13.01 | C122: 12 | D122: mm | E122: Steel bar in foundation | G122: nr | H122: 40 | J122: =H122*I122 -> 0
C124: BOUNDARY WALL COLUMN
A125: 3.13.06 | C125: 6 | D125: mm | E125: in column | G125: nr | H125: 15 | J125: =H125*I125 -> 0
A126: 3.13.07 | C126: 10 | D126: mm | E126: in column | G126: nr | H126: 37 | J126: =H126*I126 -> 0
C128: FLOOR SLAB
A129: 3.14.03 | C129: 10 | D129: mm | E129: in Floor slab 200mm | G129: nr | H129: 397 | J129: =H129*I129 -> 0
A130: 3.14.03 | C130: 10 | D130: mm | E130: in Floor slab 100mm | G130: nr | H130: 414 | J130: =H130*I130 -> 0
E131: Binding Wire | G131: Kg | H131: 57.42 | J131: =H131*I131 -> 0
A133: 3.9.00 | E133: TOTAL OF BILL №: 03 - Carried Over To Summary | J133: =SUM(J74:J132) -> 0
A134: 4.0.00 | E134: Bill №: 04 - MASONRY
B136: GENERAL
...
