Workbook

Sheet Cover
A16: BILL OF QUANTITIES
A17: VILIMALE HOSPITAL PARK
A19: CLIENT : MALE' GROUP OF HOSPITALS

Sheet BOQ Summary
A2: SUMMARY OF BILLS OF QUANTITIES
A3: =Cover!A17:I17 -> VILIMALE HOSPITAL PARK
C5: DESCRIPTION | D5: AMOUNT
C8: ='BOQ '!E7 -> Bill №: 01 - PRELIMINARIES | D8: ='BOQ '!J35 -> 0
C9: ='BOQ '!E36 -> Bill №: 02 - SITE PREPARATION, EARTHWORKS AND SUB-BASE WORKS | D9: ='BOQ '!J71 -> 0
C10: ='BOQ '!E72 -> Bill №: 03 - INSITU CONCRETE WORKS | D10: ='BOQ '!J133 -> 0
C11: ='BOQ '!E134 -> Bill №: 04 - MASONRY | D11: ='BOQ '!J146 -> 0
C12: ='BOQ '!E147 -> Bill №: 05 - PLASTERING | D12: ='BOQ '!J157 -> 0
C13: ='BOQ '!E158 -> Bill №: 06 - FLOOR FINISHINGS | D13: ='BOQ '!J185 -> 0
C14: ='BOQ '!E186 -> Bill №: 07 - PAINTING & DECORATIONS | D14: ='BOQ '!J209 -> 0
C15: ='BOQ '!E210 -> Bill №: 08 - HOSPITAL SIGNAGE WALL,SEATING AND FLAG POST WORKS | D15: ='BOQ '!J228 -> 0
C16: ='BOQ '!E229 -> Bill №: 09 - ELECTRICAL / LANDSCAPE LIGHTING WORKS | D16: ='BOQ '!J243 -> 0
C17: =+'BOQ '!E244 -> Bill №: 10 - PLUMBING | D17: ='BOQ '!J250 -> 0
C18: TOTAL AMOUNT | D18: =SUM(D8:D17) -> 0
C19: GST 8% | D19: =D18*8/100 -> 0
C20: TOTAL AMOUNT including GST | D20: =D18+D19 -> 0

Sheet BOQ 
A2: ='BOQ Summary'!A3:D3 -> VILIMALE HOSPITAL PARK
A3: Republic of Maldives
A5: BILL OF QUANTITIES
A6: ITEM | E6: DESCRIPTION | G6: UNIT | H6: QTY | I6: Rate | J6: Amount
A7: 1.0.00 | E7: Bill №: 01 - PRELIMINARIES
A10: 1.1.00 | B10: GENERAL NOTES
E11: Abbreviations
D12: m | E12: - metre
D13: nr | E13: - numbers
D14: m3 | E14: - cubic metres
D15: m2 | E15: - square metres
D16: m | E16: - linear metre
D17: t | E17: - tons
D18: inc. | E18: - including
D19: mm | E19: - millimetre
D20: SS | E20: - stainless steel
D21: GI | E21: - galvanized iron
A24: 1.2.00 | B24: SITE MANAGEMENT COSTS
E25: Allow for all on and off site management cost including costs of foreman and assistants, temporary services, telephone, fax, hoardings & similar. | H25: 0
A28: 1.3.00 | B28: SIGN BOARD
E29: Allow for sign board. | G29: nr | H29: 0
A32: 1.4.00 | B32: CLEAN-UP
E33: Allow for clean-up upon completion of works. | G33: item | H33: 0
A35: 1.5.00 | B35: TOTAL OF BILL №: 01 - Carried Over To Summary
A36: 2.0.00 | E36: Bill №: 02 - SITE PREPARATION, EARTHWORKS AND SUB-BASE WORKS
A38: 2.1.00 | B38: GENERAL
D39: (a) | E39: Rates shall include for: leveling, grading, trimming, compacting to faces of excavation, keep sides plumb, backfilling, consolidating, and disposing surplus soil.
D40: (b) | E40: Rate shall include for taking all Authority approvals and neccesary mitigtion measures
A42: 2.2.00 | B42: SITE CLEARING
A43: 2.2.01 | E43: Clear the area of site from rubbish and vegetable matters, stumps, roots. Rates shall include for removal of trees and tree stumps and disposal of such materials to a site approved by local authorities. | G43: m2 | H43: 836.88 | J43: =H43*I43 -> 0
A46: 2.3.00 | B46: EXCAVATION
E47: Excavation quantities are measured to the faces of concrete members. Rates shall include for all the additional excavation required to place the formwork.
A48: 2.3.01 | E48: Excavation | G48: m3 | H48: 25 | J48: =H48*I48 -> 0
A50: 2.4.00 | B50: FILLING
E51: Rate shall include for: Back filling
A52: 2.4.01 | E52: Earth filling under ground slab | G52: m2 | H52: 15
J53: =H52*I53 -> 0
A54: 2.4.00 | B54: PREPARATION, GRADING AND COMPACTION OF APPROVED SUBGRADE
E55: Preparation of the existing subgrade, including removal of loose and unsuitable materials, trimming, grading to the required levels and falls, watering where required, and mechanical compaction to achieve a firm, level and stable formation ready to receive the aggregate sub-base, complete with all labour, equipment and necessary works.
A56: 2.4.01 | E56: Compacted earth | G56: m2 | H56: 707.555 | J56: =H56*I56 -> 0
...
