Workbook

Sheet Cover
A13: BILL OF QUANTITIES
A15: PROPOSED OPD TOILET RENOVATION
A16: Out-Patient Department Toilet Block
A17: IGMH – Indira Gandhi Memorial Hospital, Malé, Maldives
A18: 46261

Sheet Summary
A1: SUMMARY OF BILLS OF QUANTITIES
A2: PROPOSED OPD TOILET RENOVATION | IGMH – Indira Gandhi Memorial Hospital, Malé |
A3: BILL No. | B3: DESCRIPTION | D3: AMOUNT (MVR)
A4: 1 | B4: TOTAL OF BILL NO. 01 (PRELIMINARIES) | D4: =BOQ!G15 -> 0
A5: 2 | B5: TOTAL OF BILL NO. 02 (Demolition Work) | D5: =BOQ!G22 -> 0
A6: 3 | B6: TOTAL OF BILL NO. 03 (Floor & Wall Finishing) | D6: =BOQ!G39 -> 0
A7: 4 | B7: TOTAL OF BILL NO. 04 (Ceiling) | D7: =BOQ!G48 -> 0
A8: 5 | B8: TOTAL OF BILL NO. 05 (Doors & Aluminium Partitions) | D8: =BOQ!G58 -> 0
A9: 6 | B9: TOTAL OF BILL NO. 06 (Sanitary Fixtures & Plumbing) | D9: =BOQ!G74 -> 0
A10: 7 | B10: TOTAL OF BILL NO. 07 (Electrical & Mechanical Works) | D10: =BOQ!G94 -> 0
A11: 8 | B11: TOTAL OF BILL NO. 08 (Furniture & Joinery) | D11: =BOQ!G101 -> 0
A12: 9 | B12: TOTAL OF BILL NO. 09 (ADDITIONS) | D12: =BOQ!G113 -> 0
A13: 10 | B13: TOTAL OF BILL NO. 10 (OMISSIONS) | D13: =BOQ!G124 -> 0
B14: TOTAL | D14: =SUM(D4:D13) -> 0
B15: GST 8% | D15: =D14*0.08 -> 0
B16: GRAND TOTAL | D16: =D14+D15 -> 0

Sheet BOQ
A2: BILL OF QUANTITIES — PROPOSED OPD TOILET RENOVATION
A3: IGMH – Indira Gandhi Memorial Hospital, Malé | Aug 2026 | All amounts in MVR
A5: Item | B5: Description | C5: Unit | D5: QTY | E5: LABOUR RATE | F5: MATERIAL RATE | G5: TOTAL AMOUNT
A6: 1 | B6: BILL NO: 01 — PRELIMINARIES
A7: 1.1 | B7: General
A8: a | B8: Abbreviations: m = metre, m² = square metre, Lm = linear metre, nr = number, mm = millimetre, SS = stainless steel, PVC = poly-vinyl chloride, WPC = wood-plastic composite, PU = polyurethane.
A9: b | B9: Rates shall include for cleaning out cavities, cutting and forming chases, cutting or leaving holes and openings for pipes, conduits and sleeves for all trades, temporary supports and all necessary making good.
A10: c | B10: All quantities are PROVISIONAL, taken off the issued renovation drawings. The Contractor shall verify all dimensions of existing works on site before commencing any work or preparing shop drawings.
A11: 1.2 | B11: Site Management Costs
A12: 1.2.1 | B12: Allow for all on- and off-site management cost including foreman and assistants, temporary services, telephone, hoardings and similar. | C12: item | D12: 1 | G12: =D12*(E12+F12) -> 0
A13: 1.3 | B13: Clean-up
A14: 1.3.1 | B14: Allow for clean-up of completed works and site upon completion, and removal of all tools, plant and surplus materials from site. | C14: item | D14: 1 | G14: =D14*(E14+F14) -> 0
B15: TOTAL OF BILL NO. 01 (CARRIED OVER TO THE GENERAL SUMMARY) | G15: =SUM(G12:G14) -> 0
A16: 2 | B16: BILL NO: 02 — DEMOLITION WORK
A17: 2.1 | B17: General
A18: a | B18: Demolition at the locations shown; dispatch all debris, clear and dispose of all unwanted materials away from site, and prepare the area ready for the proposed renovation.
A19: b | B19: Rate shall include demolishing, dismantling and removing with minimum damage to the retained structure, temporary supporting and protecting existing works against damage, dust and weather.
A20: 2.2 | B20: Demolition Work
A21: 2.2.1 | B21: Remove existing toilet doors, existing floor and wall tiles, toilet partitions, sanitary fixtures, ceiling and wall cladding complete; cart away all debris (as per demolition note on the renovation layout). | C21: item | D21: 1 | G21: =D21*(E21+F21) -> 0
B22: TOTAL OF BILL NO. 02 (CARRIED OVER TO THE GENERAL SUMMARY) | G22: =SUM(G21:G21) -> 0
A23: 3 | B23: BILL NO: 03 — FLOOR & WALL FINISHING
A24: 3.1 | B24: General
A25: a | B25: Rates shall include for mortar, fixing, bedding, grouting and pointing materials; making good around pipes, sanitary fixtures and similar; cleaning down and polishing on completion.
A26: b | B26: Tiles to be fixed with tile adhesive cement. Rates shall include for mitre joints to projecting edges.
A27: c | B27: All tile selections are 'or similar' equivalents to be approved by the Consultant/Client prior to ordering.
A28: 3.2 | B28: Floor Tiling
A29: 3.2.1 | B29: FF-01 – Somany floor tiles 'Fab Neo Ethos Grey' 600×600mm, non-skid finish (or similar), laid to falls where required. | C29: m² | D29: 28 | G29: =D29*(E29+F29) -> 0
A30: 3.2.2 | B30: FF-02 – Somany 'Strio Valor Cleat Wood' 200×1200mm wood-effect tile (or similar). | C30: m² | D30: 32.6 | G30: =D30*(E30+F30) -> 0
A31: 3.2.3 | B31: FF-03 – Swimming-pool mosaic tile (Caihua BHP08282MH glossy or similar) to fish-pond lining. | C31: m² | D31: =15+12 -> 27 | G31: =D31*(E31+F31) -> 0
A32: 3.3 | B32: Wall Tiling
A33: 3.3.1 | B33: WF-01 – Somany 'Grande Imp Rebel Grey' 600×1200mm wall tile (or similar). | C33: m² | D33: 50 | G33: =D33*(E33+F33) -> 0
A34: 3.3.2 | B34: WF-02 – MML 'Touchstone Ivory' 600×1200mm wall tile (or similar). | C34: m² | D34: 50.25 | G34: =D34*(E34+F34) -> 0
A35: 3.3.3 | B35: WF-04 – Somany 'Storcke Stone Beige' 300×600mm wall tile (or similar) to low wall. | C35: m² | D35: 8 | G35: =D35*(E35+F35) -> 0
A36: 3.4 | B36: Decorative Wall Cladding
A37: 3.4.1 | B37: WF-03 – PU form-board cladding 9.5ft×2ft sheets (F002, Filaa Store or similar), incl. framing & fixing. | C37: m² | D37: 24 | G37: =D37*(E37+F37) -> 0
A38: 3.4.2 | B38: WF-05 – PU form-board cladding 9.5ft×2ft sheets (D002-2, Filaa Store or similar) to feature wall above ceiling line. | C38: m² | D38: 18 | G38: =D38*(E38+F38) -> 0
B39: TOTAL OF BILL NO. 03 (CARRIED OVER TO THE GENERAL SUMMARY) | G39: =SUM(G28:G38) -> 0
A40: 4 | B40: BILL NO: 04 — CEILING
A41: 4.1 | B41: General
A42: a | B42: Rates shall include for framing, fixing, trims, edge profiles, cutting around light fittings, exhausts and all other works to complete.
...
