Workbook

Sheet Sheet1
B4: Project: Proposed Onco Lift Relocation
B5: IGMH HOSPITAL
B7: 46249

Sheet Summary
A2: Project: Proposed Oncology side Lift Relocation
A3: BILL OF QUANTITIES — SUMMARY
A5: No | B5: Bill | C5: Amount (MVR)
A6: 1 | B6: =BOQ!A3 -> BILL No: 01 — Preliminaries | C6: =BOQ!G15 -> 0
A7: 2 | B7: =BOQ!A17 -> BILL No: 02 — Ground Works | C7: =BOQ!G29 -> 0
A8: 3 | B8: =BOQ!A31 -> BILL No: 03 — Concrete Works | C8: =BOQ!G77 -> 0
A9: 4 | B9: =BOQ!A79 -> BILL No: 04 — Masonry and Plastering | C9: =BOQ!G86 -> 0
A10: 5 | B10: =BOQ!A88 -> BILL No: 05 — Cladding | C10: =BOQ!G92 -> 0
A11: 6 | B11: =BOQ!A94 -> BILL No: 06 — Roofing and Steelwork | C11: =BOQ!G116 -> 0
A12: 7 | B12: =BOQ!A118 -> BILL No: 07 — Raised Floor | C12: =BOQ!G122 -> 0
A13: 8 | B13: =BOQ!A124 -> BILL No: 08 — Painting | C13: =BOQ!G130 -> 0
A14: 9 | B14: =BOQ!A132 -> BILL No: 09 — Doors & Windows | C14: =BOQ!G138 -> 0
A15: 10 | B15: =BOQ!A190 -> BILL No: 10 — Additions and Omissions | C15: =BOQ!G209 -> 0
A16: SUB TOTAL | C16: =SUM(C6:C15) -> 0
A17: GST 8% | C17: =C16*0.08 -> 0
A18: GRAND TOTAL | C18: =C16+C17 -> 0

Sheet BOQ
A1: =Summary!A2 -> Project: Proposed Oncology side Lift Relocation
A2: Item | B2: Description | C2: Unit | D2: Qty | E2: Material Rate | F2: Labour Rate | G2: Amount (MVR)
A3: BILL No: 01 — Preliminaries
A4: 1.1 General Notes — Abbreviations: m metre · lm linear metre · nr number · m³ cubic metre · m² square metre · l litre · kg kilogram · mm millimetre · dia diametre · SS Stainless Steel · GI Galvanised Iron.
A5: 1.2 Site Management Costs
A6: 1 | B6: Allow for all on- and off-site management costs incl. foreman and assistants, temporary services, telephone and similar items. | C6: item | D6: 1 | G6: =IF(D6="","",D6*(E6+F6)) -> 0
A7: 1.3 Safety on Site
A8: 1 | B8: Provide and maintain adequate safety measures on site for all workers and authorised visitors, and protect adjoining property and people against falling objects during the works. | C8: item | D8: 1 | G8: =IF(D8="","",D8*(E8+F8)) -> 0
A9: 1.4 Temporary Fencing
A10: 1 | B10: Supply, erect and maintain a fence and hoarding throughout the construction period along the perimeter of the site. | C10: item | D10: 1 | G10: =IF(D10="","",D10*(E10+F10)) -> 0
A11: 1.5 Demolition/ Removal works
A12: 1 | B12: removal of existing canvas roof of stair case to 1F and removal of existing canvas roof of stair case to procument | C12: item | D12: 1 | G12: =IF(D12="","",D12*(E12+F12)) -> 0
A13: 1.6 Sign Board
A14: 1 | B14: Allow for project sign board. | C14: item | D14: 1 | G14: =IF(D14="","",D14*(E14+F14)) -> 0
A15: TOTAL OF BILL No: 01 — Preliminaries — Carried to Summary | G15: =SUM(G4:G14) -> 0
A17: BILL No: 02 — Ground Works
A18: General — Rates shall include for levelling, grading, trimming and compacting faces of excavation, keeping sides plumb, backfilling, consolidating, additional working space and disposing surplus soil. No demolition — lift is located on an empty area.
A19: 2.1 Excavation (rate incl. working space, shoring, foundation protection and disposal)
A20: 1 | B20: Bulk excavation to form lift pit down to lift foundation level (approx. 1.70m below GFL). | C20: m³ | D20: 29.8 | G20: =IF(D20="","",D20*(E20+F20)) -> 0
A21: 2.2 Damp Proof Membrane (500 gauge; rate incl. dressing around and sealing to penetrations)
A22: 1 | B22: DPM laid to bottom of 350mm lift pit slab. | C22: m² | D22: 13.84 | G22: =IF(D22="","",D22*(E22+F22)) -> 0
A23: 2.3 Back Filling
A24: 1 | B24: Backfill to excavated area up to floor finish level, incl. levelling and compaction. | C24: item | D24: 1 | G24: =IF(D24="","",D24*(E24+F24)) -> 0
A25: 2.4 Foot Path Making-good (confirm if required)
A26: 1 | B26: Allow for reinstating / making good any foot path area disturbed by the works. | C26: item | D26: 1 | G26: =IF(D26="","",D26*(E26+F26)) -> 0
A27: 2.5 Clean-up
A28: 1 | B28: Allow for clean-up of completed works and site upon completion. | C28: item | D28: 1 | G28: =IF(D28="","",D28*(E28+F28)) -> 0
A29: TOTAL OF BILL No: 02 — Ground Works — Carried to Summary | G29: =SUM(G18:G28) -> 0
A31: BILL No: 03 — Concrete Works
A32: General — Rate shall include batching, mixing, compacting, levelling, placing, curing and removal of formwork, and additional concrete to structural tolerances. Reinforced concrete mix 1:2:3 (20mm crushed aggregate); lean concrete 1:2:6 by volume.
A33: 3.1 Lean Concrete (50mm thick to bottom of member)
A34: 1 | B34: Lift pit slab. | C34: m³ | D34: 0.69 | G34: =IF(D34="","",D34*(E34+F34)) -> 0
A35: 2 | B35: Footing F1 | C35: m³ | D35: =(0.01125)*3 -> 0.03375 | G35: =IF(D35="","",D35*(E35+F35)) -> 0
A36: 3.2 Reinforced In-situ Concrete
A37: 1 | B37: 350mm thick R.C lift pit slab / foundation (T10 @150 c/c B/W, double layer). | C37: m³ | D37: 4.85 | G37: =IF(D37="","",D37*(E37+F37)) -> 0
A38: 2 | B38: Columns, 250 x 250mm, C1 (4 nr, full height of shaft). | C38: m³ | D38: 3.25 | G38: =IF(D38="","",D38*(E38+F38)) -> 0
A39: 3 | B39: Ring / floor beams, 200 x 400mm, CB1 & B1 (at each floor level). | C39: m³ | D39: 5.2 | G39: =IF(D39="","",D39*(E39+F39)) -> 0
A40: 4 | B40: beams, 200 x 400mm, B2. | C40: m³ | D40: 2.29 | G40: =IF(D40="","",D40*(E40+F40)) -> 0
A41: 5 | B41: 150mm thick R.C machine-room slab. | C41: m³ | D41: 2.11 | G41: =IF(D41="","",D41*(E41+F41)) -> 0
A42: 6 | B42: 150mm thick R.C machine-room roof slab. | C42: m³ | D42: 2.77 | G42: =IF(D42="","",D42*(E42+F42)) -> 0
...
